BEGIN:VCALENDAR
VERSION:2.0
PRODID:-//ArabishWay - ECPv6.15.20//NONSGML v1.0//EN
CALSCALE:GREGORIAN
METHOD:PUBLISH
X-WR-CALNAME:ArabishWay
X-ORIGINAL-URL:https://arabishway.com
X-WR-CALDESC:Events for ArabishWay
REFRESH-INTERVAL;VALUE=DURATION:PT1H
X-Robots-Tag:noindex
X-PUBLISHED-TTL:PT1H
BEGIN:VTIMEZONE
TZID:UTC
BEGIN:STANDARD
TZOFFSETFROM:+0000
TZOFFSETTO:+0000
TZNAME:UTC
DTSTART:20180101T000000
END:STANDARD
END:VTIMEZONE
BEGIN:VEVENT
DTSTART;TZID=UTC:20190503T190000
DTEND;TZID=UTC:20190503T210000
DTSTAMP:20260423T130354
CREATED:20190109T025005Z
LAST-MODIFIED:20190109T032252Z
UID:10000020-1556910000-1556917200@arabishway.com
SUMMARY:Mideast Focus Film Series 2019 - Naila and the Uprising
DESCRIPTION:NAILA and  the UPRISING \nThe remarkable journey of Naila Ayesh is documented here. She must choose between love\, family and freedom – and chooses all three. She leads a clandestine movement of Palestinian women who play a pivotal role in the First Intifada. They forge a vibrant\, non-violent mobilization of Palestinians that continues to this day. \nRamzy Baroud will be our speaker. \nThe Mideast Focus Ministry will offer its sixth series of films to promote understanding of the situation in Palestine. Our theme this year is “Finding Home”. We will consider various aspects of being a refugee\, in Palestine\, as well as many other places in this 21st century world. We hope to understand more about the experiences of refugees who seek to make a safe home for their families. \n 
URL:https://arabishway.com/event/mideast-focus-film-series-2019-naila-uprising/
LOCATION:St Marks Cathedral\, 1245 Tenth Avenue East\, Seattle\, WA\, 98102-4398\, United States
CATEGORIES:Movie
ATTACH;FMTTYPE=image/jpeg:https://arabishway.com/wp-content/uploads/2019/01/naila.jpg
END:VEVENT
END:VCALENDAR