BEGIN:VCALENDAR
VERSION:2.0
PRODID:-//ArabishWay - ECPv6.15.20//NONSGML v1.0//EN
CALSCALE:GREGORIAN
METHOD:PUBLISH
X-ORIGINAL-URL:https://arabishway.com
X-WR-CALDESC:Events for ArabishWay
REFRESH-INTERVAL;VALUE=DURATION:PT1H
X-Robots-Tag:noindex
X-PUBLISHED-TTL:PT1H
BEGIN:VTIMEZONE
TZID:UTC
BEGIN:STANDARD
TZOFFSETFROM:+0000
TZOFFSETTO:+0000
TZNAME:UTC
DTSTART:20180101T000000
END:STANDARD
END:VTIMEZONE
BEGIN:VEVENT
DTSTART;TZID=UTC:20190223T133000
DTEND;TZID=UTC:20190223T153000
DTSTAMP:20260424T133431
CREATED:20190124T043031Z
LAST-MODIFIED:20190208T140818Z
UID:10000005-1550928600-1550935800@arabishway.com
SUMMARY:ArabishWay Movie Event for Kids!
DESCRIPTION:We know how important it is for kids to see other kids speaking and being entertained by the Arabic language so ArabishWay is hosting a movie gathering at a private home in Kirkland\, WA. \nWe have 20 spots for kids to watch an Arabic cartoon together.  It will be a non-political\, non-religious\,  G-rated movie in Egyptian dialect.  The length of the movie is 90 minutes. \nWe will have water and popcorn for the kids to enjoy downstairs during the movie!  Juice and sliced apples upstairs for those wanting something sweet and sticky. \nParents welcome to stay – we’ll have endless coffee and tea available for you to enjoy.  Or\, if you think your kids will be comfortable by themselves\, you are welcome to run out and go for a walk (the home is near the Cross-Kirkland corridor or downtown Kirkland coffee shops). \nPlease RSVP here -choose the number of kids with their names in the comment section and then we will send the address and details and phone number by email to you if you don’t already have it. \nSuper excited for this event!
URL:https://arabishway.com/event/arabic-movie-for-kids/
LOCATION:WA
CATEGORIES:Movie
ATTACH;FMTTYPE=image/png:https://arabishway.com/wp-content/uploads/2019/01/popcorn-898154_1280-e1548276121638.png
ORGANIZER;CN="Laila Taji":MAILTO:arabishway@gmail.com
END:VEVENT
END:VCALENDAR