BEGIN:VCALENDAR
VERSION:2.0
PRODID:-//ArabishWay - ECPv6.15.20//NONSGML v1.0//EN
CALSCALE:GREGORIAN
METHOD:PUBLISH
X-ORIGINAL-URL:https://arabishway.com
X-WR-CALDESC:Events for ArabishWay
REFRESH-INTERVAL;VALUE=DURATION:PT1H
X-Robots-Tag:noindex
X-PUBLISHED-TTL:PT1H
BEGIN:VTIMEZONE
TZID:UTC
BEGIN:STANDARD
TZOFFSETFROM:+0000
TZOFFSETTO:+0000
TZNAME:UTC
DTSTART:20180101T000000
END:STANDARD
END:VTIMEZONE
BEGIN:VEVENT
DTSTART;TZID=UTC:20190201T181500
DTEND;TZID=UTC:20190201T200000
DTSTAMP:20260424T133433
CREATED:20190109T023239Z
LAST-MODIFIED:20190109T035422Z
UID:10000036-1549044900-1549051200@arabishway.com
SUMMARY:Mideast Focus Film Series 2019 - Soufra
DESCRIPTION:SOUFRA   (Arabic for “Dining Table”)  \nThe story of women refugees in a refugee camp outside Beirut\, in the world’s oldest refugee camp. The women deal with myriad obstacles as they grow into a community to heal the wounds of war. \nThere will be a light reception prepared by local Syrian refugees\, beginning at 6:15pm. \nin Bloedel Hall \nThe Mideast Focus Ministry will offer its sixth series of films to promote understanding of the situation in Palestine. Our theme this year is “Finding Home”. We will consider various aspects of being a refugee\, in Palestine\, as well as many other places in this 21st century world. We hope to understand more about the experiences of refugees who seek to make a safe home for their families.
URL:https://arabishway.com/event/mideast-focus-film-series-2019-soufra/
LOCATION:St Marks Cathedral\, 1245 Tenth Avenue East\, Seattle\, WA\, 98102-4398\, United States
CATEGORIES:Movie
ATTACH;FMTTYPE=image/jpeg:https://arabishway.com/wp-content/uploads/2019/01/soufra.jpeg
END:VEVENT
END:VCALENDAR