BEGIN:VCALENDAR
VERSION:2.0
PRODID:-//ArabishWay - ECPv6.15.20//NONSGML v1.0//EN
CALSCALE:GREGORIAN
METHOD:PUBLISH
X-ORIGINAL-URL:https://arabishway.com
X-WR-CALDESC:Events for ArabishWay
REFRESH-INTERVAL;VALUE=DURATION:PT1H
X-Robots-Tag:noindex
X-PUBLISHED-TTL:PT1H
BEGIN:VTIMEZONE
TZID:America/Los_Angeles
BEGIN:DAYLIGHT
TZOFFSETFROM:-0800
TZOFFSETTO:-0700
TZNAME:PDT
DTSTART:20230312T100000
END:DAYLIGHT
BEGIN:STANDARD
TZOFFSETFROM:-0700
TZOFFSETTO:-0800
TZNAME:PST
DTSTART:20231105T090000
END:STANDARD
BEGIN:DAYLIGHT
TZOFFSETFROM:-0800
TZOFFSETTO:-0700
TZNAME:PDT
DTSTART:20240310T100000
END:DAYLIGHT
BEGIN:STANDARD
TZOFFSETFROM:-0700
TZOFFSETTO:-0800
TZNAME:PST
DTSTART:20241103T090000
END:STANDARD
BEGIN:DAYLIGHT
TZOFFSETFROM:-0800
TZOFFSETTO:-0700
TZNAME:PDT
DTSTART:20250309T100000
END:DAYLIGHT
BEGIN:STANDARD
TZOFFSETFROM:-0700
TZOFFSETTO:-0800
TZNAME:PST
DTSTART:20251102T090000
END:STANDARD
END:VTIMEZONE
BEGIN:VEVENT
DTSTART;VALUE=DATE:20241126
DTEND;VALUE=DATE:20241202
DTSTAMP:20260424T003614
CREATED:20241124T180348Z
LAST-MODIFIED:20241124T180714Z
UID:10002731-1732579200-1733097599@arabishway.com
SUMMARY:Watermelon Pictures: Life Is Beautiful (streaming)
DESCRIPTION:New Release from Watermelon Pictures: \nExiled above the arctic circle in Norway and refusing to accept the boundaries imposed by international politics & rigid bureaucracy\, Palestinian filmmaker Mohamed Jabaly insists on telling heartfelt stories from his hometown Gaza. Despite his statelessness and having only limited connection to his family abroad\, he manages to channel support from friends and his own creativity\, adhering to his motto LIFE IS BEAUTIFUL. And throughout it all\, he fights for his rights with integrity\, community\, and a smile for the world. \nCheck out the trailer here: https://youtu.be/nqTlHyjR1xA \nScreening on major digital platforms on 11/26! \nhttps://www.watermelonpictures.com/films/life-is-beautiful-a-letter-to-gaza
URL:https://arabishway.com/event/watermelon-pictures-life-is-beautiful-streaming/
LOCATION:Virtual
CATEGORIES:Movie
ATTACH;FMTTYPE=image/jpeg:https://arabishway.com/wp-content/uploads/2024/11/Life-Is-Beautiful.jpeg
END:VEVENT
BEGIN:VEVENT
DTSTART;TZID=America/Los_Angeles:20241207T090000
DTEND;TZID=America/Los_Angeles:20241207T110000
DTSTAMP:20260424T003614
CREATED:20241122T214720Z
LAST-MODIFIED:20241122T214747Z
UID:10002724-1733562000-1733569200@arabishway.com
SUMMARY:Virtual Movie Screenings: Every Saturday with Palestine Museum US
DESCRIPTION:Check website: https://www.palestinemuseum.us/events for current showings and for registration links! \nOften the screening ends with a Q&A with the director! \n 
URL:https://arabishway.com/event/virtual-movie-screenings-every-saturday-with-palestine-museum-us-december/
LOCATION:Virtual
CATEGORIES:Movie
ATTACH;FMTTYPE=image/jpeg:https://arabishway.com/wp-content/uploads/2020/11/palestine-museum.jpg
END:VEVENT
BEGIN:VEVENT
DTSTART;TZID=America/Los_Angeles:20241208T150000
DTEND;TZID=America/Los_Angeles:20241208T180000
DTSTAMP:20260424T003614
CREATED:20241105T212603Z
LAST-MODIFIED:20241105T212833Z
UID:10002687-1733670000-1733680800@arabishway.com
SUMMARY:Walled Off: Exclusive Screening
DESCRIPTION:Join us for a Special Screening of the film “Walled Off.” Witness this powerful documentary in person with fellow film enthusiasts. Immerse yourself in the thought-provoking storyline and visually stunning cinematography. This event promises to be a memorable experience for all attendees. Don’t miss out on this Exclusive Screening!
URL:https://arabishway.com/event/walled-off-exclusive-screening/
LOCATION:Cherry Street Village\, 720 25th Avenue\, Seattle\, WA\, United States
CATEGORIES:Movie
ATTACH;FMTTYPE=image/jpeg:https://arabishway.com/wp-content/uploads/2024/09/walled-off.jpeg
END:VEVENT
BEGIN:VEVENT
DTSTART;TZID=America/Los_Angeles:20241214T090000
DTEND;TZID=America/Los_Angeles:20241214T110000
DTSTAMP:20260424T003614
CREATED:20241124T182913Z
LAST-MODIFIED:20241124T182942Z
UID:10002739-1734166800-1734174000@arabishway.com
SUMMARY:Virtual Movie Screenings: Every Saturday with Palestine Museum US
DESCRIPTION:Check website: https://www.palestinemuseum.us/events for current showings and for registration links! \nOften the screening ends with a Q&A with the director! \n 
URL:https://arabishway.com/event/virtual-movie-screenings-every-saturday-with-palestine-museum-us-december-2/
LOCATION:Virtual
CATEGORIES:Movie
ATTACH;FMTTYPE=image/jpeg:https://arabishway.com/wp-content/uploads/2020/11/palestine-museum.jpg
END:VEVENT
BEGIN:VEVENT
DTSTART;TZID=America/Los_Angeles:20241221T090000
DTEND;TZID=America/Los_Angeles:20241221T110000
DTSTAMP:20260424T003614
CREATED:20241124T183007Z
LAST-MODIFIED:20241124T183031Z
UID:10002740-1734771600-1734778800@arabishway.com
SUMMARY:Virtual Movie Screenings: Every Saturday with Palestine Museum US
DESCRIPTION:Check website: https://www.palestinemuseum.us/events for current showings and for registration links! \nOften the screening ends with a Q&A with the director! \n 
URL:https://arabishway.com/event/virtual-movie-screenings-every-saturday-with-palestine-museum-us-december-3/
LOCATION:Virtual
CATEGORIES:Movie
ATTACH;FMTTYPE=image/jpeg:https://arabishway.com/wp-content/uploads/2020/11/palestine-museum.jpg
END:VEVENT
BEGIN:VEVENT
DTSTART;TZID=America/Los_Angeles:20241228T090000
DTEND;TZID=America/Los_Angeles:20241228T110000
DTSTAMP:20260424T003614
CREATED:20241124T183041Z
LAST-MODIFIED:20241124T183141Z
UID:10002741-1735376400-1735383600@arabishway.com
SUMMARY:Virtual Movie Screenings: Every Saturday with Palestine Museum US
DESCRIPTION:Check website: https://www.palestinemuseum.us/events for current showings and for registration links! \nOften the screening ends with a Q&A with the director! \n 
URL:https://arabishway.com/event/virtual-movie-screenings-every-saturday-with-palestine-museum-us-december-4/
LOCATION:Virtual
CATEGORIES:Movie
ATTACH;FMTTYPE=image/jpeg:https://arabishway.com/wp-content/uploads/2020/11/palestine-museum.jpg
END:VEVENT
END:VCALENDAR