BEGIN:VCALENDAR
VERSION:2.0
PRODID:-//ArabishWay - ECPv6.15.20//NONSGML v1.0//EN
CALSCALE:GREGORIAN
METHOD:PUBLISH
X-ORIGINAL-URL:https://arabishway.com
X-WR-CALDESC:Events for ArabishWay
REFRESH-INTERVAL;VALUE=DURATION:PT1H
X-Robots-Tag:noindex
X-PUBLISHED-TTL:PT1H
BEGIN:VTIMEZONE
TZID:America/Los_Angeles
BEGIN:DAYLIGHT
TZOFFSETFROM:-0800
TZOFFSETTO:-0700
TZNAME:PDT
DTSTART:20230312T100000
END:DAYLIGHT
BEGIN:STANDARD
TZOFFSETFROM:-0700
TZOFFSETTO:-0800
TZNAME:PST
DTSTART:20231105T090000
END:STANDARD
BEGIN:DAYLIGHT
TZOFFSETFROM:-0800
TZOFFSETTO:-0700
TZNAME:PDT
DTSTART:20240310T100000
END:DAYLIGHT
BEGIN:STANDARD
TZOFFSETFROM:-0700
TZOFFSETTO:-0800
TZNAME:PST
DTSTART:20241103T090000
END:STANDARD
BEGIN:DAYLIGHT
TZOFFSETFROM:-0800
TZOFFSETTO:-0700
TZNAME:PDT
DTSTART:20250309T100000
END:DAYLIGHT
BEGIN:STANDARD
TZOFFSETFROM:-0700
TZOFFSETTO:-0800
TZNAME:PST
DTSTART:20251102T090000
END:STANDARD
END:VTIMEZONE
BEGIN:VEVENT
DTSTART;VALUE=DATE:20241024
DTEND;VALUE=DATE:20241104
DTSTAMP:20260424T003613
CREATED:20241028T203516Z
LAST-MODIFIED:20241031T050725Z
UID:10002649-1729728000-1730678399@arabishway.com
SUMMARY:AFMI: Film Festival (some virtual)
DESCRIPTION:So many movies available for streaming through November 3rd:  Back to Alexandria\, Baghdad Messi\, Aida Returns\, Dancing on the Edge of a Volcano and more! \nClick here to see what other films are available to stream! \nThere are collections of film shorts! Documentaries! Horror flicks! Something for everyone! \nhttps://watch.eventive.org/arabfilm2024
URL:https://arabishway.com/event/afmi-film-festival-some-virtual/
LOCATION:Virtual
CATEGORIES:Movie
ATTACH;FMTTYPE=image/png:https://arabishway.com/wp-content/uploads/2024/10/Screenshot-2024-10-28-at-1.37.56 PM.png
END:VEVENT
BEGIN:VEVENT
DTSTART;TZID=America/Los_Angeles:20241102T193000
DTEND;TZID=America/Los_Angeles:20241102T213000
DTSTAMP:20260424T003613
CREATED:20241030T195052Z
LAST-MODIFIED:20241030T195158Z
UID:10002661-1730575800-1730583000@arabishway.com
SUMMARY:Palestine Cinema Days: 2024
DESCRIPTION:A poignant\, sometimes sad\, sometimes painful\, sometimes humorous\, often absurd story of a multiple journey: the journey of loss as the directors mother Aida struggled with losing herself to Alzheimers disease\, but finding solace in her repeated returning to the Yafa and Palestine of her youth; the journey of the loss of a parent; and the ultimate return journey back to Yafa where Aida would finally find rest and be herself once more. \nPresented as a part of Palestine Cinema Days 2024 \nOn the somber anniversary of the Balfour Declaration\, observed on November 2nd\, and in an effort to amplify Palestinian voices\, we are screening Aida Returns directed by Carol Mansour at 7:30 p.m. at Northwest Film Forum. The screening is free of charge. \n(Carol Mansour\, Canada\, Lebanon\, United States\, 2024\, 1hour 12min\, in Arabic\, English\, and French with English subtitles) \n 
URL:https://arabishway.com/event/palestine-cinema-days-2024/
LOCATION:Northwest Film Forum\, 1515 12th Ave\, 2\, Seattle\, WA\, 98122\, United States
CATEGORIES:Movie
ATTACH;FMTTYPE=image/png:https://arabishway.com/wp-content/uploads/2022/07/Aida-Returns.png
END:VEVENT
BEGIN:VEVENT
DTSTART;VALUE=DATE:20241106
DTEND;VALUE=DATE:20241116
DTSTAMP:20260424T003613
CREATED:20250926T203505Z
LAST-MODIFIED:20250926T205703Z
UID:10003326-1730851200-1731715199@arabishway.com
SUMMARY:AFMI: Film Festival (some virtual)
DESCRIPTION:Choose the best option for you: \n\nVIP FESTIVAL PASS – $220 (regular $250)\nfor the most passionate Arab cinema lover\nFESTIVAL PASS – $150 (regular $180)\nfor the fan who wants to watch as many movies as possible\nVIRTUAL PASS – $60 (regular $80)\nfor the cinephile who is not in the Bay Area (or prefers streaming a limited program)\n\nIf you want to enjoy all the festival has to offer\, this is the best deal.\nCheck out all the details here. \n 
URL:https://arabishway.com/event/afmi-film-festival-some-virtual-copy/
LOCATION:Virtual
CATEGORIES:Movie
ATTACH;FMTTYPE=image/png:https://arabishway.com/wp-content/uploads/2025/09/Screenshot-2025-09-26-at-1.31.15-PM.png
END:VEVENT
BEGIN:VEVENT
DTSTART;VALUE=DATE:20241111
DTEND;VALUE=DATE:20241122
DTSTAMP:20260424T003613
CREATED:20241030T192039Z
LAST-MODIFIED:20241031T042357Z
UID:10002659-1731283200-1732233599@arabishway.com
SUMMARY:Streaming:  Then and Now (curated by Sudanese Film Group)
DESCRIPTION:This two-part program includes a selection of the Sudanese Film Group’s experimental films using 35mm and 16mm reels\, which were digitally restored by Arsenal Berlin in 2018\, in an effort to preserve this part of cinematic history. The program also includes a more recent film by Eltayeb Mahdi that documents the Sudanese revolution in 2019.
URL:https://arabishway.com/event/sudanese-film-group-then-and-now-streaming/
LOCATION:Virtual
CATEGORIES:Movie
ATTACH;FMTTYPE=image/png:https://arabishway.com/wp-content/uploads/2024/08/Screenshot-2024-08-31-at-4.17.44 PM.png
END:VEVENT
BEGIN:VEVENT
DTSTART;TZID=America/Los_Angeles:20241124T090000
DTEND;TZID=America/Los_Angeles:20241124T110000
DTSTAMP:20260424T003613
CREATED:20241122T215048Z
LAST-MODIFIED:20241122T215048Z
UID:10002725-1732438800-1732446000@arabishway.com
SUMMARY:Free virtual screening of the documentary film 'Sacrificing Liberty'
DESCRIPTION:Screening will start at 12:00 Noon US EST; 18:00 Europe; 19:00 Palestine; 17:00 UK; running time\, 60 minutes each part\, English language.  \nPlease click here to watch the film trailer.\nPlease click here to register to view the film. \nSYNOPSIS\n“Sacrificing Liberty” is a powerful documentary directed by Matthew Skow that examines the tragic attack on the USS Liberty by Israeli forces on June 8\, 1967\, during the Six-Day War. The film provides a detailed account of the incident\, which resulted in the deaths of 34 American crew members and injuries to 174 others. Through interviews with survivors and experts\, the documentary uncovers the subsequent cover-up by the U.S. government and highlights the enduring quest for justice and recognition by the survivors. It is a poignant exploration of a dark chapter in American naval history and the resilience of those who lived through it.
URL:https://arabishway.com/event/free-virtual-screening-of-the-documentary-film-sacrificing-liberty/
LOCATION:Virtual
CATEGORIES:Movie
ATTACH;FMTTYPE=image/jpeg:https://arabishway.com/wp-content/uploads/2024/11/Sacrificing-Liberty.jpeg
END:VEVENT
BEGIN:VEVENT
DTSTART;VALUE=DATE:20241126
DTEND;VALUE=DATE:20241202
DTSTAMP:20260424T003613
CREATED:20241124T180348Z
LAST-MODIFIED:20241124T180714Z
UID:10002731-1732579200-1733097599@arabishway.com
SUMMARY:Watermelon Pictures: Life Is Beautiful (streaming)
DESCRIPTION:New Release from Watermelon Pictures: \nExiled above the arctic circle in Norway and refusing to accept the boundaries imposed by international politics & rigid bureaucracy\, Palestinian filmmaker Mohamed Jabaly insists on telling heartfelt stories from his hometown Gaza. Despite his statelessness and having only limited connection to his family abroad\, he manages to channel support from friends and his own creativity\, adhering to his motto LIFE IS BEAUTIFUL. And throughout it all\, he fights for his rights with integrity\, community\, and a smile for the world. \nCheck out the trailer here: https://youtu.be/nqTlHyjR1xA \nScreening on major digital platforms on 11/26! \nhttps://www.watermelonpictures.com/films/life-is-beautiful-a-letter-to-gaza
URL:https://arabishway.com/event/watermelon-pictures-life-is-beautiful-streaming/
LOCATION:Virtual
CATEGORIES:Movie
ATTACH;FMTTYPE=image/jpeg:https://arabishway.com/wp-content/uploads/2024/11/Life-Is-Beautiful.jpeg
END:VEVENT
END:VCALENDAR