BEGIN:VCALENDAR
VERSION:2.0
PRODID:-//ArabishWay - ECPv6.15.20//NONSGML v1.0//EN
CALSCALE:GREGORIAN
METHOD:PUBLISH
X-ORIGINAL-URL:https://arabishway.com
X-WR-CALDESC:Events for ArabishWay
REFRESH-INTERVAL;VALUE=DURATION:PT1H
X-Robots-Tag:noindex
X-PUBLISHED-TTL:PT1H
BEGIN:VTIMEZONE
TZID:America/Los_Angeles
BEGIN:DAYLIGHT
TZOFFSETFROM:-0800
TZOFFSETTO:-0700
TZNAME:PDT
DTSTART:20230312T100000
END:DAYLIGHT
BEGIN:STANDARD
TZOFFSETFROM:-0700
TZOFFSETTO:-0800
TZNAME:PST
DTSTART:20231105T090000
END:STANDARD
BEGIN:DAYLIGHT
TZOFFSETFROM:-0800
TZOFFSETTO:-0700
TZNAME:PDT
DTSTART:20240310T100000
END:DAYLIGHT
BEGIN:STANDARD
TZOFFSETFROM:-0700
TZOFFSETTO:-0800
TZNAME:PST
DTSTART:20241103T090000
END:STANDARD
BEGIN:DAYLIGHT
TZOFFSETFROM:-0800
TZOFFSETTO:-0700
TZNAME:PDT
DTSTART:20250309T100000
END:DAYLIGHT
BEGIN:STANDARD
TZOFFSETFROM:-0700
TZOFFSETTO:-0800
TZNAME:PST
DTSTART:20251102T090000
END:STANDARD
END:VTIMEZONE
BEGIN:VEVENT
DTSTART;TZID=America/Los_Angeles:20241005T090000
DTEND;TZID=America/Los_Angeles:20241005T110000
DTSTAMP:20260423T181942
CREATED:20240831T224331Z
LAST-MODIFIED:20240831T224403Z
UID:10002631-1728118800-1728126000@arabishway.com
SUMMARY:Virtual Movie Screenings: Every Saturday with Palestine Museum US
DESCRIPTION:Check website: https://www.palestinemuseum.us/events for current showings and for registration links! \nOften the screening ends with a Q&A with the director! \n 
URL:https://arabishway.com/event/virtual-movie-screenings-every-saturday-with-palestine-museum-us-october/
LOCATION:Virtual
CATEGORIES:Movie
ATTACH;FMTTYPE=image/jpeg:https://arabishway.com/wp-content/uploads/2020/11/palestine-museum.jpg
END:VEVENT
BEGIN:VEVENT
DTSTART;TZID=America/Los_Angeles:20241020T160000
DTEND;TZID=America/Los_Angeles:20241020T180000
DTSTAMP:20260423T181942
CREATED:20240929T232827Z
LAST-MODIFIED:20240930T001108Z
UID:10002638-1729440000-1729447200@arabishway.com
SUMMARY:“Walled Off” Film Screening
DESCRIPTION:Come hear from Watermelon Pictures execs and storytellers\, and watch a screening of acclaimed documentary “Walled Off.” \nAbout this Event \nJoin us for a screening of “Walled Off.” The film explores the Israeli-Palestinian conflict through the lens of mysterious British street artist Banksy’s Walled Off Hotel in Bethlehem. The film highlights the importance of creative resistance as a form of protest and challenges the mainstream media’s narrative of the occupation.
URL:https://arabishway.com/event/walled-off-film-screening/
LOCATION:The Crocodile\, 2505 1st Ave\, Seattle\, WA\, 98033\, United States
CATEGORIES:Movie
ATTACH;FMTTYPE=image/jpeg:https://arabishway.com/wp-content/uploads/2024/09/walled-off.jpeg
END:VEVENT
BEGIN:VEVENT
DTSTART;VALUE=DATE:20241024
DTEND;VALUE=DATE:20241025
DTSTAMP:20260423T181942
CREATED:20240710T053919Z
LAST-MODIFIED:20240710T053919Z
UID:10002531-1729728000-1729814399@arabishway.com
SUMMARY:AFMI: Arab Film Fest
DESCRIPTION:
URL:https://arabishway.com/event/afmi-arab-film-fest/
LOCATION:WA
CATEGORIES:Movie
END:VEVENT
BEGIN:VEVENT
DTSTART;VALUE=DATE:20241024
DTEND;VALUE=DATE:20241104
DTSTAMP:20260423T181942
CREATED:20241028T203516Z
LAST-MODIFIED:20241031T050725Z
UID:10002649-1729728000-1730678399@arabishway.com
SUMMARY:AFMI: Film Festival (some virtual)
DESCRIPTION:So many movies available for streaming through November 3rd:  Back to Alexandria\, Baghdad Messi\, Aida Returns\, Dancing on the Edge of a Volcano and more! \nClick here to see what other films are available to stream! \nThere are collections of film shorts! Documentaries! Horror flicks! Something for everyone! \nhttps://watch.eventive.org/arabfilm2024
URL:https://arabishway.com/event/afmi-film-festival-some-virtual/
LOCATION:Virtual
CATEGORIES:Movie
ATTACH;FMTTYPE=image/png:https://arabishway.com/wp-content/uploads/2024/10/Screenshot-2024-10-28-at-1.37.56 PM.png
END:VEVENT
END:VCALENDAR