BEGIN:VCALENDAR
VERSION:2.0
PRODID:-//ArabishWay - ECPv6.15.20//NONSGML v1.0//EN
CALSCALE:GREGORIAN
METHOD:PUBLISH
X-WR-CALNAME:ArabishWay
X-ORIGINAL-URL:https://arabishway.com
X-WR-CALDESC:Events for ArabishWay
REFRESH-INTERVAL;VALUE=DURATION:PT1H
X-Robots-Tag:noindex
X-PUBLISHED-TTL:PT1H
BEGIN:VTIMEZONE
TZID:America/Los_Angeles
BEGIN:DAYLIGHT
TZOFFSETFROM:-0800
TZOFFSETTO:-0700
TZNAME:PDT
DTSTART:20250309T100000
END:DAYLIGHT
BEGIN:STANDARD
TZOFFSETFROM:-0700
TZOFFSETTO:-0800
TZNAME:PST
DTSTART:20251102T090000
END:STANDARD
BEGIN:DAYLIGHT
TZOFFSETFROM:-0800
TZOFFSETTO:-0700
TZNAME:PDT
DTSTART:20260308T100000
END:DAYLIGHT
BEGIN:STANDARD
TZOFFSETFROM:-0700
TZOFFSETTO:-0800
TZNAME:PST
DTSTART:20261101T090000
END:STANDARD
BEGIN:DAYLIGHT
TZOFFSETFROM:-0800
TZOFFSETTO:-0700
TZNAME:PDT
DTSTART:20270314T100000
END:DAYLIGHT
BEGIN:STANDARD
TZOFFSETFROM:-0700
TZOFFSETTO:-0800
TZNAME:PST
DTSTART:20271107T090000
END:STANDARD
END:VTIMEZONE
BEGIN:VEVENT
DTSTART;TZID=America/Los_Angeles:20260313T090000
DTEND;TZID=America/Los_Angeles:20260313T110000
DTSTAMP:20260421T142310
CREATED:20260131T053716Z
LAST-MODIFIED:20260131T053805Z
UID:10004867-1773392400-1773399600@arabishway.com
SUMMARY:Material Identities: Regional Dress in Late Ottoman Syria
DESCRIPTION:Virtual Lecture Registration\n\nMaterial Identities: Regional Dress in Late Ottoman Syria \nDate: Friday\, March 13\, 2026\nTime: 12:00 PM – 2:00 PM EST\nLocation: Online\, Zoom link will be emailed at 10am EST on event day\nInstructor: Wafa Ghnaim\, Dress Historian\, Researcher & Educator\nRegistration Fee: Sliding scale \nDescription: This lecture examines the regional styles of embroidered traditional dress produced within the geographic boundaries of present-day Syria during the late Ottoman period\, roughly 1850–1922. It centers on historical garments from various villages\, towns\, and desert regions across Syria\, as well as the textile traditions that shaped them. Participants will learn about Syria’s role as a major center of textile production\, including the rise and decline of its fabric industries and the historic cloth types most commonly used in the nineteenth and early twentieth centuries. The lecture surveys distinctive village and regional styles\, with attention to materials\, structure\, and surface design\, beginning in the Northern Galilee and extending into southern Syria and beyond. \nThe presentation draws on surviving garments\, visual documentation\, and the work of leading scholars in the field of Syrian dress history. This research is informed by the expertise of Aida Dalati\, Anne Marie Weiss-Armush\, Hanan Munayyer\, and other leading collectors and historians in the field. Through this focused visual and historical review\, the lecture situates Syrian dress within its social\, economic\, and cultural contexts\, highlighting how regional identity was expressed as a broad regional tradition shared by communities of the eastern Mediterranean over centuries. While many have argued that the cultural knowledge of Syrian dress styles is extinct\, Wafa argues that new digital archives led by a new generation are ensuring its survival and revival. \n 
URL:https://arabishway.com/event/material-identities-regional-dress-in-late-ottoman-syria/
LOCATION:Virtual
CATEGORIES:Art,Lecture
ATTACH;FMTTYPE=image/jpeg:https://arabishway.com/wp-content/uploads/2020/06/Palestine-Museum-Tatreez.jpg
END:VEVENT
END:VCALENDAR