BEGIN:VCALENDAR
VERSION:2.0
PRODID:-//ArabishWay - ECPv6.15.20//NONSGML v1.0//EN
CALSCALE:GREGORIAN
METHOD:PUBLISH
X-ORIGINAL-URL:https://arabishway.com
X-WR-CALDESC:Events for ArabishWay
REFRESH-INTERVAL;VALUE=DURATION:PT1H
X-Robots-Tag:noindex
X-PUBLISHED-TTL:PT1H
BEGIN:VTIMEZONE
TZID:America/Los_Angeles
BEGIN:DAYLIGHT
TZOFFSETFROM:-0800
TZOFFSETTO:-0700
TZNAME:PDT
DTSTART:20250309T100000
END:DAYLIGHT
BEGIN:STANDARD
TZOFFSETFROM:-0700
TZOFFSETTO:-0800
TZNAME:PST
DTSTART:20251102T090000
END:STANDARD
BEGIN:DAYLIGHT
TZOFFSETFROM:-0800
TZOFFSETTO:-0700
TZNAME:PDT
DTSTART:20260308T100000
END:DAYLIGHT
BEGIN:STANDARD
TZOFFSETFROM:-0700
TZOFFSETTO:-0800
TZNAME:PST
DTSTART:20261101T090000
END:STANDARD
BEGIN:DAYLIGHT
TZOFFSETFROM:-0800
TZOFFSETTO:-0700
TZNAME:PDT
DTSTART:20270314T100000
END:DAYLIGHT
BEGIN:STANDARD
TZOFFSETFROM:-0700
TZOFFSETTO:-0800
TZNAME:PST
DTSTART:20271107T090000
END:STANDARD
END:VTIMEZONE
BEGIN:VEVENT
DTSTART;TZID=America/Los_Angeles:20260311T100000
DTEND;TZID=America/Los_Angeles:20260311T120000
DTSTAMP:20260421T123854
CREATED:20260301T052238Z
LAST-MODIFIED:20260301T182151Z
UID:10005874-1773223200-1773230400@arabishway.com
SUMMARY:Fasting\, Faith and the Fight Against Erasure: Ramadan in Al Quds
DESCRIPTION:Featuring:\nLayan Abbasi\nResearcher & Writer\nAl-Aqsa Mosque\nSpecialty\nAl Quds\nYazan Risheg Executive Director Jerusalem-based\norganization Researcher of political\neconomic dynamics\nAl Quds\nRami Nashashibi Islamic Studies Scholar\n& Executive Director\nInner-City Muslim\nAction Network (IMAN)\nChicago
URL:https://arabishway.com/event/fasting-faith-and-the-fight-against-erasure-ramadan-in-al-quds/
LOCATION:Virtual
CATEGORIES:Lecture
ATTACH;FMTTYPE=image/png:https://arabishway.com/wp-content/uploads/2026/02/Screenshot-2026-02-28-at-9.11.16-PM.png
END:VEVENT
END:VCALENDAR