BEGIN:VCALENDAR
VERSION:2.0
PRODID:-//ArabishWay - ECPv6.15.20//NONSGML v1.0//EN
CALSCALE:GREGORIAN
METHOD:PUBLISH
X-ORIGINAL-URL:https://arabishway.com
X-WR-CALDESC:Events for ArabishWay
REFRESH-INTERVAL;VALUE=DURATION:PT1H
X-Robots-Tag:noindex
X-PUBLISHED-TTL:PT1H
BEGIN:VTIMEZONE
TZID:America/Los_Angeles
BEGIN:DAYLIGHT
TZOFFSETFROM:-0800
TZOFFSETTO:-0700
TZNAME:PDT
DTSTART:20240310T100000
END:DAYLIGHT
BEGIN:STANDARD
TZOFFSETFROM:-0700
TZOFFSETTO:-0800
TZNAME:PST
DTSTART:20241103T090000
END:STANDARD
BEGIN:DAYLIGHT
TZOFFSETFROM:-0800
TZOFFSETTO:-0700
TZNAME:PDT
DTSTART:20250309T100000
END:DAYLIGHT
BEGIN:STANDARD
TZOFFSETFROM:-0700
TZOFFSETTO:-0800
TZNAME:PST
DTSTART:20251102T090000
END:STANDARD
BEGIN:DAYLIGHT
TZOFFSETFROM:-0800
TZOFFSETTO:-0700
TZNAME:PDT
DTSTART:20260308T100000
END:DAYLIGHT
BEGIN:STANDARD
TZOFFSETFROM:-0700
TZOFFSETTO:-0800
TZNAME:PST
DTSTART:20261101T090000
END:STANDARD
END:VTIMEZONE
BEGIN:VEVENT
DTSTART;TZID=America/Los_Angeles:20251217T170000
DTEND;TZID=America/Los_Angeles:20251217T190000
DTSTAMP:20260422T030339
CREATED:20251129T050619Z
LAST-MODIFIED:20251129T050757Z
UID:10003432-1765990800-1765998000@arabishway.com
SUMMARY:Threads of Resistance Webinar Series: Breaking Borders: Palestine Through My Eyes
DESCRIPTION:In this session\, past delegates will share their firsthand experiences from the ground in Palestine. Hear personal reflections\, stories\, and insights from those who have witnessed the violence of the occupation as well as the strength\, creativity\, and beauty of the Palestinian people\, across the West Bank. Ticket: $15 \n\n\n\n\n\n\n\nEnd the year on an inspiring note and join us this December for “Threads of Resistance\,” a powerful week-long series of online events uplifting voices across the global movement for Palestinian liberation. Throughout the week\, we’ll feature artists\, organizers\, public figures\, spiritual leaders\, and past Eyewitness Palestine delegates who have witnessed the occupation on the ground firsthand. What unifies our speakers is their commitment to standing firmly in truth\, even when doing so comes at personal cost. \nEach session offers unique perspectives\, bringing together stories\, experiences\, and acts of resistance that span communities and continents. We invite you to be part of these conversations\, to learn\, to reflect\, and to engage in meaningful dialogue with us.
URL:https://arabishway.com/event/threads-of-resistance-webinar-series-through/
LOCATION:Virtual
CATEGORIES:Lecture
ATTACH;FMTTYPE=image/png:https://arabishway.com/wp-content/uploads/2023/04/EyeWitnessPalestine.png
END:VEVENT
END:VCALENDAR