BEGIN:VCALENDAR
VERSION:2.0
PRODID:-//ArabishWay - ECPv6.15.20//NONSGML v1.0//EN
CALSCALE:GREGORIAN
METHOD:PUBLISH
X-ORIGINAL-URL:https://arabishway.com
X-WR-CALDESC:Events for ArabishWay
REFRESH-INTERVAL;VALUE=DURATION:PT1H
X-Robots-Tag:noindex
X-PUBLISHED-TTL:PT1H
BEGIN:VTIMEZONE
TZID:America/Los_Angeles
BEGIN:DAYLIGHT
TZOFFSETFROM:-0800
TZOFFSETTO:-0700
TZNAME:PDT
DTSTART:20240310T100000
END:DAYLIGHT
BEGIN:STANDARD
TZOFFSETFROM:-0700
TZOFFSETTO:-0800
TZNAME:PST
DTSTART:20241103T090000
END:STANDARD
BEGIN:DAYLIGHT
TZOFFSETFROM:-0800
TZOFFSETTO:-0700
TZNAME:PDT
DTSTART:20250309T100000
END:DAYLIGHT
BEGIN:STANDARD
TZOFFSETFROM:-0700
TZOFFSETTO:-0800
TZNAME:PST
DTSTART:20251102T090000
END:STANDARD
BEGIN:DAYLIGHT
TZOFFSETFROM:-0800
TZOFFSETTO:-0700
TZNAME:PDT
DTSTART:20260308T100000
END:DAYLIGHT
BEGIN:STANDARD
TZOFFSETFROM:-0700
TZOFFSETTO:-0800
TZNAME:PST
DTSTART:20261101T090000
END:STANDARD
END:VTIMEZONE
BEGIN:VEVENT
DTSTART;TZID=America/Los_Angeles:20251015T090000
DTEND;TZID=America/Los_Angeles:20251015T103000
DTSTAMP:20260422T030316
CREATED:20250925T023620Z
LAST-MODIFIED:20250925T023620Z
UID:10003317-1760518800-1760524200@arabishway.com
SUMMARY:Healing Under Occupation: Mutual Aid Webinar with Anar Palestine and Healing to Hope
DESCRIPTION:Join us for a webinar with Anar Palestine and Healing to Hope to learn about their mental health work: empowering Palestinian children and their caregivers\, and supporting their healing to help them realize their full potential. \n\n\n\nJoin us for a webinar with Anar Palestine and Healing to Hope to learn about their mental health work: empowering Palestinian children and their caregivers\, and supporting their healing to help them realize their full potential.
URL:https://arabishway.com/event/healing-under-occupation-mutual-aid-webinar-with-anar-palestine-and-healing-to-hope/
LOCATION:Virtual
CATEGORIES:Lecture/Panel Discussion,Social Justice
END:VEVENT
END:VCALENDAR