BEGIN:VCALENDAR
VERSION:2.0
PRODID:-//ArabishWay - ECPv6.15.20//NONSGML v1.0//EN
CALSCALE:GREGORIAN
METHOD:PUBLISH
X-ORIGINAL-URL:https://arabishway.com
X-WR-CALDESC:Events for ArabishWay
REFRESH-INTERVAL;VALUE=DURATION:PT1H
X-Robots-Tag:noindex
X-PUBLISHED-TTL:PT1H
BEGIN:VTIMEZONE
TZID:America/Los_Angeles
BEGIN:DAYLIGHT
TZOFFSETFROM:-0800
TZOFFSETTO:-0700
TZNAME:PDT
DTSTART:20240310T100000
END:DAYLIGHT
BEGIN:STANDARD
TZOFFSETFROM:-0700
TZOFFSETTO:-0800
TZNAME:PST
DTSTART:20241103T090000
END:STANDARD
BEGIN:DAYLIGHT
TZOFFSETFROM:-0800
TZOFFSETTO:-0700
TZNAME:PDT
DTSTART:20250309T100000
END:DAYLIGHT
BEGIN:STANDARD
TZOFFSETFROM:-0700
TZOFFSETTO:-0800
TZNAME:PST
DTSTART:20251102T090000
END:STANDARD
BEGIN:DAYLIGHT
TZOFFSETFROM:-0800
TZOFFSETTO:-0700
TZNAME:PDT
DTSTART:20260308T100000
END:DAYLIGHT
BEGIN:STANDARD
TZOFFSETFROM:-0700
TZOFFSETTO:-0800
TZNAME:PST
DTSTART:20261101T090000
END:STANDARD
END:VTIMEZONE
BEGIN:VEVENT
DTSTART;TZID=America/Los_Angeles:20251010T090000
DTEND;TZID=America/Los_Angeles:20251010T150000
DTSTAMP:20260422T030330
CREATED:20250928T150854Z
LAST-MODIFIED:20250928T150854Z
UID:10003331-1760086800-1760108400@arabishway.com
SUMMARY:Symposium | Gender\, Translation\, and the Short Form in the Eurasian Periodical
DESCRIPTION:Literary modernity did not always appear in book form\, but as a periodical! Throughout the 20th century\, literary and cultural production across much of Central\, Western\, and South Asia reached readers through the pages of periodicals. These periodicals–newspapers\, magazines\, and journals–housed a variety of literary forms ranging from serialized novels\, to poetry\, to short stories\, alongside advertisements\, comics\, and photography. This symposium features emerging literary scholarship that investigates short form fiction as it appears in the rhizomatic 20th century periodical\, and its intersections with translation and gender. How does fiction move across and between languages in 20th century periodical cultures of Eurasia? What does an explicit and intentional consideration of gender in these translingual (and frequently transnational\, or transhistorical) literary movements illuminate? In exploring such questions\, this symposium foregrounds gender\, translation\, and the short form in the growing field of Periodical Studies\, and brings together scholars working on texts from across Eurasia\, in Persian\, Arabic\, Urdu\, Hindi\, Tamil\, Russian\, and Turkish \nThomson Hall : Rm 317
URL:https://arabishway.com/event/symposium-gender-translation-and-the-short-form-in-the-eurasian-periodical/
LOCATION:University of Washington – Thomson Hall\, 1911 Skagit Lane\, Seattle\, WA\, 98105\, United States
CATEGORIES:Books/Literature/Writing,Lecture/Panel Discussion
ATTACH;FMTTYPE=image/jpeg:https://arabishway.com/wp-content/uploads/2025/09/DgAV7USK0bgCEp2x6Fezq.jpg
END:VEVENT
END:VCALENDAR