BEGIN:VCALENDAR
VERSION:2.0
PRODID:-//ArabishWay - ECPv6.15.20//NONSGML v1.0//EN
CALSCALE:GREGORIAN
METHOD:PUBLISH
X-ORIGINAL-URL:https://arabishway.com
X-WR-CALDESC:Events for ArabishWay
REFRESH-INTERVAL;VALUE=DURATION:PT1H
X-Robots-Tag:noindex
X-PUBLISHED-TTL:PT1H
BEGIN:VTIMEZONE
TZID:America/Los_Angeles
BEGIN:DAYLIGHT
TZOFFSETFROM:-0800
TZOFFSETTO:-0700
TZNAME:PDT
DTSTART:20240310T100000
END:DAYLIGHT
BEGIN:STANDARD
TZOFFSETFROM:-0700
TZOFFSETTO:-0800
TZNAME:PST
DTSTART:20241103T090000
END:STANDARD
BEGIN:DAYLIGHT
TZOFFSETFROM:-0800
TZOFFSETTO:-0700
TZNAME:PDT
DTSTART:20250309T100000
END:DAYLIGHT
BEGIN:STANDARD
TZOFFSETFROM:-0700
TZOFFSETTO:-0800
TZNAME:PST
DTSTART:20251102T090000
END:STANDARD
BEGIN:DAYLIGHT
TZOFFSETFROM:-0800
TZOFFSETTO:-0700
TZNAME:PDT
DTSTART:20260308T100000
END:DAYLIGHT
BEGIN:STANDARD
TZOFFSETFROM:-0700
TZOFFSETTO:-0800
TZNAME:PST
DTSTART:20261101T090000
END:STANDARD
END:VTIMEZONE
BEGIN:VEVENT
DTSTART;TZID=America/Los_Angeles:20251002T080000
DTEND;TZID=America/Los_Angeles:20251002T093000
DTSTAMP:20260422T030304
CREATED:20250925T040626Z
LAST-MODIFIED:20250925T040626Z
UID:10003322-1759392000-1759397400@arabishway.com
SUMMARY:Media\, Race\, and the Sudanese Civil War | Global Africa Transcontinental Seminar Series
DESCRIPTION:In April 2023\, fighting broke out in Sudan between the Sudanese Armed Forces and the Rapid Support Forces. In the ongoing conflict\, thousands have been killed\, millions displaced\, and millions more require urgent humanitarian assistance. In the midst of it all\, another element has become a focal part of this trauma: the media. In this talk\, Dr. Christopher Tounsel (University of Washington) will discuss the war’s historical background\, address why Western media has been comparatively silent in its coverage\, and show how one community’s response to the conflict sheds light on the intersections of race\, media\, and the African Diaspora. \nChristopher Tounsel is Director of African Studies and associate professor of history at the University of Washington. An historian of the Sudan\, Tounsel is the author of Chosen Peoples: Christianity and Political Imagination in South Sudan and Bounds of Blackness: African Americans\, Sudan\, and the Politics of Solidarity. \nThe Global Africa Transcontinental Seminar brings together UW African Studies\, the Department of History at Cheikh Anta Diop University in Dakar\, Senegal\, and the African Program at Sciences Po Paris\, France\, and aims to engage scholars and students around contemporary research on “African Worlds” or ”Global Africa.” The virtual monthly lectures and discussions will connect communities of scholars across the humanities and social sciences in North America\, Africa\, and Europe to discuss themes such as Black radical politics\, decolonial feminisms\, African technologies\, environmental history\, postcolonial migration\, religion and modernity\, and language. Through consideration of the ways in which the three continents have influenced each other and their respective institutional contexts\, the seminar will bring original and situated perspectives on a range of topics and further a rich conversation across institutions\, teaching traditions\, and research.
URL:https://arabishway.com/event/media-race-and-the-sudanese-civil-war-global-africa-transcontinental-seminar-series/
LOCATION:Virtual
CATEGORIES:Lecture
ATTACH;FMTTYPE=image/png:https://arabishway.com/wp-content/uploads/2025/09/Screenshot-2025-09-24-at-9.02.48-PM.png
END:VEVENT
END:VCALENDAR