BEGIN:VCALENDAR
VERSION:2.0
PRODID:-//ArabishWay - ECPv6.15.20//NONSGML v1.0//EN
CALSCALE:GREGORIAN
METHOD:PUBLISH
X-ORIGINAL-URL:https://arabishway.com
X-WR-CALDESC:Events for ArabishWay
REFRESH-INTERVAL;VALUE=DURATION:PT1H
X-Robots-Tag:noindex
X-PUBLISHED-TTL:PT1H
BEGIN:VTIMEZONE
TZID:America/Los_Angeles
BEGIN:DAYLIGHT
TZOFFSETFROM:-0800
TZOFFSETTO:-0700
TZNAME:PDT
DTSTART:20240310T100000
END:DAYLIGHT
BEGIN:STANDARD
TZOFFSETFROM:-0700
TZOFFSETTO:-0800
TZNAME:PST
DTSTART:20241103T090000
END:STANDARD
BEGIN:DAYLIGHT
TZOFFSETFROM:-0800
TZOFFSETTO:-0700
TZNAME:PDT
DTSTART:20250309T100000
END:DAYLIGHT
BEGIN:STANDARD
TZOFFSETFROM:-0700
TZOFFSETTO:-0800
TZNAME:PST
DTSTART:20251102T090000
END:STANDARD
BEGIN:DAYLIGHT
TZOFFSETFROM:-0800
TZOFFSETTO:-0700
TZNAME:PDT
DTSTART:20260308T100000
END:DAYLIGHT
BEGIN:STANDARD
TZOFFSETFROM:-0700
TZOFFSETTO:-0800
TZNAME:PST
DTSTART:20261101T090000
END:STANDARD
END:VTIMEZONE
BEGIN:VEVENT
DTSTART;TZID=America/Los_Angeles:20250925T090000
DTEND;TZID=America/Los_Angeles:20250925T110000
DTSTAMP:20260422T083340
CREATED:20250911T143747Z
LAST-MODIFIED:20250911T143747Z
UID:10003307-1758790800-1758798000@arabishway.com
SUMMARY:Tatreez in Conversation: Six Dresses\, Six Stories
DESCRIPTION:Tatreez in Conversation: Six Dresses\, Six Stories\n\nDate: Thursday\, September 25\, 2025\nTime: 12:00 PM – 2:00 PM EST\nLocation: Online\, Zoom link will be emailed 24 hours prior to event\nInstructor: Wafa Ghnaim\, Dress Historian\, Researcher & Educator\nRegistration Fee: Sliding scale\, starting at $10 \nDescription: Until the mid-twentieth century\, the dress of the Palestinian people was descriptive of identity; first by societal segment (city dweller\, villager or nomad)\, and then by the region in which the wearer came. Within each regional style\, finer distinctions in women’s dress (thobe) were expressed that shared the maker’s life and the natural world around her. Palestinian women recorded their identity in their thobe with embroidery (tatreez) through a shared illustrative language of embroidered patterns\, stitching techniques and thread colors. \nAfter al-Nakba and throughout the 1960s\, the thobe transformed into a reflection of national identity. It no longer signified a woman’s village\, tribe\, or town\, her marital status\, or her familial lineage\, but instead bore the material impact of colonialism\, occupation\, war\, and exile. While the loss of regional identity in dress is registered as part of the violence Palestinians endured during al-Nakba\, this shift also marks a moment of unity in Palestinian communities newly dispersed and scattered across the region. The six-branch dress\, a dress construction that became a governing style by the 1960s\, showcases innovative approaches by women at the time to protect a vital component to Palestinian cultural heritage. \nThis lecture will focus on the six dresses presented in Tatreez Inheritance\, examining their material characteristics\, their paths to the United States\, and the ways in which one can employ the art of “close looking”—a skill Wafa learned from her mother at a young age—to uncover evidence of a woman’s personality\, vocation\, life\, and sense of pride.
URL:https://arabishway.com/event/tatreez-in-six-dresses/
LOCATION:Virtual
CATEGORIES:Art,Lecture
ATTACH;FMTTYPE=image/png:https://arabishway.com/wp-content/uploads/2025/09/Screenshot-2025-09-11-at-7.31.19-AM.png
ORGANIZER;CN="Tatreez and Tea":MAILTO:WAFA@TATREEZANDTEA.COM
END:VEVENT
END:VCALENDAR