BEGIN:VCALENDAR
VERSION:2.0
PRODID:-//ArabishWay - ECPv6.15.20//NONSGML v1.0//EN
CALSCALE:GREGORIAN
METHOD:PUBLISH
X-ORIGINAL-URL:https://arabishway.com
X-WR-CALDESC:Events for ArabishWay
REFRESH-INTERVAL;VALUE=DURATION:PT1H
X-Robots-Tag:noindex
X-PUBLISHED-TTL:PT1H
BEGIN:VTIMEZONE
TZID:America/Los_Angeles
BEGIN:DAYLIGHT
TZOFFSETFROM:-0800
TZOFFSETTO:-0700
TZNAME:PDT
DTSTART:20240310T100000
END:DAYLIGHT
BEGIN:STANDARD
TZOFFSETFROM:-0700
TZOFFSETTO:-0800
TZNAME:PST
DTSTART:20241103T090000
END:STANDARD
BEGIN:DAYLIGHT
TZOFFSETFROM:-0800
TZOFFSETTO:-0700
TZNAME:PDT
DTSTART:20250309T100000
END:DAYLIGHT
BEGIN:STANDARD
TZOFFSETFROM:-0700
TZOFFSETTO:-0800
TZNAME:PST
DTSTART:20251102T090000
END:STANDARD
BEGIN:DAYLIGHT
TZOFFSETFROM:-0800
TZOFFSETTO:-0700
TZNAME:PDT
DTSTART:20260308T100000
END:DAYLIGHT
BEGIN:STANDARD
TZOFFSETFROM:-0700
TZOFFSETTO:-0800
TZNAME:PST
DTSTART:20261101T090000
END:STANDARD
END:VTIMEZONE
BEGIN:VEVENT
DTSTART;TZID=America/Los_Angeles:20250924T190000
DTEND;TZID=America/Los_Angeles:20250924T203000
DTSTAMP:20260422T083341
CREATED:20250915T040412Z
LAST-MODIFIED:20250915T040829Z
UID:10003308-1758740400-1758745800@arabishway.com
SUMMARY:A Conversation with Khayari founder Areej Masoud
DESCRIPTION:Areej Masoud\, a Palestinian Christian from Bethlehem and the Executive Director of Khayari – a Women’s Empowerment organization in the Occupied West Bank\, will share her insights about the realities of life in Palestine\, her work with Khayari and how you can get involved. \nThis event will be co-hosted by Bethany Presbyterian Church and Quest Church. \nLocation provided via email after competion of registration.
URL:https://arabishway.com/event/conversation-khayari/
LOCATION:Register for Location
CATEGORIES:Benefit/Fundraiser,Lecture
ATTACH;FMTTYPE=image/png:https://arabishway.com/wp-content/uploads/2025/09/areej.png
END:VEVENT
END:VCALENDAR