BEGIN:VCALENDAR
VERSION:2.0
PRODID:-//ArabishWay - ECPv6.15.20//NONSGML v1.0//EN
CALSCALE:GREGORIAN
METHOD:PUBLISH
X-ORIGINAL-URL:https://arabishway.com
X-WR-CALDESC:Events for ArabishWay
REFRESH-INTERVAL;VALUE=DURATION:PT1H
X-Robots-Tag:noindex
X-PUBLISHED-TTL:PT1H
BEGIN:VTIMEZONE
TZID:America/Los_Angeles
BEGIN:DAYLIGHT
TZOFFSETFROM:-0800
TZOFFSETTO:-0700
TZNAME:PDT
DTSTART:20240310T100000
END:DAYLIGHT
BEGIN:STANDARD
TZOFFSETFROM:-0700
TZOFFSETTO:-0800
TZNAME:PST
DTSTART:20241103T090000
END:STANDARD
BEGIN:DAYLIGHT
TZOFFSETFROM:-0800
TZOFFSETTO:-0700
TZNAME:PDT
DTSTART:20250309T100000
END:DAYLIGHT
BEGIN:STANDARD
TZOFFSETFROM:-0700
TZOFFSETTO:-0800
TZNAME:PST
DTSTART:20251102T090000
END:STANDARD
BEGIN:DAYLIGHT
TZOFFSETFROM:-0800
TZOFFSETTO:-0700
TZNAME:PDT
DTSTART:20260308T100000
END:DAYLIGHT
BEGIN:STANDARD
TZOFFSETFROM:-0700
TZOFFSETTO:-0800
TZNAME:PST
DTSTART:20261101T090000
END:STANDARD
END:VTIMEZONE
BEGIN:VEVENT
DTSTART;TZID=America/Los_Angeles:20250806T190000
DTEND;TZID=America/Los_Angeles:20250806T203000
DTSTAMP:20260423T055914
CREATED:20250712T023837Z
LAST-MODIFIED:20250712T023942Z
UID:10003193-1754506800-1754512200@arabishway.com
SUMMARY:The American Nakba: Palestinian Dispossession and Resistance in the Heart of US Empire (Class Two of Four)
DESCRIPTION:Censorship\, distortion\, and intimidation have made many of us unable to access knowledge about Palestine and the diaspora. And now? We need this knowledge more than ever. \nSo proud to be hosted through @baladna.pnw \nSeattle\, sign up for this 4 session course where we’ll discuss the connections between Palestinian dispossession and resistance in the US Empire and in Palestine. Open to everyone. \nRegistration in bio and https://tinyurl.com/nhff2khb\nJuly 30\, Aug 6\, Aug 13\, Aug 20\n7:00-8:30pm\nLocation to be announced\n#seattle #palestine #baladna #class #historyofthepresent
URL:https://arabishway.com/event/the-american-nakba-palestinian-dispossession-and-resistance-in-the-heart-of-us-empire-2/
LOCATION:Register for Location
CATEGORIES:Lecture
ATTACH;FMTTYPE=image/png:https://arabishway.com/wp-content/uploads/2025/07/Screenshot-2025-07-11-at-7.31.15 PM.png
END:VEVENT
END:VCALENDAR