BEGIN:VCALENDAR
VERSION:2.0
PRODID:-//ArabishWay - ECPv6.15.20//NONSGML v1.0//EN
CALSCALE:GREGORIAN
METHOD:PUBLISH
X-WR-CALNAME:ArabishWay
X-ORIGINAL-URL:https://arabishway.com
X-WR-CALDESC:Events for ArabishWay
REFRESH-INTERVAL;VALUE=DURATION:PT1H
X-Robots-Tag:noindex
X-PUBLISHED-TTL:PT1H
BEGIN:VTIMEZONE
TZID:America/Los_Angeles
BEGIN:DAYLIGHT
TZOFFSETFROM:-0800
TZOFFSETTO:-0700
TZNAME:PDT
DTSTART:20240310T100000
END:DAYLIGHT
BEGIN:STANDARD
TZOFFSETFROM:-0700
TZOFFSETTO:-0800
TZNAME:PST
DTSTART:20241103T090000
END:STANDARD
BEGIN:DAYLIGHT
TZOFFSETFROM:-0800
TZOFFSETTO:-0700
TZNAME:PDT
DTSTART:20250309T100000
END:DAYLIGHT
BEGIN:STANDARD
TZOFFSETFROM:-0700
TZOFFSETTO:-0800
TZNAME:PST
DTSTART:20251102T090000
END:STANDARD
BEGIN:DAYLIGHT
TZOFFSETFROM:-0800
TZOFFSETTO:-0700
TZNAME:PDT
DTSTART:20260308T100000
END:DAYLIGHT
BEGIN:STANDARD
TZOFFSETFROM:-0700
TZOFFSETTO:-0800
TZNAME:PST
DTSTART:20261101T090000
END:STANDARD
END:VTIMEZONE
BEGIN:VEVENT
DTSTART;TZID=America/Los_Angeles:20250729T160000
DTEND;TZID=America/Los_Angeles:20250729T173000
DTSTAMP:20260422T101659
CREATED:20250729T161352Z
LAST-MODIFIED:20250729T161352Z
UID:10003239-1753804800-1753810200@arabishway.com
SUMMARY:Living Heritage: Traditional Egyptian Crafts between Disappearance and Innovation
DESCRIPTION:This panel explores Egypt’s living heritage through its traditional crafts\, each one carrying centuries of cultural memory and identity. Despite facing economic and social pressures\, many of these crafts are being revived through creative entrepreneurship\, digital innovation\, and sustainable design. We highlight the voices and experiences of artisans\, examining how their work can be preserved\, reimagined\, and celebrated both in Egypt and around the world. \n  \nThis virtual lecture will be in English! Event link will be provided 30 minutes before the start of the session.
URL:https://arabishway.com/event/living-heritage-traditional-egyptian-crafts-between-disappearance-and-innovation/
LOCATION:Virtual
CATEGORIES:Lecture
ATTACH;FMTTYPE=image/jpeg:https://arabishway.com/wp-content/uploads/2025/07/Screenshot-2025-07-29-at-9.11.09-AM.jpg
END:VEVENT
END:VCALENDAR