BEGIN:VCALENDAR
VERSION:2.0
PRODID:-//ArabishWay - ECPv6.15.20//NONSGML v1.0//EN
CALSCALE:GREGORIAN
METHOD:PUBLISH
X-ORIGINAL-URL:https://arabishway.com
X-WR-CALDESC:Events for ArabishWay
REFRESH-INTERVAL;VALUE=DURATION:PT1H
X-Robots-Tag:noindex
X-PUBLISHED-TTL:PT1H
BEGIN:VTIMEZONE
TZID:America/Los_Angeles
BEGIN:DAYLIGHT
TZOFFSETFROM:-0800
TZOFFSETTO:-0700
TZNAME:PDT
DTSTART:20240310T100000
END:DAYLIGHT
BEGIN:STANDARD
TZOFFSETFROM:-0700
TZOFFSETTO:-0800
TZNAME:PST
DTSTART:20241103T090000
END:STANDARD
BEGIN:DAYLIGHT
TZOFFSETFROM:-0800
TZOFFSETTO:-0700
TZNAME:PDT
DTSTART:20250309T100000
END:DAYLIGHT
BEGIN:STANDARD
TZOFFSETFROM:-0700
TZOFFSETTO:-0800
TZNAME:PST
DTSTART:20251102T090000
END:STANDARD
BEGIN:DAYLIGHT
TZOFFSETFROM:-0800
TZOFFSETTO:-0700
TZNAME:PDT
DTSTART:20260308T100000
END:DAYLIGHT
BEGIN:STANDARD
TZOFFSETFROM:-0700
TZOFFSETTO:-0800
TZNAME:PST
DTSTART:20261101T090000
END:STANDARD
END:VTIMEZONE
BEGIN:VEVENT
DTSTART;TZID=America/Los_Angeles:20250630T100000
DTEND;TZID=America/Los_Angeles:20250630T113000
DTSTAMP:20260422T181416
CREATED:20250629T214758Z
LAST-MODIFIED:20250629T214758Z
UID:10003169-1751277600-1751283000@arabishway.com
SUMMARY:Virtual Briefing with Journalists on the Ground with Just Vision
DESCRIPTION:I invite you to join Just Vision\, +972 Magazine\, and Local Call on Monday\, June 30 at 1:00 PM ET / 8:00 PM Jerusalem time for a timely virtual briefing with journalists on the ground\, who will help make sense of the regional stakes of Israel’s assault on Iran\, the deepening humanitarian crisis in Gaza\, mounting repression in the West Bank\, and the growing threats to press freedom. Register here. \nI will be moderating the conversation alongside Haggai Matar (Director of +972 Magazine and Co-Director of Local Call)\, and our discussion will feature the following panel of writers and editors: \n\nMohammed Mhawish\, Contributing Writer\, +972 Magazine: In the midst of a genocide\, Mohammed covered the destruction of Gaza and its people from the ground. Now living in exile in the United States\, he writes about his homeland from abroad\, including recent work that focuses on documenting the lives\, culture\, and history of Gaza.\n\n\nOrly Noy\, Editor\, Local Call: Orly’s most recent work includes a searing analysis of the existential threats posed by the Israeli military’s hubris and a warning of the dangers of regime change fantasies. Her background as an Iranian-Israeli offers a unique perspective on developments in both societies.\nShatha Yaish\, West Bank Reporter\, +972 Magazine: Shatha\, who recently joined +972 after over a decade with AFP\, covers East Jerusalem and the West Bank\, most recently writing on the Israeli army’s use of the war with Iran as a pretext to seal off and lock down towns and cities throughout the West Bank.\nOren Ziv\, Staff Reporter\, Local Call: Oren covers topics ranging from refuseniks to military and settler violence in the West Bank. A photojournalist\, he’s been on the scene documenting the aftermath of missile strikes from Iran.\n\nPlease join us for this critical conversation by RSVPing here. A Zoom link will be provided upon registration.
URL:https://arabishway.com/event/virtual-briefing-with-journalists-on-the-ground-with-just-vision/
LOCATION:Virtual
CATEGORIES:Lecture
ATTACH;FMTTYPE=image/png:https://arabishway.com/wp-content/uploads/2025/06/Screenshot-2025-06-29-at-2.46.45 PM.png
END:VEVENT
END:VCALENDAR