BEGIN:VCALENDAR
VERSION:2.0
PRODID:-//ArabishWay - ECPv6.15.20//NONSGML v1.0//EN
CALSCALE:GREGORIAN
METHOD:PUBLISH
X-WR-CALNAME:ArabishWay
X-ORIGINAL-URL:https://arabishway.com
X-WR-CALDESC:Events for ArabishWay
REFRESH-INTERVAL;VALUE=DURATION:PT1H
X-Robots-Tag:noindex
X-PUBLISHED-TTL:PT1H
BEGIN:VTIMEZONE
TZID:America/Los_Angeles
BEGIN:DAYLIGHT
TZOFFSETFROM:-0800
TZOFFSETTO:-0700
TZNAME:PDT
DTSTART:20240310T100000
END:DAYLIGHT
BEGIN:STANDARD
TZOFFSETFROM:-0700
TZOFFSETTO:-0800
TZNAME:PST
DTSTART:20241103T090000
END:STANDARD
BEGIN:DAYLIGHT
TZOFFSETFROM:-0800
TZOFFSETTO:-0700
TZNAME:PDT
DTSTART:20250309T100000
END:DAYLIGHT
BEGIN:STANDARD
TZOFFSETFROM:-0700
TZOFFSETTO:-0800
TZNAME:PST
DTSTART:20251102T090000
END:STANDARD
BEGIN:DAYLIGHT
TZOFFSETFROM:-0800
TZOFFSETTO:-0700
TZNAME:PDT
DTSTART:20260308T100000
END:DAYLIGHT
BEGIN:STANDARD
TZOFFSETFROM:-0700
TZOFFSETTO:-0800
TZNAME:PST
DTSTART:20261101T090000
END:STANDARD
END:VTIMEZONE
BEGIN:VEVENT
DTSTART;TZID=America/Los_Angeles:20250606T090000
DTEND;TZID=America/Los_Angeles:20250606T110000
DTSTAMP:20260423T005053
CREATED:20250528T203144Z
LAST-MODIFIED:20250528T203144Z
UID:10003129-1749200400-1749207600@arabishway.com
SUMMARY:Virtual Lecture: Tatreez Symbolisms Interpreting Meaning in Palestinian Embroidery Motifs & Al Naksa 
DESCRIPTION:Virtual Lecture: Tatreez Symbolisms Interpreting Meaning in Palestinian Embroidery Motifs & Al Naksa 🗓 Friday\, June 6\, 2025 ⏰ 12:00 PM – 2:00 PM EST 📍 Online (Zoom link sent 24 hours prior) 🎟 Sliding scale registration 👤 Instructor: Wafa Ghnaim\, Dress Historian & Educator \nThis lecture commemorates the Six-Day War (June 5–10\, 1967)\, which began the ongoing Israeli military occupation of the West Bank\, Gaza Strip\, and East Jerusalem. In the wake of this seismic event\, tatreez shifted in its meaning and function as a form cultural expression. From the intimate labor of individual women’s hands to the international recognition of Palestinian embroidery by UNESCO in 2021 as Intangible Cultural Heritage\, tatreez continues to serve as a vessel of collective memory and a historical record of the Palestinian people.\nPhotograph by @m0nastic Chris Gale\n🔗 Register at the link in bio\n#Tatreez #PalestinianEmbroidery#AlNaksa #WafaGhnaim #artsed#arthistory
URL:https://arabishway.com/event/virtual-lecture-tatreez-symbolisms-interpreting-meaning-in-palestinian-embroidery-motifs-al-naksa/
LOCATION:Virtual
CATEGORIES:Art,Lecture/Panel Discussion
ATTACH;FMTTYPE=image/jpeg:https://arabishway.com/wp-content/uploads/2020/06/Palestine-Museum-Tatreez.jpg
END:VEVENT
END:VCALENDAR