BEGIN:VCALENDAR
VERSION:2.0
PRODID:-//ArabishWay - ECPv6.15.20//NONSGML v1.0//EN
CALSCALE:GREGORIAN
METHOD:PUBLISH
X-WR-CALNAME:ArabishWay
X-ORIGINAL-URL:https://arabishway.com
X-WR-CALDESC:Events for ArabishWay
REFRESH-INTERVAL;VALUE=DURATION:PT1H
X-Robots-Tag:noindex
X-PUBLISHED-TTL:PT1H
BEGIN:VTIMEZONE
TZID:America/Los_Angeles
BEGIN:DAYLIGHT
TZOFFSETFROM:-0800
TZOFFSETTO:-0700
TZNAME:PDT
DTSTART:20240310T100000
END:DAYLIGHT
BEGIN:STANDARD
TZOFFSETFROM:-0700
TZOFFSETTO:-0800
TZNAME:PST
DTSTART:20241103T090000
END:STANDARD
BEGIN:DAYLIGHT
TZOFFSETFROM:-0800
TZOFFSETTO:-0700
TZNAME:PDT
DTSTART:20250309T100000
END:DAYLIGHT
BEGIN:STANDARD
TZOFFSETFROM:-0700
TZOFFSETTO:-0800
TZNAME:PST
DTSTART:20251102T090000
END:STANDARD
BEGIN:DAYLIGHT
TZOFFSETFROM:-0800
TZOFFSETTO:-0700
TZNAME:PDT
DTSTART:20260308T100000
END:DAYLIGHT
BEGIN:STANDARD
TZOFFSETFROM:-0700
TZOFFSETTO:-0800
TZNAME:PST
DTSTART:20261101T090000
END:STANDARD
END:VTIMEZONE
BEGIN:VEVENT
DTSTART;TZID=America/Los_Angeles:20250411T130000
DTEND;TZID=America/Los_Angeles:20250411T150000
DTSTAMP:20260423T164430
CREATED:20250331T173733Z
LAST-MODIFIED:20250331T173946Z
UID:10002943-1744376400-1744383600@arabishway.com
SUMMARY:How We Got Here: Critical Reflections on Racism\, Deportation\, and Transphobia
DESCRIPTION:A teach-in featuring University of Washington faculty from American Ethnic Studies\, American Indian Studies\, Gender\, Women & Sexuality Studies\, History\, Jewish Studies\, Middle East Studies\, Political Science\, and the Law School to frame the current moment and to organize out of it. \n  \nwalker-ames hall room 225
URL:https://arabishway.com/event/how-we-got-here/
LOCATION:Kane Hall – University of Washington\, 4069 Spokane Ln 98105\, Seattle\, WA\, 98105\, United States
CATEGORIES:Lecture
ATTACH;FMTTYPE=image/png:https://arabishway.com/wp-content/uploads/2023/03/UW-logo.png
END:VEVENT
BEGIN:VEVENT
DTSTART;TZID=America/Los_Angeles:20250411T190000
DTEND;TZID=America/Los_Angeles:20250411T210000
DTSTAMP:20260423T164430
CREATED:20250331T220438Z
LAST-MODIFIED:20250331T220713Z
UID:10002990-1744398000-1744405200@arabishway.com
SUMMARY:Dr. Mimi Syed:  Her Work In Gaza
DESCRIPTION:We are pleased to welcome Dr. Mimi Syed in honor of Rachel Corrie’s birthday.  Dr. Syed is an emergency physician working in our community and will share her experience treating children in Gaza this past year. \n 
URL:https://arabishway.com/event/dr-mimi-syed-her-work-in-gaza/
LOCATION:the United Churches of Olympia\, 110 11th Ave SE Ste 210\, Olympia\, WA\, 98501-2253
CATEGORIES:Lecture/Panel Discussion,Social Justice
ATTACH;FMTTYPE=image/png:https://arabishway.com/wp-content/uploads/2025/03/Screenshot-2025-03-31-at-3.01.31 PM.png
END:VEVENT
END:VCALENDAR