BEGIN:VCALENDAR
VERSION:2.0
PRODID:-//ArabishWay - ECPv6.15.20//NONSGML v1.0//EN
CALSCALE:GREGORIAN
METHOD:PUBLISH
X-WR-CALNAME:ArabishWay
X-ORIGINAL-URL:https://arabishway.com
X-WR-CALDESC:Events for ArabishWay
REFRESH-INTERVAL;VALUE=DURATION:PT1H
X-Robots-Tag:noindex
X-PUBLISHED-TTL:PT1H
BEGIN:VTIMEZONE
TZID:America/Los_Angeles
BEGIN:DAYLIGHT
TZOFFSETFROM:-0800
TZOFFSETTO:-0700
TZNAME:PDT
DTSTART:20240310T100000
END:DAYLIGHT
BEGIN:STANDARD
TZOFFSETFROM:-0700
TZOFFSETTO:-0800
TZNAME:PST
DTSTART:20241103T090000
END:STANDARD
BEGIN:DAYLIGHT
TZOFFSETFROM:-0800
TZOFFSETTO:-0700
TZNAME:PDT
DTSTART:20250309T100000
END:DAYLIGHT
BEGIN:STANDARD
TZOFFSETFROM:-0700
TZOFFSETTO:-0800
TZNAME:PST
DTSTART:20251102T090000
END:STANDARD
BEGIN:DAYLIGHT
TZOFFSETFROM:-0800
TZOFFSETTO:-0700
TZNAME:PDT
DTSTART:20260308T100000
END:DAYLIGHT
BEGIN:STANDARD
TZOFFSETFROM:-0700
TZOFFSETTO:-0800
TZNAME:PST
DTSTART:20261101T090000
END:STANDARD
END:VTIMEZONE
BEGIN:VEVENT
DTSTART;TZID=America/Los_Angeles:20250321T170000
DTEND;TZID=America/Los_Angeles:20250321T180000
DTSTAMP:20260423T162928
CREATED:20250312T234646Z
LAST-MODIFIED:20250312T234646Z
UID:10002909-1742576400-1742580000@arabishway.com
SUMMARY:WEBINAR: ON THIRD WORLD FEMINISM & THE LIBERATION OF PALESTINE
DESCRIPTION:Join the Palestinian Feminist Collective and CODEPINK during Women’s History Month for a popular education webinar on the revolutionary living histories and tradition of Third World feminist and women’s movements. \nTogether\, we’ll learn how we can harness their teachings\, tools\, and legacies to inform our movement for Palestine and build a future free from oppression and systemic subjugation. \n  \nDATE: MARCH 21 \nTIME: 8 PM ET \nREGISTER NOW \n\n\n\n\n\n\n\n\n\n\n\n\n\n\n\nREGISTER NOW!
URL:https://arabishway.com/event/webinar-on-third-world-feminism-the-liberation-of-palestine/
LOCATION:Virtual
CATEGORIES:Lecture,Social Justice
ATTACH;FMTTYPE=image/png:https://arabishway.com/wp-content/uploads/2025/03/Screenshot-2025-03-12-at-4.43.43 PM.png
END:VEVENT
END:VCALENDAR