BEGIN:VCALENDAR
VERSION:2.0
PRODID:-//ArabishWay - ECPv6.15.20//NONSGML v1.0//EN
CALSCALE:GREGORIAN
METHOD:PUBLISH
X-ORIGINAL-URL:https://arabishway.com
X-WR-CALDESC:Events for ArabishWay
REFRESH-INTERVAL;VALUE=DURATION:PT1H
X-Robots-Tag:noindex
X-PUBLISHED-TTL:PT1H
BEGIN:VTIMEZONE
TZID:America/Los_Angeles
BEGIN:DAYLIGHT
TZOFFSETFROM:-0800
TZOFFSETTO:-0700
TZNAME:PDT
DTSTART:20240310T100000
END:DAYLIGHT
BEGIN:STANDARD
TZOFFSETFROM:-0700
TZOFFSETTO:-0800
TZNAME:PST
DTSTART:20241103T090000
END:STANDARD
BEGIN:DAYLIGHT
TZOFFSETFROM:-0800
TZOFFSETTO:-0700
TZNAME:PDT
DTSTART:20250309T100000
END:DAYLIGHT
BEGIN:STANDARD
TZOFFSETFROM:-0700
TZOFFSETTO:-0800
TZNAME:PST
DTSTART:20251102T090000
END:STANDARD
BEGIN:DAYLIGHT
TZOFFSETFROM:-0800
TZOFFSETTO:-0700
TZNAME:PDT
DTSTART:20260308T100000
END:DAYLIGHT
BEGIN:STANDARD
TZOFFSETFROM:-0700
TZOFFSETTO:-0800
TZNAME:PST
DTSTART:20261101T090000
END:STANDARD
END:VTIMEZONE
BEGIN:VEVENT
DTSTART;TZID=America/Los_Angeles:20250206T183000
DTEND;TZID=America/Los_Angeles:20250206T200000
DTSTAMP:20260423T163007
CREATED:20241030T204741Z
LAST-MODIFIED:20241030T223452Z
UID:10002666-1738866600-1738872000@arabishway.com
SUMMARY:The Role of Art and Journalism in Society (Hybrid inperson & virtual)
DESCRIPTION:There exists a pervasive illusion that journalism embodies truth and objectivity\, yet it is fundamentally entrenched in a Eurocentric perspective that has long exacerbated social polarization. What ideological forces underpin this medium\, enabling it to perpetuate such divisions?  \nArtists\, as individuals deeply connected to society and its multifaceted truths\, strive to reveal these truths through various forms. Positioned on the precipice of a changing world\, artists maintain a profound grasp on truth. How can artists intervene to redeem journalism from its historical complicity in supporting hegemonic ideologies? Can the creative and critical sensibilities of artists unearth and challenge the concealed biases and contradictions that journalism often obscures under the guise of objectivity? In what ways can artistic endeavors disrupt the entrenched Eurocentric narratives and foster a more inclusive and emancipatory discourse within the media landscape? How can the aesthetic and imaginative dimensions of art confront and transform the existing power structures that shape journalistic practice? What role can artists play in reimagining journalism as a medium of genuine critical reflection and societal truth?  \nRegistration opens on December 12\, 2024.
URL:https://arabishway.com/event/the-role-of-art-and-journalism-in-society/
LOCATION:Town Hall\, 1119 8th Ave\, Seattle\, WA\, 98101\, United States
CATEGORIES:Lecture
ATTACH;FMTTYPE=image/jpeg:https://arabishway.com/wp-content/uploads/2024/10/300x300_Wesaam-Al-Badry.jpg
END:VEVENT
END:VCALENDAR