BEGIN:VCALENDAR
VERSION:2.0
PRODID:-//ArabishWay - ECPv6.15.20//NONSGML v1.0//EN
CALSCALE:GREGORIAN
METHOD:PUBLISH
X-WR-CALNAME:ArabishWay
X-ORIGINAL-URL:https://arabishway.com
X-WR-CALDESC:Events for ArabishWay
REFRESH-INTERVAL;VALUE=DURATION:PT1H
X-Robots-Tag:noindex
X-PUBLISHED-TTL:PT1H
BEGIN:VTIMEZONE
TZID:America/Los_Angeles
BEGIN:DAYLIGHT
TZOFFSETFROM:-0800
TZOFFSETTO:-0700
TZNAME:PDT
DTSTART:20240310T100000
END:DAYLIGHT
BEGIN:STANDARD
TZOFFSETFROM:-0700
TZOFFSETTO:-0800
TZNAME:PST
DTSTART:20241103T090000
END:STANDARD
BEGIN:DAYLIGHT
TZOFFSETFROM:-0800
TZOFFSETTO:-0700
TZNAME:PDT
DTSTART:20250309T100000
END:DAYLIGHT
BEGIN:STANDARD
TZOFFSETFROM:-0700
TZOFFSETTO:-0800
TZNAME:PST
DTSTART:20251102T090000
END:STANDARD
BEGIN:DAYLIGHT
TZOFFSETFROM:-0800
TZOFFSETTO:-0700
TZNAME:PDT
DTSTART:20260308T100000
END:DAYLIGHT
BEGIN:STANDARD
TZOFFSETFROM:-0700
TZOFFSETTO:-0800
TZNAME:PST
DTSTART:20261101T090000
END:STANDARD
END:VTIMEZONE
BEGIN:VEVENT
DTSTART;TZID=America/Los_Angeles:20250114T190000
DTEND;TZID=America/Los_Angeles:20250114T210000
DTSTAMP:20260424T003114
CREATED:20250110T202806Z
LAST-MODIFIED:20250110T202835Z
UID:10002804-1736881200-1736888400@arabishway.com
SUMMARY:Lecture: Why Palestine Studies Now?
DESCRIPTION:This talk draws attention the importance of Palestinian history and humanity\, why both are central to an understanding of the modern Middle East and to contemporary aspirations for liberation and freedom\, and why both have been consistently denied and removed from view in order to cohere modern Western liberalism.\nRSVP here. \nThis event is free and open to the public.  \nAbout the speaker\nDr. Ussama Makdisi is the inaugural May Ziadeh Chair in Palestinian and Arab Studies\, Professor of History\, and Chancellor’s Professor at the University of California Berkeley. He was previously Professor of History and the first holder of the Arab-American Educational Foundation Chair of Arab Studies at Rice University in Houston. In 2012-2013\, Makdisi was an invited Resident Fellow at the Wissenschaftskolleg zu Berlin (Institute for Advanced Study\, Berlin). TheCarnegie Corporation named Makdisi a 2009 Carnegie Scholar as part of its effort to promote original scholarship regarding Muslim societies and communities\, both in the United States and abroad. Makdisi was awarded the Berlin Prize by the American Academy of Berlin. \nProfessor Makdisi’s most recent book “Age of Coexistence: The Ecumenical Frame and the Making of the Modern Arab World” was published in 2019 by the University of California Press. He is also the author of “Faith Misplaced: the Broken Promise of U.S.-Arab Relations\, 1820-2001” (Public Affairs\, 2010). His previous books include “Artillery of Heaven: American Missionaries and the Failed Conversion of the Middle East” (Cornell University Press\, 2008)\, which was the winner of the 2008 Albert Hourani Book Award from the Middle East Studies Association\, the 2009 John Hope Franklin Prize of the American Studies Association\, and a co-winner of the 2009 British-Kuwait Friendship Society Book Prize given by the British Society for Middle Eastern Studies. He is also the author of “The Culture of Sectarianism: Community\, History\, and Violence in Nineteenth-Century Ottoman Lebanon” (University of California Press\, 2000). Makdisi co-hosts a podcast called Makdisi Street. \nQuestions? Email kasaba@uw.edu 
URL:https://arabishway.com/event/18169/
LOCATION:Kane Hall – University of Washington\, 4069 Spokane Ln 98105\, Seattle\, WA\, 98105\, United States
CATEGORIES:Lecture
ATTACH;FMTTYPE=image/png:https://arabishway.com/wp-content/uploads/2025/01/Screenshot-2025-01-10-at-12.26.40 PM.png
END:VEVENT
END:VCALENDAR