BEGIN:VCALENDAR
VERSION:2.0
PRODID:-//ArabishWay - ECPv6.15.20//NONSGML v1.0//EN
CALSCALE:GREGORIAN
METHOD:PUBLISH
X-WR-CALNAME:ArabishWay
X-ORIGINAL-URL:https://arabishway.com
X-WR-CALDESC:Events for ArabishWay
REFRESH-INTERVAL;VALUE=DURATION:PT1H
X-Robots-Tag:noindex
X-PUBLISHED-TTL:PT1H
BEGIN:VTIMEZONE
TZID:America/Los_Angeles
BEGIN:DAYLIGHT
TZOFFSETFROM:-0800
TZOFFSETTO:-0700
TZNAME:PDT
DTSTART:20240310T100000
END:DAYLIGHT
BEGIN:STANDARD
TZOFFSETFROM:-0700
TZOFFSETTO:-0800
TZNAME:PST
DTSTART:20241103T090000
END:STANDARD
BEGIN:DAYLIGHT
TZOFFSETFROM:-0800
TZOFFSETTO:-0700
TZNAME:PDT
DTSTART:20250309T100000
END:DAYLIGHT
BEGIN:STANDARD
TZOFFSETFROM:-0700
TZOFFSETTO:-0800
TZNAME:PST
DTSTART:20251102T090000
END:STANDARD
BEGIN:DAYLIGHT
TZOFFSETFROM:-0800
TZOFFSETTO:-0700
TZNAME:PDT
DTSTART:20260308T100000
END:DAYLIGHT
BEGIN:STANDARD
TZOFFSETFROM:-0700
TZOFFSETTO:-0800
TZNAME:PST
DTSTART:20261101T090000
END:STANDARD
END:VTIMEZONE
BEGIN:VEVENT
DTSTART;TZID=America/Los_Angeles:20250110T191500
DTEND;TZID=America/Los_Angeles:20250110T210000
DTSTAMP:20260424T003102
CREATED:20250110T191637Z
LAST-MODIFIED:20250110T191637Z
UID:10002797-1736536500-1736542800@arabishway.com
SUMMARY:The Palestinian Struggle for Liberation and Shifting Global Sympathy Towards Palestinians
DESCRIPTION:Join us for a discussion for ages 14+ with Dr. Karam Dana\, Palestinian American academic\, professor at UW Bothell\, founding director of AMRI\, award-winning educator\, and author of To Stand with Palestine. \nThe recent war and genocide in Palestine has shed light on the historical injustices of prolonged Israeli military occupation\, settlement expansion\, and the worsening daily struggles of Palestinian life. This lecture will contextualize the Palestinian struggle for liberation and highlight the causes of the growing global shift in public sympathies toward Palestinians\, particularly in the United States. \nDetails: \n\nFriday\, January 10th\n7:15 pm (After Isha)\nMAPS Redmond
URL:https://arabishway.com/event/the-palestinian-struggle-for-liberation-and-shifting-global-sympathy-towards-palestinians/
LOCATION:Muslim Assocation of Puget Sounds (MAPS)\, 17550 NE 67th Ct\, Redmond\, WA\, 98052\, United States
CATEGORIES:Lecture
ATTACH;FMTTYPE=image/jpeg:https://arabishway.com/wp-content/uploads/2025/01/97452.jpg
END:VEVENT
END:VCALENDAR