BEGIN:VCALENDAR
VERSION:2.0
PRODID:-//ArabishWay - ECPv6.15.20//NONSGML v1.0//EN
CALSCALE:GREGORIAN
METHOD:PUBLISH
X-WR-CALNAME:ArabishWay
X-ORIGINAL-URL:https://arabishway.com
X-WR-CALDESC:Events for ArabishWay
REFRESH-INTERVAL;VALUE=DURATION:PT1H
X-Robots-Tag:noindex
X-PUBLISHED-TTL:PT1H
BEGIN:VTIMEZONE
TZID:America/Los_Angeles
BEGIN:DAYLIGHT
TZOFFSETFROM:-0800
TZOFFSETTO:-0700
TZNAME:PDT
DTSTART:20230312T100000
END:DAYLIGHT
BEGIN:STANDARD
TZOFFSETFROM:-0700
TZOFFSETTO:-0800
TZNAME:PST
DTSTART:20231105T090000
END:STANDARD
BEGIN:DAYLIGHT
TZOFFSETFROM:-0800
TZOFFSETTO:-0700
TZNAME:PDT
DTSTART:20240310T100000
END:DAYLIGHT
BEGIN:STANDARD
TZOFFSETFROM:-0700
TZOFFSETTO:-0800
TZNAME:PST
DTSTART:20241103T090000
END:STANDARD
BEGIN:DAYLIGHT
TZOFFSETFROM:-0800
TZOFFSETTO:-0700
TZNAME:PDT
DTSTART:20250309T100000
END:DAYLIGHT
BEGIN:STANDARD
TZOFFSETFROM:-0700
TZOFFSETTO:-0800
TZNAME:PST
DTSTART:20251102T090000
END:STANDARD
END:VTIMEZONE
BEGIN:VEVENT
DTSTART;TZID=America/Los_Angeles:20240814T053000
DTEND;TZID=America/Los_Angeles:20240814T203000
DTSTAMP:20260424T133121
CREATED:20240729T195114Z
LAST-MODIFIED:20240731T180911Z
UID:10002538-1723613400-1723667400@arabishway.com
SUMMARY:afire: Global Youth Summit
DESCRIPTION:afikra Global Youth Summit – Shaped by the Algorithm is a virtual event on August 14th\, 2024 designed to bring together high-school students and educators from around the world. This year’s summit features panels with leading professionals from the worlds of journalism\, music\, startups\, economics\, and politics in the Arab world. It is free and open to all. \n 
URL:https://arabishway.com/event/17266/
LOCATION:Virtual
CATEGORIES:For Kids,Lecture,Workshop
ATTACH;FMTTYPE=image/png:https://arabishway.com/wp-content/uploads/2024/07/Screenshot-2024-07-29-at-12.50.19 PM.png
END:VEVENT
END:VCALENDAR