BEGIN:VCALENDAR
VERSION:2.0
PRODID:-//ArabishWay - ECPv6.15.20//NONSGML v1.0//EN
CALSCALE:GREGORIAN
METHOD:PUBLISH
X-WR-CALNAME:ArabishWay
X-ORIGINAL-URL:https://arabishway.com
X-WR-CALDESC:Events for ArabishWay
REFRESH-INTERVAL;VALUE=DURATION:PT1H
X-Robots-Tag:noindex
X-PUBLISHED-TTL:PT1H
BEGIN:VTIMEZONE
TZID:America/Los_Angeles
BEGIN:DAYLIGHT
TZOFFSETFROM:-0800
TZOFFSETTO:-0700
TZNAME:PDT
DTSTART:20230312T100000
END:DAYLIGHT
BEGIN:STANDARD
TZOFFSETFROM:-0700
TZOFFSETTO:-0800
TZNAME:PST
DTSTART:20231105T090000
END:STANDARD
BEGIN:DAYLIGHT
TZOFFSETFROM:-0800
TZOFFSETTO:-0700
TZNAME:PDT
DTSTART:20240310T100000
END:DAYLIGHT
BEGIN:STANDARD
TZOFFSETFROM:-0700
TZOFFSETTO:-0800
TZNAME:PST
DTSTART:20241103T090000
END:STANDARD
BEGIN:DAYLIGHT
TZOFFSETFROM:-0800
TZOFFSETTO:-0700
TZNAME:PDT
DTSTART:20250309T100000
END:DAYLIGHT
BEGIN:STANDARD
TZOFFSETFROM:-0700
TZOFFSETTO:-0800
TZNAME:PST
DTSTART:20251102T090000
END:STANDARD
END:VTIMEZONE
BEGIN:VEVENT
DTSTART;TZID=America/Los_Angeles:20240627T090000
DTEND;TZID=America/Los_Angeles:20240627T110000
DTSTAMP:20260424T164520
CREATED:20240626T200843Z
LAST-MODIFIED:20240626T200843Z
UID:10002512-1719478800-1719486000@arabishway.com
SUMMARY:Targeted Truth: The Assault on Palestinian Journalists
DESCRIPTION:Join us on Thursday\, June 27 at 12 p.m. EST / 7 p.m. Jerusalem for a special panel: “Targeted Truth: The Assault on Palestinian Journalists\,” which highlights the work of +972 magazine.\n\nFor the last eight months\, +972 Magazine has been bringing vital and critical perspectives and lesser-heard voices from Palestine/Israel and beyond. The magazine has been consistently covering Israel’s targeting of Palestinian journalists and has been working to amplify Palestinian voices from the ground to counter the efforts to erase them.\n\nModerated by +972 Magazine’s editor-in-chief\, Ghousoon Bisharat\, the event will bring views and analysis from:\n\nMahmoud Mushtaha\, a journalist and human rights activist from Gaza City\, currently living in Cairo.\nMohammed R. Mhawish\, a journalist and writer from Gaza City\, currently living in Cairo\, and a contributor to the book “A Land With A People — Palestinians and Jews Confront Zionism.”\nFatima AbdulKarim\, a journalist based in Ramallah.\nShuruq As’ad\, a journalist and media trainer with more than 30 years of experience\, and the spokesperson of the Palestinian Journalists’ Syndicate.\nAbd Elkader Abd Elhalim\, a reporter and social media content writer at Radio Nas\, a radio station based in Nazareth.
URL:https://arabishway.com/event/targeted-truth-the-assault-on-palestinian-journalists/
LOCATION:Virtual
CATEGORIES:Lecture,Lecture/Panel Discussion
ATTACH;FMTTYPE=image/png:https://arabishway.com/wp-content/uploads/2024/06/Screenshot-2024-06-26-at-1.08.00 PM.png
END:VEVENT
END:VCALENDAR