BEGIN:VCALENDAR
VERSION:2.0
PRODID:-//ArabishWay - ECPv6.15.20//NONSGML v1.0//EN
CALSCALE:GREGORIAN
METHOD:PUBLISH
X-WR-CALNAME:ArabishWay
X-ORIGINAL-URL:https://arabishway.com
X-WR-CALDESC:Events for ArabishWay
REFRESH-INTERVAL;VALUE=DURATION:PT1H
X-Robots-Tag:noindex
X-PUBLISHED-TTL:PT1H
BEGIN:VTIMEZONE
TZID:America/Los_Angeles
BEGIN:DAYLIGHT
TZOFFSETFROM:-0800
TZOFFSETTO:-0700
TZNAME:PDT
DTSTART:20230312T100000
END:DAYLIGHT
BEGIN:STANDARD
TZOFFSETFROM:-0700
TZOFFSETTO:-0800
TZNAME:PST
DTSTART:20231105T090000
END:STANDARD
BEGIN:DAYLIGHT
TZOFFSETFROM:-0800
TZOFFSETTO:-0700
TZNAME:PDT
DTSTART:20240310T100000
END:DAYLIGHT
BEGIN:STANDARD
TZOFFSETFROM:-0700
TZOFFSETTO:-0800
TZNAME:PST
DTSTART:20241103T090000
END:STANDARD
BEGIN:DAYLIGHT
TZOFFSETFROM:-0800
TZOFFSETTO:-0700
TZNAME:PDT
DTSTART:20250309T100000
END:DAYLIGHT
BEGIN:STANDARD
TZOFFSETFROM:-0700
TZOFFSETTO:-0800
TZNAME:PST
DTSTART:20251102T090000
END:STANDARD
END:VTIMEZONE
BEGIN:VEVENT
DTSTART;TZID=America/Los_Angeles:20240529T190000
DTEND;TZID=America/Los_Angeles:20240529T203000
DTSTAMP:20260424T164756
CREATED:20240528T170102Z
LAST-MODIFIED:20240528T170102Z
UID:10002420-1717009200-1717014600@arabishway.com
SUMMARY:Resistance and Repression Discussion and Q&A
DESCRIPTION:What: Join Samidoun Seattle for a panel and conversation on the increased repression we are facing in occupied Palestine and here in the U.S. along with the increased support for Palestinian liberation across the world. Our panel includes author and journalist Mariam Barghouti and Nizar Mansour\, a longtime Palestinian activist in the community\, and Samidoun Seattle organizer Bissan Barghouti.\nMore info and registration link: tinyurl.com/samidoun531
URL:https://arabishway.com/event/resistance-and-repression-discussion-and-qa/
LOCATION:Contact Host for Location Details
CATEGORIES:Lecture/Panel Discussion,Social Justice
ATTACH;FMTTYPE=image/png:https://arabishway.com/wp-content/uploads/2023/04/Samidoun_Seattle.png
END:VEVENT
END:VCALENDAR