BEGIN:VCALENDAR
VERSION:2.0
PRODID:-//ArabishWay - ECPv6.15.20//NONSGML v1.0//EN
CALSCALE:GREGORIAN
METHOD:PUBLISH
X-WR-CALNAME:ArabishWay
X-ORIGINAL-URL:https://arabishway.com
X-WR-CALDESC:Events for ArabishWay
REFRESH-INTERVAL;VALUE=DURATION:PT1H
X-Robots-Tag:noindex
X-PUBLISHED-TTL:PT1H
BEGIN:VTIMEZONE
TZID:America/Los_Angeles
BEGIN:DAYLIGHT
TZOFFSETFROM:-0800
TZOFFSETTO:-0700
TZNAME:PDT
DTSTART:20230312T100000
END:DAYLIGHT
BEGIN:STANDARD
TZOFFSETFROM:-0700
TZOFFSETTO:-0800
TZNAME:PST
DTSTART:20231105T090000
END:STANDARD
BEGIN:DAYLIGHT
TZOFFSETFROM:-0800
TZOFFSETTO:-0700
TZNAME:PDT
DTSTART:20240310T100000
END:DAYLIGHT
BEGIN:STANDARD
TZOFFSETFROM:-0700
TZOFFSETTO:-0800
TZNAME:PST
DTSTART:20241103T090000
END:STANDARD
BEGIN:DAYLIGHT
TZOFFSETFROM:-0800
TZOFFSETTO:-0700
TZNAME:PDT
DTSTART:20250309T100000
END:DAYLIGHT
BEGIN:STANDARD
TZOFFSETFROM:-0700
TZOFFSETTO:-0800
TZNAME:PST
DTSTART:20251102T090000
END:STANDARD
END:VTIMEZONE
BEGIN:VEVENT
DTSTART;TZID=America/Los_Angeles:20240504T160000
DTEND;TZID=America/Los_Angeles:20240504T200000
DTSTAMP:20260424T182611
CREATED:20240420T165313Z
LAST-MODIFIED:20240420T165313Z
UID:10002368-1714838400-1714852800@arabishway.com
SUMMARY:Centering Palestine: Narratives Challenging Injustice
DESCRIPTION:Join us for an evening of uplifting voices and stories that challenge dominant narratives on injustice. Our esteemed speakers Miko Peled and Karam Dana will share their experiences and analyses that provide nuance and context for the Palestinian struggle.  \nThis thought-provoking event will go beyond surface-level discourse to build greater understanding and solidarity. All ticket proceeds will cover event and venue expenses. Any additional profits will be donated to charity.  \nThis is a rare opportunity to listen\, ask questions\, and engage with realities in Palestine. Together\, we can confront oppression and reimagine paths toward justice. Your attendance and support makes this event possible.
URL:https://arabishway.com/event/centering-palestine-narratives-challenging-injustice/
LOCATION:Kane Hall – University of Washington\, 4069 Spokane Ln 98105\, Seattle\, WA\, 98105\, United States
CATEGORIES:Lecture/Panel Discussion
ATTACH;FMTTYPE=image/jpeg:https://arabishway.com/wp-content/uploads/2024/04/WhatsApp-Image-2024-04-18-at-21.40.01.jpeg
END:VEVENT
END:VCALENDAR