BEGIN:VCALENDAR
VERSION:2.0
PRODID:-//ArabishWay - ECPv6.15.20//NONSGML v1.0//EN
CALSCALE:GREGORIAN
METHOD:PUBLISH
X-WR-CALNAME:ArabishWay
X-ORIGINAL-URL:https://arabishway.com
X-WR-CALDESC:Events for ArabishWay
REFRESH-INTERVAL;VALUE=DURATION:PT1H
X-Robots-Tag:noindex
X-PUBLISHED-TTL:PT1H
BEGIN:VTIMEZONE
TZID:America/Los_Angeles
BEGIN:DAYLIGHT
TZOFFSETFROM:-0800
TZOFFSETTO:-0700
TZNAME:PDT
DTSTART:20220313T100000
END:DAYLIGHT
BEGIN:STANDARD
TZOFFSETFROM:-0700
TZOFFSETTO:-0800
TZNAME:PST
DTSTART:20221106T090000
END:STANDARD
BEGIN:DAYLIGHT
TZOFFSETFROM:-0800
TZOFFSETTO:-0700
TZNAME:PDT
DTSTART:20230312T100000
END:DAYLIGHT
BEGIN:STANDARD
TZOFFSETFROM:-0700
TZOFFSETTO:-0800
TZNAME:PST
DTSTART:20231105T090000
END:STANDARD
BEGIN:DAYLIGHT
TZOFFSETFROM:-0800
TZOFFSETTO:-0700
TZNAME:PDT
DTSTART:20240310T100000
END:DAYLIGHT
BEGIN:STANDARD
TZOFFSETFROM:-0700
TZOFFSETTO:-0800
TZNAME:PST
DTSTART:20241103T090000
END:STANDARD
END:VTIMEZONE
BEGIN:VEVENT
DTSTART;TZID=America/Los_Angeles:20231129T073000
DTEND;TZID=America/Los_Angeles:20231129T090000
DTSTAMP:20260425T032126
CREATED:20231128T234314Z
LAST-MODIFIED:20231128T234314Z
UID:10002045-1701243000-1701248400@arabishway.com
SUMMARY:The Legacies of Edward W Said: Academic Praxis and the Question of Palestine: online panel discussion
DESCRIPTION:Sijal Institute invites you to join the upcoming online panel discussion in partnership with TWAILR entitled “The Legacies of Edward W Said: Academic Praxis and the Question of Palestine.”\nRegister via the link in our bio \nيدعوكم معهد سجال لحضور حلقة نقاشية باللغة الإنجليزية عبر الإنترنت بالتعاون مع Third World Approaches to International Law Review (TWAILR) عنوانها“The Legacies of Edward W Said: Academic Praxis and the Question of Palestine”.\nنرجو التسجيل لمن يرغب بالحضور عبر هذا الرابط (يمكن إيجاده على صفحتنا الرئيسية أيضًا): \nhttps://rb.gy/kh3j6b
URL:https://arabishway.com/event/the-legacies-of-edward-w-said-academic-praxis-and-the-question-of-palestine-online-panel-discussion/
LOCATION:Virtual
CATEGORIES:Lecture,Lecture/Panel Discussion
ATTACH;FMTTYPE=image/png:https://arabishway.com/wp-content/uploads/2023/11/Screenshot-2023-11-28-at-3.40.21 PM.png
END:VEVENT
END:VCALENDAR