BEGIN:VCALENDAR
VERSION:2.0
PRODID:-//ArabishWay - ECPv6.15.20//NONSGML v1.0//EN
CALSCALE:GREGORIAN
METHOD:PUBLISH
X-WR-CALNAME:ArabishWay
X-ORIGINAL-URL:https://arabishway.com
X-WR-CALDESC:Events for ArabishWay
REFRESH-INTERVAL;VALUE=DURATION:PT1H
X-Robots-Tag:noindex
X-PUBLISHED-TTL:PT1H
BEGIN:VTIMEZONE
TZID:America/Los_Angeles
BEGIN:DAYLIGHT
TZOFFSETFROM:-0800
TZOFFSETTO:-0700
TZNAME:PDT
DTSTART:20220313T100000
END:DAYLIGHT
BEGIN:STANDARD
TZOFFSETFROM:-0700
TZOFFSETTO:-0800
TZNAME:PST
DTSTART:20221106T090000
END:STANDARD
BEGIN:DAYLIGHT
TZOFFSETFROM:-0800
TZOFFSETTO:-0700
TZNAME:PDT
DTSTART:20230312T100000
END:DAYLIGHT
BEGIN:STANDARD
TZOFFSETFROM:-0700
TZOFFSETTO:-0800
TZNAME:PST
DTSTART:20231105T090000
END:STANDARD
BEGIN:DAYLIGHT
TZOFFSETFROM:-0800
TZOFFSETTO:-0700
TZNAME:PDT
DTSTART:20240310T100000
END:DAYLIGHT
BEGIN:STANDARD
TZOFFSETFROM:-0700
TZOFFSETTO:-0800
TZNAME:PST
DTSTART:20241103T090000
END:STANDARD
END:VTIMEZONE
BEGIN:VEVENT
DTSTART;TZID=America/Los_Angeles:20231029T090000
DTEND;TZID=America/Los_Angeles:20231029T110000
DTSTAMP:20260425T100837
CREATED:20231026T214551Z
LAST-MODIFIED:20231026T214551Z
UID:10001990-1698570000-1698577200@arabishway.com
SUMMARY:Providing the Palestinian Perspective on the Current Events in Gaza [Virtual]
DESCRIPTION:Please click the above underlined title of the event to go to the registration page.\n\n\nThis is a Hybrid Event\, meaning you can attend virtually via Zoom or\, in-person at the Palestine Museum US\, 1764 Litchfield Turnpike\, Woodbridge\, Connecticut\, USA. The program begins at 2:00 PM US EDT; 20:00 Europe; 21:00 Palestine Time. \nSpecial Rapporteur on the situation of human rights in the Palestinian territories occupied since 1967\, Francesca Albanese will participate in the Palestine Museum US Open House Event providing insight into the legal implications of Israeli actions in Gaza. \nPalestine Museum US Open House\nProviding the Palestinian Perspective on the Current Events in Gaza\nWe would like to announce that Palestine Museum US will be hosting an open house event to shed light on the current events in Gaza. In light of the Western media’s biased coverage and one-sided narrative that often favors Israel\, it is crucial to provide an alternative perspective that delves into the historical context and Israel’s actions over the past 75 years that have contributed to the current situation. Our aim is to present a comprehensive understanding of the complex dynamics at play and offer an opportunity for visitors to uncover the true facts. By joining us at the open house\, attendees will have the chance to learn about the rich historical background of Palestine and gain valuable insights that are often omitted from mainstream narratives. We invite all interested individuals to come and engage in meaningful conversations that have the potential to broaden horizons and foster a more comprehensive understanding of the Palestinian struggle for freedom and justice.
URL:https://arabishway.com/event/providing-the-palestinian-perspective-on-the-current-events-in-gaza-virtual/
LOCATION:Virtual
CATEGORIES:Lecture
END:VEVENT
END:VCALENDAR