BEGIN:VCALENDAR
VERSION:2.0
PRODID:-//ArabishWay - ECPv6.15.20//NONSGML v1.0//EN
CALSCALE:GREGORIAN
METHOD:PUBLISH
X-ORIGINAL-URL:https://arabishway.com
X-WR-CALDESC:Events for ArabishWay
REFRESH-INTERVAL;VALUE=DURATION:PT1H
X-Robots-Tag:noindex
X-PUBLISHED-TTL:PT1H
BEGIN:VTIMEZONE
TZID:America/Los_Angeles
BEGIN:DAYLIGHT
TZOFFSETFROM:-0800
TZOFFSETTO:-0700
TZNAME:PDT
DTSTART:20250309T100000
END:DAYLIGHT
BEGIN:STANDARD
TZOFFSETFROM:-0700
TZOFFSETTO:-0800
TZNAME:PST
DTSTART:20251102T090000
END:STANDARD
BEGIN:DAYLIGHT
TZOFFSETFROM:-0800
TZOFFSETTO:-0700
TZNAME:PDT
DTSTART:20260308T100000
END:DAYLIGHT
BEGIN:STANDARD
TZOFFSETFROM:-0700
TZOFFSETTO:-0800
TZNAME:PST
DTSTART:20261101T090000
END:STANDARD
BEGIN:DAYLIGHT
TZOFFSETFROM:-0800
TZOFFSETTO:-0700
TZNAME:PDT
DTSTART:20270314T100000
END:DAYLIGHT
BEGIN:STANDARD
TZOFFSETFROM:-0700
TZOFFSETTO:-0800
TZNAME:PST
DTSTART:20271107T090000
END:STANDARD
END:VTIMEZONE
BEGIN:VEVENT
DTSTART;TZID=America/Los_Angeles:20260303T173000
DTEND;TZID=America/Los_Angeles:20260303T203000
DTSTAMP:20260421T105332
CREATED:20260301T161911Z
LAST-MODIFIED:20260301T161911Z
UID:10005882-1772559000-1772569800@arabishway.com
SUMMARY:Right to Resist: ILPS Seattle-Tacoma Report Back from the International People's Tribunal for Palestine
DESCRIPTION:🇵🇸The International People’s Tribunal on Palestine found the US & Zionist Entity guilty of genocide\, ecocide\, and forced starvation! \n⏰ Join upcoming Seattle report back to hear about the experience and findings of the IPT!\nMarch 3\, 5:30-8:30pm\nLocal report back\nRSVP for location: https://tinyurl.com/IPTreportbackILPS \nThe Tribunal brought together over 100 attendees in Barcelona on November 22nd and 23rd to observe the process of seven esteemed jurors to hear evidence and pass their verdict. Evidence was presented from the live and written testimony of thirteen witnesses and three experts; expert analyses supported by scientific or technical data; documentary evidence including reports\, photographs\, and satellite images; and facts widely known and independently corroborated by reliable international human rights organizations and bodies. \nThis report back is a tool for our movements to expose the crimes of US empire in collaboration with the Zionist entity\, and uplift the Palestinian people’s struggle for justice and liberation. It is right to resist genocide\, ecocide\, and forced starvation!⁩⁩ \n*Halal dinner will be served and will be timed with Iftar!
URL:https://arabishway.com/event/right-to-resist-ilps-seattle-tacoma-report-back-from-the-international-peoples-tribunal-for-palestine/
LOCATION:RSVP for Location
CATEGORIES:Lecture,Social Justice
ATTACH;FMTTYPE=image/png:https://arabishway.com/wp-content/uploads/2026/03/Screenshot-2026-03-01-at-8.17.08-AM.png
END:VEVENT
BEGIN:VEVENT
DTSTART;TZID=America/Los_Angeles:20260306T093000
DTEND;TZID=America/Los_Angeles:20260306T173000
DTSTAMP:20260421T105332
CREATED:20260228T232720Z
LAST-MODIFIED:20260228T232720Z
UID:10005862-1772789400-1772818200@arabishway.com
SUMMARY:Partition and Solidarity: Anticolonial Struggles in the Colonial Present Conference
DESCRIPTION:You are invited to attend this conference hosted by the Harry Bridges Center for Labor Studies and cosponsored by various departments\, including the Middle East Center.\n\nPartition and Solidarity: Anticolonial Struggles in the Colonial Present Conference\n \nFriday\, March 6\, 2026\nUniversity of Washington\, Seattle\n9:30 AM – 5:30 PM\nHusky Union Building (HUB)\n\nOver the past five centuries\, empires have used partition and division to justify and advance colonialism. We can see that ongoing history of colonial rule and racial violence exploding around the world today—from Palestine to Minnesota and beyond.\n\nJoin us at this one-day symposium where scholars and activists will gather to engage in conversations about anticolonial struggles of the past and the present. How might we forge diasporic imaginaries and solidarity movements to contest the colonial world order toward collective liberation?\n\nThe symposium will include a keynote address by Adam Hanieh of SOAS\, University of London (UK)\, who has been selected to deliver a Walker-Ames public lecture. He is the MBI Jaber Chair in Development Studies and the Director of the Middle East Institute at SOAS\, University of London. His research focuses on oil and capitalism\, energy transitions\, and the political economy of the Middle East.\n\nRegistration required: https://events.uw.edu/event/partition-solidarity/summary\nProgram and schedule: https://labor.washington.edu/partition-solidarity
URL:https://arabishway.com/event/partition-and-solidarity-anticolonial-struggles-in-the-colonial-present-conference/
LOCATION:UW – HUB\, 4001 E Stevens Way NE\, Seattle\, WA\, 98195\, United States
CATEGORIES:Lecture
ATTACH;FMTTYPE=image/png:https://arabishway.com/wp-content/uploads/2023/03/UW-logo.png
END:VEVENT
BEGIN:VEVENT
DTSTART;TZID=America/Los_Angeles:20260306T120000
DTEND;TZID=America/Los_Angeles:20260306T130000
DTSTAMP:20260421T105332
CREATED:20251130T045932Z
LAST-MODIFIED:20251130T045932Z
UID:10003468-1772798400-1772802000@arabishway.com
SUMMARY:UW Public Lectures: Palestine to Iraq with Adam Hanieh
DESCRIPTION:While World War I is often framed as a European conflict\, its most far-reaching consequences were profoundly felt far beyond Europe’s borders. In the Middle East\, the war sparked a sweeping political crisis that ultimately led to the collapse of the Ottoman Empire. In its wake\, the European victors imposed new borders and mandates\, carving the region into fragmented zones of imperial control and influence. \nBut this was not merely a story of unchecked colonial dominance. In the postwar moment\, a spectrum of fluid\, intersecting anti-colonial movements emerged. Palestine became a key site in these struggles\, as a racialized order of settler-colonial capitalism took shape under British rule. This talk locates those movements within the broader transition from British to American imperial ascendancy\, contending that the political history of the region must be understood as integral to the global history of fossil capitalism. \nMoving beyond frameworks centered solely on empire\, the talk examines how anti-colonial actors envisioned their futures within a rapidly transforming global system—even as new hierarchies of race\, empire\, and capital were being redefined.
URL:https://arabishway.com/event/uw-public-lectures-palestine-to-iraq-with-adam-hanieh/
LOCATION:Virtual
CATEGORIES:Lecture
ATTACH;FMTTYPE=image/jpeg:https://arabishway.com/wp-content/uploads/2025/11/300x300_Adam-Hanieh.jpg
END:VEVENT
BEGIN:VEVENT
DTSTART;TZID=America/Los_Angeles:20260307T140000
DTEND;TZID=America/Los_Angeles:20260307T153000
DTSTAMP:20260421T105332
CREATED:20260227T181111Z
LAST-MODIFIED:20260301T182404Z
UID:10005795-1772892000-1772897400@arabishway.com
SUMMARY:An Overview of the History of Palestine and Israel : A Three-Part Series
DESCRIPTION:Save the date March 7. ❤️ Kitsap Palestine Solidarity Coalition is continuing to offer an educational program\,\nAn Overview of the History of Palestine and Israel : A Three-Part Series \nWe were so excited that the first part of our series had over 70 people in attendance. The second part of the series continues on March 7\, 2-3:30 pm in the meeting room of the Poulsbo branch of Kitsap Regional Library. \nThe topic is “A European-Dominated State in the Middle East: From the founding of the state of Israel to October 2023 ” \nWe will cover: The Nakba\, Why the formation of Israel was a disaster for the Palestinians\, An American Jewish perspective on the history\, The Occupation\, and Palestinian and Jewish resistance to it. Why the U.S. supports Israel.\, A history of the peace process\, and why proposals have not worked so far\, How Hamas gained power and what led to the 10/7/23 attack.
URL:https://arabishway.com/event/an-overview-of-the-history-of-palestine-and-israel-a-three-part-series/2026-03-07/
LOCATION:Poulsbo – Kitsap Regional Library\, 700 NE Lincoln Rd\, Poulsbo\, WA\, 98370
CATEGORIES:Education,Lecture
ATTACH;FMTTYPE=image/png:https://arabishway.com/wp-content/uploads/2026/02/Screenshot-2026-02-27-at-10.04.16-AM.png
END:VEVENT
BEGIN:VEVENT
DTSTART;TZID=America/Los_Angeles:20260311T100000
DTEND;TZID=America/Los_Angeles:20260311T120000
DTSTAMP:20260421T105332
CREATED:20260301T052238Z
LAST-MODIFIED:20260301T182151Z
UID:10005874-1773223200-1773230400@arabishway.com
SUMMARY:Fasting\, Faith and the Fight Against Erasure: Ramadan in Al Quds
DESCRIPTION:Featuring:\nLayan Abbasi\nResearcher & Writer\nAl-Aqsa Mosque\nSpecialty\nAl Quds\nYazan Risheg Executive Director Jerusalem-based\norganization Researcher of political\neconomic dynamics\nAl Quds\nRami Nashashibi Islamic Studies Scholar\n& Executive Director\nInner-City Muslim\nAction Network (IMAN)\nChicago
URL:https://arabishway.com/event/fasting-faith-and-the-fight-against-erasure-ramadan-in-al-quds/
LOCATION:Virtual
CATEGORIES:Lecture
ATTACH;FMTTYPE=image/png:https://arabishway.com/wp-content/uploads/2026/02/Screenshot-2026-02-28-at-9.11.16-PM.png
END:VEVENT
BEGIN:VEVENT
DTSTART;TZID=America/Los_Angeles:20260313T090000
DTEND;TZID=America/Los_Angeles:20260313T110000
DTSTAMP:20260421T105332
CREATED:20260131T053716Z
LAST-MODIFIED:20260131T053805Z
UID:10004867-1773392400-1773399600@arabishway.com
SUMMARY:Material Identities: Regional Dress in Late Ottoman Syria
DESCRIPTION:Virtual Lecture Registration\n\nMaterial Identities: Regional Dress in Late Ottoman Syria \nDate: Friday\, March 13\, 2026\nTime: 12:00 PM – 2:00 PM EST\nLocation: Online\, Zoom link will be emailed at 10am EST on event day\nInstructor: Wafa Ghnaim\, Dress Historian\, Researcher & Educator\nRegistration Fee: Sliding scale \nDescription: This lecture examines the regional styles of embroidered traditional dress produced within the geographic boundaries of present-day Syria during the late Ottoman period\, roughly 1850–1922. It centers on historical garments from various villages\, towns\, and desert regions across Syria\, as well as the textile traditions that shaped them. Participants will learn about Syria’s role as a major center of textile production\, including the rise and decline of its fabric industries and the historic cloth types most commonly used in the nineteenth and early twentieth centuries. The lecture surveys distinctive village and regional styles\, with attention to materials\, structure\, and surface design\, beginning in the Northern Galilee and extending into southern Syria and beyond. \nThe presentation draws on surviving garments\, visual documentation\, and the work of leading scholars in the field of Syrian dress history. This research is informed by the expertise of Aida Dalati\, Anne Marie Weiss-Armush\, Hanan Munayyer\, and other leading collectors and historians in the field. Through this focused visual and historical review\, the lecture situates Syrian dress within its social\, economic\, and cultural contexts\, highlighting how regional identity was expressed as a broad regional tradition shared by communities of the eastern Mediterranean over centuries. While many have argued that the cultural knowledge of Syrian dress styles is extinct\, Wafa argues that new digital archives led by a new generation are ensuring its survival and revival. \n 
URL:https://arabishway.com/event/material-identities-regional-dress-in-late-ottoman-syria/
LOCATION:Virtual
CATEGORIES:Art,Lecture
ATTACH;FMTTYPE=image/jpeg:https://arabishway.com/wp-content/uploads/2020/06/Palestine-Museum-Tatreez.jpg
END:VEVENT
BEGIN:VEVENT
DTSTART;TZID=America/Los_Angeles:20260325T090000
DTEND;TZID=America/Los_Angeles:20260325T103000
DTSTAMP:20260421T105332
CREATED:20260320T011828Z
LAST-MODIFIED:20260320T011828Z
UID:10005894-1774429200-1774434600@arabishway.com
SUMMARY:Gaza -Virtual Visit Sulala Animal Rescue
DESCRIPTION:Upcoming event with Eyewitness Palestine
URL:https://arabishway.com/event/gaza-virtual-visit-sulala-animal-rescue/
LOCATION:Virtual
CATEGORIES:Lecture
ATTACH;FMTTYPE=image/png:https://arabishway.com/wp-content/uploads/2026/03/Screenshot-2026-03-19-at-6.15.28-PM.png
END:VEVENT
BEGIN:VEVENT
DTSTART;TZID=America/Los_Angeles:20260331T130000
DTEND;TZID=America/Los_Angeles:20260331T140000
DTSTAMP:20260421T105332
CREATED:20260330T193201Z
LAST-MODIFIED:20260330T193201Z
UID:10005922-1774962000-1774965600@arabishway.com
SUMMARY:Iraqi Community Center: College Workshop
DESCRIPTION:The Iraqi Community Center is pleased to invite you to benefit from the information that will be presented by specialized professors from Renton Technical College and Highline on the coming Tuesday\, which is March 31st at 1 pm in the Community Office in Kent.\n\n\nIt will be an opportunity to answer your queries and learn about programs that benefit you in your career and sources of support available at colleges… Mr. Nizar and Mr. Ahmed will be ready to dialogue and answer questions and help with the application steps
URL:https://arabishway.com/event/iraqi-community-center-college-workshop/
LOCATION:Immigrants and Refugees Community Council\, 24401 104th Ave SE #102\, Kent\, WA\, 98030
CATEGORIES:Education,Lecture
ATTACH;FMTTYPE=image/png:https://arabishway.com/wp-content/uploads/2026/03/Screenshot-2026-03-30-at-12.27.27-PM.png
END:VEVENT
END:VCALENDAR