BEGIN:VCALENDAR
VERSION:2.0
PRODID:-//ArabishWay - ECPv6.15.20//NONSGML v1.0//EN
CALSCALE:GREGORIAN
METHOD:PUBLISH
X-ORIGINAL-URL:https://arabishway.com
X-WR-CALDESC:Events for ArabishWay
REFRESH-INTERVAL;VALUE=DURATION:PT1H
X-Robots-Tag:noindex
X-PUBLISHED-TTL:PT1H
BEGIN:VTIMEZONE
TZID:America/Los_Angeles
BEGIN:DAYLIGHT
TZOFFSETFROM:-0800
TZOFFSETTO:-0700
TZNAME:PDT
DTSTART:20250309T100000
END:DAYLIGHT
BEGIN:STANDARD
TZOFFSETFROM:-0700
TZOFFSETTO:-0800
TZNAME:PST
DTSTART:20251102T090000
END:STANDARD
BEGIN:DAYLIGHT
TZOFFSETFROM:-0800
TZOFFSETTO:-0700
TZNAME:PDT
DTSTART:20260308T100000
END:DAYLIGHT
BEGIN:STANDARD
TZOFFSETFROM:-0700
TZOFFSETTO:-0800
TZNAME:PST
DTSTART:20261101T090000
END:STANDARD
BEGIN:DAYLIGHT
TZOFFSETFROM:-0800
TZOFFSETTO:-0700
TZNAME:PDT
DTSTART:20270314T100000
END:DAYLIGHT
BEGIN:STANDARD
TZOFFSETFROM:-0700
TZOFFSETTO:-0800
TZNAME:PST
DTSTART:20271107T090000
END:STANDARD
END:VTIMEZONE
BEGIN:VEVENT
DTSTART;TZID=America/Los_Angeles:20260201T121500
DTEND;TZID=America/Los_Angeles:20260201T140000
DTSTAMP:20260421T161424
CREATED:20260130T171759Z
LAST-MODIFIED:20260130T172305Z
UID:10004861-1769948100-1769954400@arabishway.com
SUMMARY:Free Film Screening: Israelism
DESCRIPTION:Two young American Jews travel to Israel seeking a deeper understanding of the country they were raised to love. What they encounter profoundly impacts them\, leading them to join a growing movement to redefine their community’s relationship with Israel in this challenging and emotional journey. Join us for the free screening of this film. \nAbout the film\nTwo young American Jews – Simone Zimmerman and Eitan – are raised to defend the state of Israel at all costs. Eitan joins the Israeli military. Simone supports Israel on ‘the other battlefield:’ America’s college campuses. When they witness Israel‘s mistreatment of the Palestinian people with their own eyes\, they are horrified and heartbroken.\nThey join the movement of young American Jews battling the old guard over Israel’s centrality in American Judaism\, and demanding freedom for the Palestinian people. Their stories reveal a generational divide in the American Jewish community as more young Jews question the narratives their synagogues and Hebrew school teachers fed them as children. \nThe film also features voices like Jacqui\, a Jewish educator who says “Judaism is Israel and Israel is Judaism”\, and former Anti-Defamation League President Abe Foxman\, who claims voices like Simone and Eitan’s represent a small minority. Thought leaders like Peter Beinart\, Jeremy Ben-Ami\, Noura Erakat\, Cornel West\, and Noam Chomsky also weigh in. \nDirected by two first-time Jewish filmmakers who share a similar story to the film’s protagonists\, Israelism is produced by Peabody-winner and 4-time Emmy-nominee Daniel J. Chalfen (Loudmouth\, Boycott)\, executive produced by two-time Emmy-winner Brian A. Kates (Marvelous Ms. Maisel\, Succession) and edited by Emmy-winner Tony Hale (The Story of Plastic)\, Israelism uniquely explores how Jewish attitudes towards Israel are changing dramatically\, with massive consequences for the region and for Judaism itself.
URL:https://arabishway.com/event/israelism-2026/
LOCATION:Quest Church\, 1401 NW Leary Wy\, Seattle\, WA\, 98107
CATEGORIES:Lecture/Panel Discussion,Movie
ATTACH;FMTTYPE=image/jpeg:https://arabishway.com/wp-content/uploads/2023/12/israelism.jpeg
END:VEVENT
BEGIN:VEVENT
DTSTART;TZID=America/Los_Angeles:20260206T130000
DTEND;TZID=America/Los_Angeles:20260206T150000
DTSTAMP:20260421T161424
CREATED:20260129T230309Z
LAST-MODIFIED:20260129T230309Z
UID:10004852-1770382800-1770390000@arabishway.com
SUMMARY:Static Forms: Writing the Present in the Modern Middle East\,
DESCRIPTION:The UW’s Middle East Center invites you to a book talk and discussion by Shir Alon\, visiting from the University of Minnesota. In Static Forms: Writing the Present in the Modern Middle East\, Shir Alon develops an alternative model for reading Arabic and Hebrew literatures\, as two literary systems sharing a remarkably similar narrative of modernization and developing parallel literary forms to address it. In this talk\, Alon will discuss the potentials of a paradigm grounded in formal and affective analysis for new understandings of transnational modernism\, Middle Eastern literatures\, and comparative literary studies at large. She will also explore the limits of this approach\, when parallel readings of Hebrew and Arabic literatures obfuscate rather than clarify the conditions of the present. \nShir Alon | On not sharing a present tense: Reading Arabic and Hebrew Literatures together \nFriday\, February 6 \n1-3pm \nDenny 211 \nMore info: https://jsis.washington.edu/middleeast/events/?trumbaEmbed=eventid%3D192847224%26seotitle%3DOn-not-sharing-a-present-tense-Reading-Arabic-and-Hebrew-Literatures-together%26view%3Devent%26-childview%3D
URL:https://arabishway.com/event/static-forms-writing-the-present-in-the-modern-middle-east/
LOCATION:Denny Hall\, Klickitat Lane\, Seattle\, WA\, 98105
CATEGORIES:Lecture
ATTACH;FMTTYPE=image/png:https://arabishway.com/wp-content/uploads/2023/03/UW-logo.png
END:VEVENT
END:VCALENDAR