BEGIN:VCALENDAR
VERSION:2.0
PRODID:-//ArabishWay - ECPv6.15.20//NONSGML v1.0//EN
CALSCALE:GREGORIAN
METHOD:PUBLISH
X-WR-CALNAME:ArabishWay
X-ORIGINAL-URL:https://arabishway.com
X-WR-CALDESC:Events for ArabishWay
REFRESH-INTERVAL;VALUE=DURATION:PT1H
X-Robots-Tag:noindex
X-PUBLISHED-TTL:PT1H
BEGIN:VTIMEZONE
TZID:America/Los_Angeles
BEGIN:DAYLIGHT
TZOFFSETFROM:-0800
TZOFFSETTO:-0700
TZNAME:PDT
DTSTART:20240310T100000
END:DAYLIGHT
BEGIN:STANDARD
TZOFFSETFROM:-0700
TZOFFSETTO:-0800
TZNAME:PST
DTSTART:20241103T090000
END:STANDARD
BEGIN:DAYLIGHT
TZOFFSETFROM:-0800
TZOFFSETTO:-0700
TZNAME:PDT
DTSTART:20250309T100000
END:DAYLIGHT
BEGIN:STANDARD
TZOFFSETFROM:-0700
TZOFFSETTO:-0800
TZNAME:PST
DTSTART:20251102T090000
END:STANDARD
BEGIN:DAYLIGHT
TZOFFSETFROM:-0800
TZOFFSETTO:-0700
TZNAME:PDT
DTSTART:20260308T100000
END:DAYLIGHT
BEGIN:STANDARD
TZOFFSETFROM:-0700
TZOFFSETTO:-0800
TZNAME:PST
DTSTART:20261101T090000
END:STANDARD
END:VTIMEZONE
BEGIN:VEVENT
DTSTART;TZID=America/Los_Angeles:20250302T133000
DTEND;TZID=America/Los_Angeles:20250302T150000
DTSTAMP:20260423T125056
CREATED:20250226T043806Z
LAST-MODIFIED:20250226T043806Z
UID:10002867-1740922200-1740927600@arabishway.com
SUMMARY:Presentation: Eight Families in Gaza: Amplifying Their Voices
DESCRIPTION:Upcoming Event: “Eight Families in Gaza: Amplifying Their Voices\,” Sunday\, March 2\, 2025\nThis special presentation offers an opportunity to learn about eight families in Gaza who are connected to a local community member who has received their permission to share their stories and words. This is an opportunity to learn more about their lives\, loves\, and challenges\, and to find out more about ways you can offer meaningful and direct support to Palestinians in Gaza. Affiliated with Whatcom Coalition for Palestine. Open to the public. \nDate:Sunday\, March 2\, 2025 / Time:1:30 PM – 2:30 PM (with optional Q & A / Discussion following the presentation from 2:30 to 3:00 PM)\nLocation: Lecture Room at the Bellingham Central Public Library\nCategories: Non-Library Program
URL:https://arabishway.com/event/presentation-eight-families-in-gaza-amplifying-their-voices/
LOCATION:Bellingham Central Public Library\, 210 Central Ave\, Bellingham\, WA\, 98225
CATEGORIES:Lecture/Panel Discussion
ATTACH;FMTTYPE=image/png:https://arabishway.com/wp-content/uploads/2025/02/Screenshot-2025-02-25-at-8.31.53 PM.png
END:VEVENT
BEGIN:VEVENT
DTSTART;TZID=America/Los_Angeles:20250315T120000
DTEND;TZID=America/Los_Angeles:20250315T133000
DTSTAMP:20260423T125056
CREATED:20250312T234836Z
LAST-MODIFIED:20250312T234939Z
UID:10002910-1742040000-1742045400@arabishway.com
SUMMARY:How To Talk to Kids About Palestine
DESCRIPTION:Step 1: Donate to Sameer Project here (sugg. donation $30).  \nStep 2: Register for “How to Talk to Kids About Palestine” here. \nIn this workshop\, illustrator Nathi Ngubane will discuss art as a tool for education and communication\, and how adults can talk to children about Palestinian liberation. Nathi will then lead us in an all-ages drawing exercise open to parents\, kids\, and everyone in between. \nNathi Ngubane is a South African-based writer and illustrator. His most recent work is From the River to the Sea: A Colouring Book (Social Bandit Media\, 2024)\, which features illustrations that teach children about the injustice of the Nakba\, the history and culture of the land\, as well as key concepts driving and sustaining the Palestinian resistance.
URL:https://arabishway.com/event/how-to-talk-to-kids-about-palestine/
LOCATION:Virtual
CATEGORIES:Education,Lecture
ATTACH;FMTTYPE=image/png:https://arabishway.com/wp-content/uploads/2025/03/Screenshot-2025-03-12-at-4.47.10 PM.png
END:VEVENT
BEGIN:VEVENT
DTSTART;TZID=America/Los_Angeles:20250320T190000
DTEND;TZID=America/Los_Angeles:20250320T210000
DTSTAMP:20260423T125056
CREATED:20250226T211956Z
LAST-MODIFIED:20250226T211956Z
UID:10002886-1742497200-1742504400@arabishway.com
SUMMARY:The Mideast Focus Film Series 2025: The Law and the Prophets
DESCRIPTION:March 20\, 2025 \nFilm: “The Law and the Prophets”  Speaker\, Josh Vis \nZoom discussion 7pm. Screening of film on own prior to discussion. \n  \nApril 3\, 2025 \nFilm: “Where Olive Trees Weep” Speaker\, Issa Amro  \nScreening online together 6:30pm\, followed by Zoom discussion.  \n  \nApril 10\, 2025 \nFilm: “Lyd”  Speaker\, Sabrene Odeh and Maher Joudi \nZoom discussion 7pm. Screening of film on own prior to discussion.
URL:https://arabishway.com/event/the-mideast-focus-film-series-2025-the-law-and-the-prophets/
LOCATION:Virtual
CATEGORIES:Lecture/Panel Discussion,Movie
ATTACH;FMTTYPE=image/png:https://arabishway.com/wp-content/uploads/2019/01/st-marks-logo-mini.png
END:VEVENT
BEGIN:VEVENT
DTSTART;TZID=America/Los_Angeles:20250321T170000
DTEND;TZID=America/Los_Angeles:20250321T180000
DTSTAMP:20260423T125056
CREATED:20250312T234646Z
LAST-MODIFIED:20250312T234646Z
UID:10002909-1742576400-1742580000@arabishway.com
SUMMARY:WEBINAR: ON THIRD WORLD FEMINISM & THE LIBERATION OF PALESTINE
DESCRIPTION:Join the Palestinian Feminist Collective and CODEPINK during Women’s History Month for a popular education webinar on the revolutionary living histories and tradition of Third World feminist and women’s movements. \nTogether\, we’ll learn how we can harness their teachings\, tools\, and legacies to inform our movement for Palestine and build a future free from oppression and systemic subjugation. \n  \nDATE: MARCH 21 \nTIME: 8 PM ET \nREGISTER NOW \n\n\n\n\n\n\n\n\n\n\n\n\n\n\n\nREGISTER NOW!
URL:https://arabishway.com/event/webinar-on-third-world-feminism-the-liberation-of-palestine/
LOCATION:Virtual
CATEGORIES:Lecture,Social Justice
ATTACH;FMTTYPE=image/png:https://arabishway.com/wp-content/uploads/2025/03/Screenshot-2025-03-12-at-4.43.43 PM.png
END:VEVENT
BEGIN:VEVENT
DTSTART;TZID=America/Los_Angeles:20250323T100000
DTEND;TZID=America/Los_Angeles:20250323T113000
DTSTAMP:20260423T125056
CREATED:20250306T050749Z
LAST-MODIFIED:20250306T050913Z
UID:10002904-1742724000-1742729400@arabishway.com
SUMMARY:Recognizing & Understanding Anti-Palestinian Racism
DESCRIPTION:Attendee will learn to:\nKnow who Palestinians are\nDescribe anti-Palestinian racism\nIdentify who can be targets of\nanti-Palestinian racism\nUnderstand the impact of\nanti-Palestinian racism on health\nwellbeing\nLearn ways to address\nanti-Palestinian racism
URL:https://arabishway.com/event/recognizing-understanding-anti-palestinian-racism/
CATEGORIES:Lecture,Social Justice,Workshop
ATTACH;FMTTYPE=image/png:https://arabishway.com/wp-content/uploads/2025/03/image1739738549508.png
END:VEVENT
END:VCALENDAR