BEGIN:VCALENDAR
VERSION:2.0
PRODID:-//ArabishWay - ECPv6.15.20//NONSGML v1.0//EN
CALSCALE:GREGORIAN
METHOD:PUBLISH
X-ORIGINAL-URL:https://arabishway.com
X-WR-CALDESC:Events for ArabishWay
REFRESH-INTERVAL;VALUE=DURATION:PT1H
X-Robots-Tag:noindex
X-PUBLISHED-TTL:PT1H
BEGIN:VTIMEZONE
TZID:America/Los_Angeles
BEGIN:DAYLIGHT
TZOFFSETFROM:-0800
TZOFFSETTO:-0700
TZNAME:PDT
DTSTART:20240310T100000
END:DAYLIGHT
BEGIN:STANDARD
TZOFFSETFROM:-0700
TZOFFSETTO:-0800
TZNAME:PST
DTSTART:20241103T090000
END:STANDARD
BEGIN:DAYLIGHT
TZOFFSETFROM:-0800
TZOFFSETTO:-0700
TZNAME:PDT
DTSTART:20250309T100000
END:DAYLIGHT
BEGIN:STANDARD
TZOFFSETFROM:-0700
TZOFFSETTO:-0800
TZNAME:PST
DTSTART:20251102T090000
END:STANDARD
BEGIN:DAYLIGHT
TZOFFSETFROM:-0800
TZOFFSETTO:-0700
TZNAME:PDT
DTSTART:20260308T100000
END:DAYLIGHT
BEGIN:STANDARD
TZOFFSETFROM:-0700
TZOFFSETTO:-0800
TZNAME:PST
DTSTART:20261101T090000
END:STANDARD
END:VTIMEZONE
BEGIN:VEVENT
DTSTART;TZID=America/Los_Angeles:20250202T090000
DTEND;TZID=America/Los_Angeles:20250202T110000
DTSTAMP:20260423T162926
CREATED:20250131T190339Z
LAST-MODIFIED:20250131T193900Z
UID:10002836-1738486800-1738494000@arabishway.com
SUMMARY:Madafeh at Palestine Museum with guest Medea Benjamin
DESCRIPTION:Madafeh: Our guest is Medea Benjamin\, cofounder of both CODEPINK and the international human rights organization Global Exchange.\n\nSunday\, February 2\, 2025\n12:00 PM 1:30 PM\nPalestine Museum US (map)\n\n\nPlease click here to register to attend this event. \nThe program begins at 12:00 PM US EST; 18:00 Europe; 19:00 Palestine; 17:00 UK. \nMedea Benjamin is a cofounder of both CODEPINK and the international human rights organization Global Exchange. She is the author of 11 books\, including Drone Warfare: Killing by Remote Control\, Kingdom of the Unjust: Behind the U.S.-Saudi Connection\, Inside Iran: The Real History and Politics of the Islamic Republic of Iran and War in Ukraine: Making Sense of a Senseless Conflict\, coauthored with Nicolas J.S. Davies. Her most recent book\, coauthored with David Swanson\, is NATO: What You Need to Know.
URL:https://arabishway.com/event/madafeh-at-palestine-museum-with-guest-medea-benjamin/
LOCATION:Virtual
CATEGORIES:Lecture
ATTACH;FMTTYPE=image/jpeg:https://arabishway.com/wp-content/uploads/2025/01/lo-res-medeabenjamin-1-scaled.jpeg
END:VEVENT
BEGIN:VEVENT
DTSTART;TZID=America/Los_Angeles:20250206T183000
DTEND;TZID=America/Los_Angeles:20250206T200000
DTSTAMP:20260423T162926
CREATED:20241030T204741Z
LAST-MODIFIED:20241030T223452Z
UID:10002666-1738866600-1738872000@arabishway.com
SUMMARY:The Role of Art and Journalism in Society (Hybrid inperson & virtual)
DESCRIPTION:There exists a pervasive illusion that journalism embodies truth and objectivity\, yet it is fundamentally entrenched in a Eurocentric perspective that has long exacerbated social polarization. What ideological forces underpin this medium\, enabling it to perpetuate such divisions?  \nArtists\, as individuals deeply connected to society and its multifaceted truths\, strive to reveal these truths through various forms. Positioned on the precipice of a changing world\, artists maintain a profound grasp on truth. How can artists intervene to redeem journalism from its historical complicity in supporting hegemonic ideologies? Can the creative and critical sensibilities of artists unearth and challenge the concealed biases and contradictions that journalism often obscures under the guise of objectivity? In what ways can artistic endeavors disrupt the entrenched Eurocentric narratives and foster a more inclusive and emancipatory discourse within the media landscape? How can the aesthetic and imaginative dimensions of art confront and transform the existing power structures that shape journalistic practice? What role can artists play in reimagining journalism as a medium of genuine critical reflection and societal truth?  \nRegistration opens on December 12\, 2024.
URL:https://arabishway.com/event/the-role-of-art-and-journalism-in-society/
LOCATION:Town Hall\, 1119 8th Ave\, Seattle\, WA\, 98101\, United States
CATEGORIES:Lecture
ATTACH;FMTTYPE=image/jpeg:https://arabishway.com/wp-content/uploads/2024/10/300x300_Wesaam-Al-Badry.jpg
END:VEVENT
BEGIN:VEVENT
DTSTART;TZID=America/Los_Angeles:20250211T163000
DTEND;TZID=America/Los_Angeles:20250211T173000
DTSTAMP:20260423T162926
CREATED:20250128T165746Z
LAST-MODIFIED:20250128T165746Z
UID:10002819-1739291400-1739295000@arabishway.com
SUMMARY:Virtual Conversation with Mohammed El-Kurd and Robin D.G. Kelley
DESCRIPTION:On Tuesday\, February 11th\, join Mohammed El-Kurd and Robin D.G. Kelley for a virtual conversation to mark the release of Perfect Victims. \n  \nPerfect Victims is an urgent affirmation of the Palestinian condition of resistance and refusal―an ode to the steadfastness of a nation. \nPalestine is a microcosm of the world: on fire\, stubborn\, fragmented\, dignified. While a settler colonial state continues to inflict devastating violence\, fundamental truths are deliberately obscured—the perpetrators are coddled while the victims are blamed and placed on trial. \nWhy must Palestinians prove their humanity? And what are the implications of such an infuriatingly impossible task? With fearless prose and lyrical precision\, Mohammed El-Kurd refuses a life spent in cross-examination. Rather than asking the oppressed to perform a perfect victimhood\, El-Kurd asks friends and foes alike to look Palestinians in the eye\, forgoing both deference and condemnation. \nHow we see Palestine reveals how we see each other; how we see everything else. Masterfully combining candid testimony\, history\, and reportage\, Perfect Victims presents a powerfully simple demand: dignity for the Palestinian. \nPre-order Perfect Victims through Bookshop or wherever good books are sold: http://www.bookshop.org/a/1039/9798888903155 \n***Register through Ticket Tailor to receive a link to the live-streamed video on the day of the event. This event will also be recorded and captioning will be provided.*** \nSpeakers: \nMohammed El-Kurd is a writer\, poet\, journalist\, and organizer from Jerusalem\, occupied Palestine. He is the Nation’s first-ever Palestine Correspondent and editor-at-large at Mondoweiss\, the recipient of numerous honors and awards\, and the author of the highly-acclaimed poetry collection Rifqa\, which has been translated into several languages. \nRobin D.G. Kelley is Professor and Gary B. Nash Endowed Chair in U.S. History at UCLA. He is the author of Hammer and Hoe\, Race Rebels\, Freedom Dreams: The Black Radical Imagination\, and Thelonious Monk: The Life and Times of an American Original\, among other titles. His writing has been featured in the Journal of American History\, American Historical Review\, Black Music Research Journal\, African Studies Review\, New York Times\, The Crisis\, The Nation\, and Voice Literary Supplement.
URL:https://arabishway.com/event/virtual-conversation-with-mohammed-el-kurd-and-robin-d-g-kelley/
LOCATION:Virtual
CATEGORIES:Book Reading,Lecture/Panel Discussion
ATTACH;FMTTYPE=image/png:https://arabishway.com/wp-content/uploads/2025/01/Screenshot-2025-01-28-at-8.47.09 AM.png
END:VEVENT
BEGIN:VEVENT
DTSTART;TZID=America/Los_Angeles:20250221T180000
DTEND;TZID=America/Los_Angeles:20250221T210000
DTSTAMP:20260423T162926
CREATED:20250214T144225Z
LAST-MODIFIED:20250214T144225Z
UID:10002857-1740160800-1740171600@arabishway.com
SUMMARY:Conversation with Angela Davis: Collective Struggle in Critical Time
DESCRIPTION:Rachel Corrie Foundation\, Olympia Film Society\, Jewish Voice for Peace Tacoma\, Evergreen Tacoma\, Jewish Voice for Peace Olympia\, and Palestine Action South Sound present:\nA Conversation with Angela Davis:\nCollective Struggle in Critical Times\nFeaturing spoken word by Terrance Turner\, aka C.A.U.T.I.O.N.\nGA $28.25 & OFS $23.25 (available online and at the door)\n$13.25 Student (available for purchase at the door only)\nAll Prices Include Service Fees\n6pm doors / 7pm show\n \nFrom prison abolition to Palestine liberation\, Angela Davis has been at the forefront of radical intellectual work and political activism for decades. Her public rise in the Black Power and Women of Color movements made her an outspoken advocate for racial\, gender\, and economic justice. She is the author of many books\, and a founding member of Critical Resistance\, a national organization dedicated to the dismantling of the prison industrial complex
URL:https://arabishway.com/event/conversation-with-angela-davis-collective-struggle-in-critical-time/
LOCATION:Olympia Capitol Theater\, 206 5th Avenue SE\, Olympia\, WA\, 98501\, United States
CATEGORIES:Lecture,Poetry
ATTACH;FMTTYPE=image/png:https://arabishway.com/wp-content/uploads/2025/02/LARGEangela.png
END:VEVENT
END:VCALENDAR