BEGIN:VCALENDAR
VERSION:2.0
PRODID:-//ArabishWay - ECPv6.15.20//NONSGML v1.0//EN
CALSCALE:GREGORIAN
METHOD:PUBLISH
X-ORIGINAL-URL:https://arabishway.com
X-WR-CALDESC:Events for ArabishWay
REFRESH-INTERVAL;VALUE=DURATION:PT1H
X-Robots-Tag:noindex
X-PUBLISHED-TTL:PT1H
BEGIN:VTIMEZONE
TZID:America/Los_Angeles
BEGIN:DAYLIGHT
TZOFFSETFROM:-0800
TZOFFSETTO:-0700
TZNAME:PDT
DTSTART:20230312T100000
END:DAYLIGHT
BEGIN:STANDARD
TZOFFSETFROM:-0700
TZOFFSETTO:-0800
TZNAME:PST
DTSTART:20231105T090000
END:STANDARD
BEGIN:DAYLIGHT
TZOFFSETFROM:-0800
TZOFFSETTO:-0700
TZNAME:PDT
DTSTART:20240310T100000
END:DAYLIGHT
BEGIN:STANDARD
TZOFFSETFROM:-0700
TZOFFSETTO:-0800
TZNAME:PST
DTSTART:20241103T090000
END:STANDARD
BEGIN:DAYLIGHT
TZOFFSETFROM:-0800
TZOFFSETTO:-0700
TZNAME:PDT
DTSTART:20250309T100000
END:DAYLIGHT
BEGIN:STANDARD
TZOFFSETFROM:-0700
TZOFFSETTO:-0800
TZNAME:PST
DTSTART:20251102T090000
END:STANDARD
END:VTIMEZONE
BEGIN:VEVENT
DTSTART;TZID=America/Los_Angeles:20240501T140000
DTEND;TZID=America/Los_Angeles:20240501T160000
DTSTAMP:20260424T164856
CREATED:20240430T193800Z
LAST-MODIFIED:20240430T193818Z
UID:10002407-1714572000-1714579200@arabishway.com
SUMMARY:Palestinian Seed Stories: To Eat Alone is to Die Alone — Herban Cura
DESCRIPTION:Palestinian Seed Stories: To Eat Alone is to Die Alone — Herban Cura\nwith Vivien Sansour Oftentimes when Palestinian farmers put seeds in the ground\, they mutter a quiet prayer\, “may we eat and may we feed others.” This and many other linguistically profound sayings provide a lens into a cultural design based on the idea that our survival as individuals is connect\nwww.herbancura.com \nFYI this online event 3-5pm tomorrow sounds great. @Tareq\nhttps://www.herbancura.com/knowledge-shares/to-eat-alone-is-to-die-alone
URL:https://arabishway.com/event/palestinian-seed-stories-to-eat-alone-is-to-die-alone-herban-cura/
LOCATION:Virtual
CATEGORIES:Lecture
ATTACH;FMTTYPE=image/jpeg:https://arabishway.com/wp-content/uploads/2020/10/Vivien-Sansour.jpg
END:VEVENT
BEGIN:VEVENT
DTSTART;TZID=America/Los_Angeles:20240502T093000
DTEND;TZID=America/Los_Angeles:20240502T103000
DTSTAMP:20260424T164856
CREATED:20240430T194552Z
LAST-MODIFIED:20240430T194552Z
UID:10002408-1714642200-1714645800@arabishway.com
SUMMARY:Jerusalem Story: Virtual Event
DESCRIPTION:Jerusalem Story tells the story of a unique city through a new lens—that of the city’s large and diverse indigenous Palestinian community. \nThis community has deep historic roots in Jerusalem and holds the strongest attachment to and love for their city. Yet\, they have been subjected to unrelenting efforts to erase their presence in\, and potential claim to\, the city—past\, present\, and future—in the service of cementing Israel’s imperative of claiming sole sovereignty in perpetuity over a “united Jewish Jerusalem.” Against this ongoing effort to erase the Palestinian cultural and community history as well as severing connection to place\, Jerusalem Story is reasserting the Palestinian presence. \nSPEAKERS: \nKate Rouhana \nFounding Director\, Jerusalem Story \nKate Rouhana is a writer\, editor\, and researcher.She has lived and worked as a journalist and researcher in Jerusalem and elsewhere in Palestine several times throughout her life. She holds an MA in Middle Eastern Studies and a BA in International Relations\, both from Harvard University. \nAmina Abdulhaq \nResearcher/Writer\, Jerusalem Story \nAmina Abdulhaq is a human rights lawyer and a researcher. Her family has deep historic roots in Jerusalem. Her work focuses on Jerusalem\, women\, and gender. Amina is fully devoted to raising all oppressed people’s voices\, inclusively embracing diversities and uniqueness. \nArda Aghazarian \nWriter\, Jerusalem Story \nArda Aghazarian is a communications consultant with ample experience in creative and professional writing and has also worked in audiovisual production—including film and radio. Arda has delivered training\, public speaking\, and mentoring at key global events\, mostly on issues related to women and conflict\, identity\, language\, and narrative. \nNadim Bawalsa \nResearcher/Writer\, Jerusalem Story \nNadim Bawalsa is a historian of modern Palestine and author of Transnational Palestine: Migration and the Right of Return before 1948 (Stanford University Press\, 2022).. Bawalsa’s work has also appeared in the Jerusalem Quarterly\, NACLA Report on the Americas\, Al-Shabaka: The Palestinian Policy Network\, the Journal of Palestine Studies\, and in two edited volumes. Bawalsa earned a PhD in Middle Eastern and Islamic Studies from NYU in 2017\, and an MA in Arab Studies from Georgetown University in 2010. In addition to his work with Jerusalem Story\, Bawalsa is associate editor at the Journal of Palestine Studies.
URL:https://arabishway.com/event/jerusalem-story-virtual-event/
LOCATION:Virtual
CATEGORIES:Lecture
ATTACH;FMTTYPE=image/png:https://arabishway.com/wp-content/uploads/2024/04/Screenshot-2024-04-30-at-12.45.00 PM.png
ORGANIZER;CN="Museum of the Palestinian People":MAILTO:https://mpp-dc.org/contact/
END:VEVENT
BEGIN:VEVENT
DTSTART;TZID=America/Los_Angeles:20240504T160000
DTEND;TZID=America/Los_Angeles:20240504T200000
DTSTAMP:20260424T164856
CREATED:20240420T165313Z
LAST-MODIFIED:20240420T165313Z
UID:10002368-1714838400-1714852800@arabishway.com
SUMMARY:Centering Palestine: Narratives Challenging Injustice
DESCRIPTION:Join us for an evening of uplifting voices and stories that challenge dominant narratives on injustice. Our esteemed speakers Miko Peled and Karam Dana will share their experiences and analyses that provide nuance and context for the Palestinian struggle.  \nThis thought-provoking event will go beyond surface-level discourse to build greater understanding and solidarity. All ticket proceeds will cover event and venue expenses. Any additional profits will be donated to charity.  \nThis is a rare opportunity to listen\, ask questions\, and engage with realities in Palestine. Together\, we can confront oppression and reimagine paths toward justice. Your attendance and support makes this event possible.
URL:https://arabishway.com/event/centering-palestine-narratives-challenging-injustice/
LOCATION:Kane Hall – University of Washington\, 4069 Spokane Ln 98105\, Seattle\, WA\, 98105\, United States
CATEGORIES:Lecture/Panel Discussion
ATTACH;FMTTYPE=image/jpeg:https://arabishway.com/wp-content/uploads/2024/04/WhatsApp-Image-2024-04-18-at-21.40.01.jpeg
END:VEVENT
BEGIN:VEVENT
DTSTART;TZID=America/Los_Angeles:20240509T160000
DTEND;TZID=America/Los_Angeles:20240509T173000
DTSTAMP:20260424T164856
CREATED:20240428T053305Z
LAST-MODIFIED:20240428T053636Z
UID:10002390-1715270400-1715275800@arabishway.com
SUMMARY:Lecture: Humanitarian Genocide? Political Economy of Palestine’s Pacification
DESCRIPTION:“Humanitarian Genocide? Political Economy of Palestine’s Pacification” \nA Lecture by Toufic Haddad\n \nThursday\, May 9\, 4:00pm\nPeterson Room\, 4th Floor (Room 485)\, Allen Library North\, University of Washington Seattle\n \nToufic Haddad is a Palestinian academic and author of Palestine Ltd the author of Palestine Ltd: Neoliberalism and Nationalism in the Occupied Territory (I.B. Tauris\, 2016). He holds a PhD in Development Studies from the School of Oriental and African Studies. Before his doctorate\, Haddad worked in various capacities across the Occupied Palestinian Territories as a journalist\, editor\, publisher and researcher for various UN agencies. \n\n\nSponsored by the Harry Bridges Center for Labor Studies\, Department of American Ethnic Studies\, Department of Comparative History of Ideas\, and Department of Gender\, Women and Sexuality Studies.\n\n\n\n\n\n\n\n\n\n\n\n\n\n\nMoon-Ho Jung (he/him)\nProfessor of History\nHarry Bridges Endowed Chair in Labor Studies\nUniversity of Washington
URL:https://arabishway.com/event/lecture-humanitarian-genocide-political-economy-of-palestines-pacification/
LOCATION:UW – Allen Library\, 4000 15th Ave NE\, Seattle\, WA\, 98195
CATEGORIES:Lecture
ATTACH;FMTTYPE=application/pdf:https://arabishway.com/wp-content/uploads/2024/04/TouficHaddadflyer.pdf
END:VEVENT
BEGIN:VEVENT
DTSTART;TZID=America/Los_Angeles:20240529T190000
DTEND;TZID=America/Los_Angeles:20240529T203000
DTSTAMP:20260424T164856
CREATED:20240528T170102Z
LAST-MODIFIED:20240528T170102Z
UID:10002420-1717009200-1717014600@arabishway.com
SUMMARY:Resistance and Repression Discussion and Q&A
DESCRIPTION:What: Join Samidoun Seattle for a panel and conversation on the increased repression we are facing in occupied Palestine and here in the U.S. along with the increased support for Palestinian liberation across the world. Our panel includes author and journalist Mariam Barghouti and Nizar Mansour\, a longtime Palestinian activist in the community\, and Samidoun Seattle organizer Bissan Barghouti.\nMore info and registration link: tinyurl.com/samidoun531
URL:https://arabishway.com/event/resistance-and-repression-discussion-and-qa/
LOCATION:Contact Host for Location Details
CATEGORIES:Lecture/Panel Discussion,Social Justice
ATTACH;FMTTYPE=image/png:https://arabishway.com/wp-content/uploads/2023/04/Samidoun_Seattle.png
END:VEVENT
END:VCALENDAR