BEGIN:VCALENDAR
VERSION:2.0
PRODID:-//ArabishWay - ECPv6.15.20//NONSGML v1.0//EN
CALSCALE:GREGORIAN
METHOD:PUBLISH
X-WR-CALNAME:ArabishWay
X-ORIGINAL-URL:https://arabishway.com
X-WR-CALDESC:Events for ArabishWay
REFRESH-INTERVAL;VALUE=DURATION:PT1H
X-Robots-Tag:noindex
X-PUBLISHED-TTL:PT1H
BEGIN:VTIMEZONE
TZID:America/Los_Angeles
BEGIN:DAYLIGHT
TZOFFSETFROM:-0800
TZOFFSETTO:-0700
TZNAME:PDT
DTSTART:20230312T100000
END:DAYLIGHT
BEGIN:STANDARD
TZOFFSETFROM:-0700
TZOFFSETTO:-0800
TZNAME:PST
DTSTART:20231105T090000
END:STANDARD
BEGIN:DAYLIGHT
TZOFFSETFROM:-0800
TZOFFSETTO:-0700
TZNAME:PDT
DTSTART:20240310T100000
END:DAYLIGHT
BEGIN:STANDARD
TZOFFSETFROM:-0700
TZOFFSETTO:-0800
TZNAME:PST
DTSTART:20241103T090000
END:STANDARD
BEGIN:DAYLIGHT
TZOFFSETFROM:-0800
TZOFFSETTO:-0700
TZNAME:PDT
DTSTART:20250309T100000
END:DAYLIGHT
BEGIN:STANDARD
TZOFFSETFROM:-0700
TZOFFSETTO:-0800
TZNAME:PST
DTSTART:20251102T090000
END:STANDARD
END:VTIMEZONE
BEGIN:VEVENT
DTSTART;TZID=America/Los_Angeles:20240313T090000
DTEND;TZID=America/Los_Angeles:20240313T103000
DTSTAMP:20260424T201745
CREATED:20240313T024048Z
LAST-MODIFIED:20240313T024108Z
UID:10002276-1710320400-1710325800@arabishway.com
SUMMARY:Live from Gaza: Arts for Survival webinar
DESCRIPTION:Join Eyewitness Palestine on Wednesday\, March 13th at 12PM ET for our Live from Gaza: Arts for Survival webinar\, in partnership with the Delia Arts Foundation located in the Gaza Strip. This webinar will feature Gaza’s program manager\, Ayman Jamal Mghamis\, who is based in Gaza. Delia Arts Foundation’s Executive Director\, Joelle Khayat\, will also be joining the webinar to discuss the ways Delia Arts is shifting their work in the midst of genocide to support artists. \nParticipation in this event is free as Eyewitness Palestine is seeking to highlight voices in Palestine as broadly as possible. Donations are appreciated and 50% of monies raised will support the Delia Arts Foundation.
URL:https://arabishway.com/event/live-from-gaza-arts-for-survival-webinar/
LOCATION:Virtual
CATEGORIES:Lecture
ATTACH;FMTTYPE=image/png:https://arabishway.com/wp-content/uploads/2024/03/eyewitness-event.png
END:VEVENT
BEGIN:VEVENT
DTSTART;TZID=America/Los_Angeles:20240316T191500
DTEND;TZID=America/Los_Angeles:20240316T210000
DTSTAMP:20260424T201745
CREATED:20240314T200839Z
LAST-MODIFIED:20240314T200915Z
UID:10002282-1710616500-1710622800@arabishway.com
SUMMARY:ISRAELISM: Film Screening
DESCRIPTION:ISRAELISM” Film Screening and\nQ&A with the Creators\n\nSaturday\, March 16\, 7:15 PM\nTacoma Community College\n6501 South 19th Street\, Tacoma\nAuditorium in Building 2\, off South 12th Street\n\nThis is a timely screening of a documentary about the experiences of two American Jews and their subsequent ‘unlearning’ of unconditional support for Israel and the negation of all things Palestinian.\n\nFollowing the film\, there will be a discussion and Q&A with Erin Axelman\, the film’s director\, and Simone Zimmerman\, one of two people featured in the documentary. Zimmerman is also a co-founder of If Not Now.\n\nThe Rachel Corrie Foundation is pleased to cosponsor this event\, which is hosted and sponsored by our colleagues at Jewish Voice for Peace-Tacoma.\nThe film and presentation are free and open to the public. For more information\, find the event on Facebook.
URL:https://arabishway.com/event/israelism-film-screening/
LOCATION:Tacoma Community College\, 6501 South 19th Street\, Tacoma\, WA\, 98466\, United States
CATEGORIES:Lecture/Panel Discussion,Movie
ATTACH;FMTTYPE=image/jpeg:https://arabishway.com/wp-content/uploads/2023/12/israelism.jpeg
END:VEVENT
BEGIN:VEVENT
DTSTART;TZID=America/Los_Angeles:20240317T120000
DTEND;TZID=America/Los_Angeles:20240317T150000
DTSTAMP:20260424T201745
CREATED:20240314T200127Z
LAST-MODIFIED:20240314T200210Z
UID:10002280-1710676800-1710687600@arabishway.com
SUMMARY:Online Film Salon Discussion: Films on "Hydropolitics"
DESCRIPTION:Register: Tinyurl.com/VFHL-March2024Watch the films at your convenience! \nJoin the panel at 12pm! \n\nwww.voicesfromtheholyland.org/salonrecordings  \n\nInvitation to an Online Film Salon\nSunday March 17\, 2024\n\nControlling the supply\, distribution\, and cost of water to an occupied people is apartheid in action. Israel\, through legal and illegal means\, maintains near-complete control over the region’s freshwater aquifers\, severely restricting Palestinians’ abilities to drill wells\, install pumps\, build water tanks\, or even collect rainwater. The average Israeli consumes over 3 times the water used by Palestinian on the water grid in the West Bank (9 times the water used by those off the grid). West Bank Palestinians pay 1/3 or more of their income to Israeli companies for drinking water. Meanwhile\, Gazans are now consuming less than 3 liters per day—hardly enough for survival. \nVFHL offers three short videos describing the “hydropolitics” and structural water apartheid in the Holy Land. Our panel discussion will explore designed inequalities in water distribution; the physical\, economic and regulatory controls; as well as the ecological problems of pollution and over-extraction \nWatch the videos for free at your convenience; Join the Q&A Discussion with: \nNancy Murray–Co-founder of Alliance for Water Justice in Palestine\nMazin Qumsiyeh–Director of the Palestine Institute for Biodiversity and Sustainability\nEyal Hareuveni–Author\, Parched: Israel’s Policy of Water Deprivation in the West Bank\nJeff Halper (Moderator) – Israeli-American anthropologist\, author\, lecturer\, and political activist; founder of Israeli Committee Against House Demolitions (ICAHD) \nYou must register to join the discussion & receive access to the film: Tinyurl.com/VFHL-March2024\nWatch the Trailer: Tinyurl.com/VFHL-March2024Trailer \nHow this will work: \n1 – Register here for the Voices from the Holy Land Online Film Salon: \nTinyurl.com/VFHL-March2024 \n2 – Once you register\, you will get a confirmation email from Zoom with a link to the meeting and a link with to watch the film.  (Save this confirmation letter as the meeting link is unique to your email and you must have this to participate.) \n3 – Watch the film at your convenience before the event.  Then join us with your thoughts and questions for our speakers at the Q&A Discussion on Sunday March 17\, 2024 at 3 pm ET/ 12 noon PT.   \nPlease share this announcement with your friends\, family\, and community.  Download the event flyer and post it to your social media. \nDownload the event flyer here. (Download the jpg version here)\nDownload information about the Panelists and moderator here.  (Download the jpg version here) \nDon’t forget to watch recordings of previous Online Film Salon recordings in their entirety here\, including for the January 21\, 2023 Online Film Salon  on Israelism.  An article in the Washington Report on Middle East Affairs on the December Salon can be found here.  Also read an article on the November 2023 Salon on  Marketing the Occupation – Part Two: Media and the Palestine Problem in the Washington Report on Middle East Affairs.   Here is an article on the July Salon on My Tree inMondoweiss  here. \nThe March 2024  VFHL Online Film Salon is co-sponsored by \nAlliance for Water Justice in Palestine\nProgressive Workers Union – Palestine Solidarity Group \n\n 
URL:https://arabishway.com/event/online-film-salon-discussion-films-on-hydropolitics/
LOCATION:Virtual
CATEGORIES:Lecture/Panel Discussion,Movie
ATTACH;FMTTYPE=image/jpeg:https://arabishway.com/wp-content/uploads/2024/03/hydropolitics.jpeg
END:VEVENT
BEGIN:VEVENT
DTSTART;TZID=America/Los_Angeles:20240319T180000
DTEND;TZID=America/Los_Angeles:20240319T193000
DTSTAMP:20260424T201745
CREATED:20240314T201253Z
LAST-MODIFIED:20240314T201347Z
UID:10002283-1710871200-1710876600@arabishway.com
SUMMARY:Ceasefire and Beyond: What's Happening in Palestine/Israel & Its Impact Q&A
DESCRIPTION:Tuesday\, March 19\nFROM PJALS IN SPOKANE\nCeasefire and Beyond: What’s Happening in Palestine/Israel & Its Impact Q&A\n6:00-7:30 PM\nA virtual event\nThe Peace and Justice Action League of Spokane (PJALS) invites you to participate in this facilitated Q&A session with Sabrene Odeh and Alice Rothchild\, both Pacific Northwest peace advocates with extensive knowledge of the present situation in Palestine and Israel and its history.\n\nSabrene Odeh is the co-founder of Baladna\, an organization created for Palestinian community\, organizing\, and advocacy. Alice Rothchild is a Jewish activist\, author\, and retired obstetrician who has supported health care efforts in Gaza and now serves on the Jewish Voice for Peace (JVP) Health Advisory Council.\n\nRead more about the event and register here. Participants are encouraged to submit questions ahead of time and to actively engage during the webinar.
URL:https://arabishway.com/event/ceasefire-and-beyond-whats-happening-in-palestine-israel-its-impact-qa/
LOCATION:Virtual
CATEGORIES:Lecture/Panel Discussion
ATTACH;FMTTYPE=image/png:https://arabishway.com/wp-content/uploads/2024/03/QA-RCF-panel.png
END:VEVENT
BEGIN:VEVENT
DTSTART;TZID=America/Los_Angeles:20240320T110000
DTEND;TZID=America/Los_Angeles:20240320T130000
DTSTAMP:20260424T201745
CREATED:20240318T191640Z
LAST-MODIFIED:20240318T191856Z
UID:10002293-1710932400-1710939600@arabishway.com
SUMMARY:USCPR Action Phone Zap: DISRUPTING CAMPAIGN EVENTS
DESCRIPTION:Join USCPR Action on Wednesday\, March 20 to mobilize our masses calling Congress and to learn how to disrupt campaign events. On the Zoom call\, you’ll hear a case study on how to disrupt a politician’s event to force the demand to stop arming Israel onto their agenda. We’ll also be mobilizing to defend Rafah and to stop “THE DEADLY DEAL\,” a $95 bilion spending package that just passed the Senate and now heads to the House. The Deadly Deal includes $14 billion in weapons to Israel for arming genocide\, and the elimination of all humanitarian funding to the UNRWA aid agency for Palestinian refugees\, permanently. At 2 PM ET / 11 AM PT\, we’ll flood Congress’s phone lines together to let them know we’re watching as the U.S. government continues to back Israel’s horrific massacres and forced starvation of Palestinians in Gaza. Demand that your elected officials call for a PERMANENT CEASEFIRE NOW and stop arming Israel! Join us this Wednesday\, March 20 at 2 PM ET.
URL:https://arabishway.com/event/uscpr-action-phone-zap-disrupting-campaign-events/
LOCATION:Virtual
CATEGORIES:Lecture,Social Justice
ATTACH;FMTTYPE=image/webp:https://arabishway.com/wp-content/uploads/2024/03/logo.webp
END:VEVENT
BEGIN:VEVENT
DTSTART;TZID=America/Los_Angeles:20240324T100000
DTEND;TZID=America/Los_Angeles:20240324T120000
DTSTAMP:20260424T201745
CREATED:20240314T202505Z
LAST-MODIFIED:20240314T202505Z
UID:10002285-1711274400-1711281600@arabishway.com
SUMMARY:Webinar: Health Crisis in Gaza
DESCRIPTION:HEALTH CRISIS IN GAZA\nA virtual event\nby the JVP Health Advisory Council\nSunday\, March 24\n10:00AM\n\nJoin the Jewish Voice for Peace Health Advisory Council for a webinar on the Health Crisis in Gaza\, featuring Dr. Thaer Ahmad and Dr. John Kahler\, who have recently returned from working in Gaza.\n\nDr Ahmad is an emergency room physician and assistant program director for the Advocate Christ Emergency Medicine Residency Program in Chicago. In Gaza\, he volunteered at the Al Nasser Hospital in Khan Younis.\n\nDr. Kahler is a pediatrician and cofounder of the MedGlobal project in Gaza. He has worked in Shifa Hospital in Gaza City and in hospitals and primary health centers in Khan Yunis and Rafah. He is currently working to set up a primary health center and small clinics in shelters\, focused on nutrition.\n\nRegister now for the webinar on Zoom.
URL:https://arabishway.com/event/webinar-health-crisis-in-gaza/
LOCATION:Virtual
CATEGORIES:Lecture/Panel Discussion,Social Justice
ATTACH;FMTTYPE=image/jpeg:https://arabishway.com/wp-content/uploads/2024/03/medicalglobal.jpeg
END:VEVENT
BEGIN:VEVENT
DTSTART;TZID=America/Los_Angeles:20240327T090000
DTEND;TZID=America/Los_Angeles:20240327T110000
DTSTAMP:20260424T201745
CREATED:20240313T023858Z
LAST-MODIFIED:20240313T202619Z
UID:10002275-1711530000-1711537200@arabishway.com
SUMMARY:Eyewitness Palestine: Live from Lyd Webinar
DESCRIPTION:Join Eyewitness Palestine on Wednesday\, March 27th at 12PM ET for our Live from Lyd webinar\, featuring a special virtual delegation led by Tamer Nafar\, who will take us around Lyd on a custom tour of the city. Lyd\, like many Palestinian cities\, is an ancient city that’s been home to multiple civilizations over its 5\,000-year history. It was the site of one of the most grueling massacres of the Nakba and remains haunted by the injustices brought on to it. Today\, the community of Lyd–one of the few cities with an integrated Palestinian and Israeli Jewish population–is marred by addiction and gun violence. We’ll hear from Lyd residents about the resilience and struggles they face in the community.
URL:https://arabishway.com/event/live-from-lyd-webinar/
LOCATION:Virtual
CATEGORIES:Lecture/Panel Discussion
ATTACH;FMTTYPE=image/png:https://arabishway.com/wp-content/uploads/2023/04/EyeWitnessPalestine.png
END:VEVENT
END:VCALENDAR