BEGIN:VCALENDAR
VERSION:2.0
PRODID:-//ArabishWay - ECPv6.15.20//NONSGML v1.0//EN
CALSCALE:GREGORIAN
METHOD:PUBLISH
X-WR-CALNAME:ArabishWay
X-ORIGINAL-URL:https://arabishway.com
X-WR-CALDESC:Events for ArabishWay
REFRESH-INTERVAL;VALUE=DURATION:PT1H
X-Robots-Tag:noindex
X-PUBLISHED-TTL:PT1H
BEGIN:VTIMEZONE
TZID:America/Los_Angeles
BEGIN:DAYLIGHT
TZOFFSETFROM:-0800
TZOFFSETTO:-0700
TZNAME:PDT
DTSTART:20220313T100000
END:DAYLIGHT
BEGIN:STANDARD
TZOFFSETFROM:-0700
TZOFFSETTO:-0800
TZNAME:PST
DTSTART:20221106T090000
END:STANDARD
BEGIN:DAYLIGHT
TZOFFSETFROM:-0800
TZOFFSETTO:-0700
TZNAME:PDT
DTSTART:20230312T100000
END:DAYLIGHT
BEGIN:STANDARD
TZOFFSETFROM:-0700
TZOFFSETTO:-0800
TZNAME:PST
DTSTART:20231105T090000
END:STANDARD
BEGIN:DAYLIGHT
TZOFFSETFROM:-0800
TZOFFSETTO:-0700
TZNAME:PDT
DTSTART:20240310T100000
END:DAYLIGHT
BEGIN:STANDARD
TZOFFSETFROM:-0700
TZOFFSETTO:-0800
TZNAME:PST
DTSTART:20241103T090000
END:STANDARD
END:VTIMEZONE
BEGIN:VEVENT
DTSTART;TZID=America/Los_Angeles:20230914T153000
DTEND;TZID=America/Los_Angeles:20230914T173000
DTSTAMP:20260425T115308
CREATED:20230824T053344Z
LAST-MODIFIED:20230824T053344Z
UID:10001888-1694705400-1694712600@arabishway.com
SUMMARY:ONLINE CLASS: Spotlight on Newly Translated Memoirs of an Arabian Princess
DESCRIPTION:Price:\n\n$50 Per Person (10% off for members)\n\n\n\n\n\nLecture and Discussion. This live class will be recorded and available for later viewing. \nBeyond the fairy tales and exotic images\, Zanzibar and Oman are real destinations\, each with its own history\, culture and proud people – people like Sayyida Salme\, Princess of Oman and Zanzibar. After becoming Emily Ruete\, she would be the first Arab woman to publish a book.  The class will focus on her great-great-granddaughter Andrea Emily Stumpf’s newest and most accurate translation of these Memoirs\, to be discussed with all their striking drama\, bright moments and dark truths. \nThis class will be taught in conversation with Andrea Emily Stumpf. \nOne Thursday: September 14 from 6:30 p.m. to 8:30 p.m. ET Online \n\n\n\n\n\n\nRequired Book: \nMemoirs of an Arabian Princess\, translated by Andrea Emily Stumpf (9781732397538) Book is non-returnable. \n\n\n\n\n\n\nKaren Leggett Abouraya is a journalist and children’s author\, winning the 2013 Arab American Book Award and other honors for Hands Around the Library: Protecting Egypt’s Treasured Books. She is a dual citizen of the U.S. and Egypt\, and with her Egyptian-born husband\, chairs the Baltimore Luxor Alexandria Sister City Committee and the Friends of the Bibliotheca Alexandrina (BA) Maryland\, Virginia\, D.C. Together they also produce the podcast American Egyptian Women of Influence. Karen facilitates online conversations between Egyptian and American children and co-hosted a conference on informal education at the BA in 2015. She reviewed children’s books for the New York Times\, is a past president of the Children’s Book Guild of Washington\, D.C. and has served as a judge for children’s writing contests in Egypt and Montgomery County. She earned her B.A. in international relations from Brown University.
URL:https://arabishway.com/event/online-class-spotlight-on-newly-translated-memoirs-of-an-arabian-princess/
LOCATION:Virtual
CATEGORIES:Lecture
ATTACH;FMTTYPE=image/png:https://arabishway.com/wp-content/uploads/2023/08/Memoirs.png
END:VEVENT
BEGIN:VEVENT
DTSTART;TZID=America/Los_Angeles:20230921T090000
DTEND;TZID=America/Los_Angeles:20230921T103000
DTSTAMP:20260425T115308
CREATED:20230914T162239Z
LAST-MODIFIED:20230914T162330Z
UID:10001917-1695286800-1695292200@arabishway.com
SUMMARY:Art Under Occupation - Virtual Panel
DESCRIPTION:Eyewitness Palestine is back with the next Zoom event in our monthly series\, “Art Under Occupation\,” which features several globally-recognized Palestinian artists\, including Saleh Bakri\, Sliman Mansour\, Dareen Tatour\, Kher Fody\, & Yazid Sadi. Saleh Bakri is a Palestinian actor who has starred in films like “The Present” (2020) and “Salt of this Sea” (2008). Sliman Mansour is the painter responsible for the one of the most iconic Palestinian artworks\, “Camel of Hardships” and “Woman with Jerusalem.” Dareen Tatour is the internationally recognized poet who was jailed by Israel for one of her poems. While she was incarcerated\, she spoke out about abuse she’d experienced as a child\, and\, by doing so\, empowered Palestinian women from all over to tell their own stories. Kher Foudy is a multi-talented artist who paints pictures using Arabic calligraphy and is also the frontman of the iconic Palestinian band “Walaat\,” whose music of resistance showcase the resilience of the Palestinians of occupied Akka. Yazid Sadi\, embodying the Akkawi spirit\, balances being a talent manager and the owner of an art gallery & cafe in the Old City of Akka\, Nawaya Gallery and  We look forward to hearing from these artists about the beauty and struggle of their work under occupation and hope that you’ll join us in welcoming them on September 21st at 12pm Noon ET/9am PT. \nIt is our goal to raise as much funding as possible. However\, we do not want price to be a barrier to entry. If you do not have the capacity to donate\, but would still like to attend\, please email us at info@eyewitnesspalestine.org with the subject “Art Under Occupation” to receive the event link.
URL:https://arabishway.com/event/art-under-occupation-virtual-panel/
LOCATION:Virtual
CATEGORIES:Lecture/Panel Discussion
ATTACH;FMTTYPE=image/png:https://arabishway.com/wp-content/uploads/2023/09/ARTUNDEROCCUPATION_Flyer.png
END:VEVENT
END:VCALENDAR