BEGIN:VCALENDAR
VERSION:2.0
PRODID:-//ArabishWay - ECPv6.15.20//NONSGML v1.0//EN
CALSCALE:GREGORIAN
METHOD:PUBLISH
X-ORIGINAL-URL:https://arabishway.com
X-WR-CALDESC:Events for ArabishWay
REFRESH-INTERVAL;VALUE=DURATION:PT1H
X-Robots-Tag:noindex
X-PUBLISHED-TTL:PT1H
BEGIN:VTIMEZONE
TZID:America/Los_Angeles
BEGIN:DAYLIGHT
TZOFFSETFROM:-0800
TZOFFSETTO:-0700
TZNAME:PDT
DTSTART:20220313T100000
END:DAYLIGHT
BEGIN:STANDARD
TZOFFSETFROM:-0700
TZOFFSETTO:-0800
TZNAME:PST
DTSTART:20221106T090000
END:STANDARD
BEGIN:DAYLIGHT
TZOFFSETFROM:-0800
TZOFFSETTO:-0700
TZNAME:PDT
DTSTART:20230312T100000
END:DAYLIGHT
BEGIN:STANDARD
TZOFFSETFROM:-0700
TZOFFSETTO:-0800
TZNAME:PST
DTSTART:20231105T090000
END:STANDARD
BEGIN:DAYLIGHT
TZOFFSETFROM:-0800
TZOFFSETTO:-0700
TZNAME:PDT
DTSTART:20240310T100000
END:DAYLIGHT
BEGIN:STANDARD
TZOFFSETFROM:-0700
TZOFFSETTO:-0800
TZNAME:PST
DTSTART:20241103T090000
END:STANDARD
END:VTIMEZONE
BEGIN:VEVENT
DTSTART;TZID=America/Los_Angeles:20230617T110000
DTEND;TZID=America/Los_Angeles:20230617T130000
DTSTAMP:20260425T191440
CREATED:20230610T171000Z
LAST-MODIFIED:20230610T171000Z
UID:10001820-1686999600-1687006800@arabishway.com
SUMMARY:Honoring Palestinian Fathers with PFC
DESCRIPTION:Palestinian Feminist Collective (PFC) warmly invites you to join us for our June 2023 Feminist Futures Program. This month we are honoring Palestinian fathers with a virtual event meant to create space for\, honor and recognize the complex lived experiences and realities of Palestinian fathers. We will be hosting two incredible speakers: Raja Shehadeh\, author of the memoir We Could Have Been Friends\, My Father and I\, and Abeer Otman\, postdoctoral scholar\, who will unpack how Zionist settler colonialism impinges on Palestinian fatherhood\, as well as how fathers defy settler colonialism by showing love\, care\, and protection for their families and homes. As Palestinian feminists\, we will conceptualize: What are the experiences of Palestinian fathers – diverse and complicated? How do we tell these stories of fatherhood? How can we continue to hold them and make space for them in our pursuit of Palestinian liberation? \n  \nAbeer Otman’s postdoctoral research investigates father-child connectivity under the settler-colonial context. She has a doctorate in social work from the Hebrew University of Jerusalem. Her doctoral research focused on fathers and fatherhood in a settler colonial context: the case of occupied East Jerusalem (OEJ). As a community and social worker in East Jerusalem for more than ten years\, she engages in local activities concerning fulfillment of socio-economic rights\, improving physical spaces\, developing social and educational services. \nRaja Shehadeh is a Palestinian lawyer\, human rights activist\, and writer. He co-founded the Palestinian human rights organization Al-Haq in 1979. He is the author of several books\, including Palestinian Walks\, which he won the Orwell Prize in 2008. In addition to his legal work\, Shehadeh has written a number of books about Palestine through the lens of his life\, including Strangers in the House (2002)\, Occupation Diaries (2012)\, and his latest\, We Could Have Been Friends\, My Father and I: A Palestinian Memoir (2022).
URL:https://arabishway.com/event/honoring-palestinian-fathers-with-pfc/
CATEGORIES:Book Reading,Lecture
ATTACH;FMTTYPE=image/jpeg:https://arabishway.com/wp-content/uploads/2023/06/PFC-Shihade.jpeg
END:VEVENT
BEGIN:VEVENT
DTSTART;TZID=America/Los_Angeles:20230620T100000
DTEND;TZID=America/Los_Angeles:20230620T120000
DTSTAMP:20260425T191440
CREATED:20230616T050408Z
LAST-MODIFIED:20230616T050408Z
UID:10001822-1687255200-1687262400@arabishway.com
SUMMARY:Online Class: Spotlight on Enter Ghost by Isabella Hammad With Heba F. El-Shazli
DESCRIPTION:Isabella Hammad’s new novel\, Enter Ghost\, features an actor’s return to Palestine via the staging of Shakespeare’s Hamlet in the West Bank which reflects the turmoil within Palestinian society. If you enjoyed her first debut novel\, The Parisian\, then please join us on another journey into Palestinian society and a quest for self-healing\, political knowledge\, and a painful awakening. One Tuesday\, June 20th\, from 1:00 p.m. to 3:00 p.m. EDT \nOnline
URL:https://arabishway.com/event/online-class-spotlight-on-enter-ghost-by-isabella-hammad-with-heba-f-el-shazli/
LOCATION:Virtual
CATEGORIES:Book Reading,Lecture
ATTACH;FMTTYPE=image/png:https://arabishway.com/wp-content/uploads/2023/06/Ghost-Hammad.png
END:VEVENT
END:VCALENDAR