BEGIN:VCALENDAR
VERSION:2.0
PRODID:-//ArabishWay - ECPv6.15.20//NONSGML v1.0//EN
CALSCALE:GREGORIAN
METHOD:PUBLISH
X-WR-CALNAME:ArabishWay
X-ORIGINAL-URL:https://arabishway.com
X-WR-CALDESC:Events for ArabishWay
REFRESH-INTERVAL;VALUE=DURATION:PT1H
X-Robots-Tag:noindex
X-PUBLISHED-TTL:PT1H
BEGIN:VTIMEZONE
TZID:America/Los_Angeles
BEGIN:DAYLIGHT
TZOFFSETFROM:-0800
TZOFFSETTO:-0700
TZNAME:PDT
DTSTART:20240310T100000
END:DAYLIGHT
BEGIN:STANDARD
TZOFFSETFROM:-0700
TZOFFSETTO:-0800
TZNAME:PST
DTSTART:20241103T090000
END:STANDARD
BEGIN:DAYLIGHT
TZOFFSETFROM:-0800
TZOFFSETTO:-0700
TZNAME:PDT
DTSTART:20250309T100000
END:DAYLIGHT
BEGIN:STANDARD
TZOFFSETFROM:-0700
TZOFFSETTO:-0800
TZNAME:PST
DTSTART:20251102T090000
END:STANDARD
BEGIN:DAYLIGHT
TZOFFSETFROM:-0800
TZOFFSETTO:-0700
TZNAME:PDT
DTSTART:20260308T100000
END:DAYLIGHT
BEGIN:STANDARD
TZOFFSETFROM:-0700
TZOFFSETTO:-0800
TZNAME:PST
DTSTART:20261101T090000
END:STANDARD
END:VTIMEZONE
BEGIN:VEVENT
DTSTART;TZID=America/Los_Angeles:20251004T120000
DTEND;TZID=America/Los_Angeles:20251004T180000
DTSTAMP:20260421T172528
CREATED:20250926T210129Z
LAST-MODIFIED:20250926T210215Z
UID:10003328-1759579200-1759600800@arabishway.com
SUMMARY:Fall Arts Walk and Social Justice Block Party
DESCRIPTION:Join the Rachel Corrie Foundation for Peace and Justice (RCF)\, Art Forces\, and the Olympia-Rafah Solidarity Mural Project (ORSMP)\, during Olympia Arts Walk weekend for our Social Justice Block Party! \nOn Friday evening\, we’ll be in front of the Olympia-Rafah Solidarity Mural at Capitol Way N. and State Ave. Our program\, 6-8 pm\, will reflect on how art and creative expression serve as catalysts of cultural resistance and resilience in response to urgent issues facing our community. From US immigrant families to Palestinians trapped in the assault on Gaza\, we’ll share words\, images\, music\, and dance that resist cultural erasure and build solidarity across movements. Local organizations will table throughout the evening\, sharing resources and opportunities for taking action. \nOn Saturday\, 12:00-6:00 p.m.\, RCF will host a crafts market with vendors from Olympia. Palestinian olive oil and crafts will also be available for purchase. \nVolunteers needed! If you’re in the Olympia area and would like to volunteer\, you can sign up for a shift on POINT or reach out directly to info@rachelcorriefoundation.org \nFriday\, October 3\, 6:00-10 PM \nSaturday\, October 4\,12:00-6:00 PM \nAt the Olympia Rafah Solidarity Mural \n119 1/2 Capitol Way N.
URL:https://arabishway.com/event/fall-arts-walk-and-social-justice-block-party-2/
LOCATION:Olympia – Rafah Solidarity Mural\, 119 1/2 Capitol Way N\, Olympia\, WA\, United States
CATEGORIES:Gathering,Social Justice
ATTACH;FMTTYPE=image/jpeg:https://arabishway.com/wp-content/uploads/2023/04/mural-RCF-Olympia.jpeg
END:VEVENT
BEGIN:VEVENT
DTSTART;TZID=America/Los_Angeles:20251004T140000
DTEND;TZID=America/Los_Angeles:20251004T160000
DTSTAMP:20260421T172528
CREATED:20250927T022030Z
LAST-MODIFIED:20250927T022246Z
UID:10003330-1759586400-1759593600@arabishway.com
SUMMARY:Rise Up for Gaza: March
DESCRIPTION:SEATTLE: TWO YEARS OF GENOCIDE: RISE UP FOR GAZA! \nOn October 4th\, an international day of action\, we will take the streets and shut it down. From wherever we are\, we will make clear: the people of the world stand with Gaza\, and demand a total arms embargo and sanctions against Israel. \n🗓️Saturday\, October 4\n⏰2PM\n📍Victor Steinbrueck Park | 1999 Western Ave.
URL:https://arabishway.com/event/rise-up-for-gaza-march/
LOCATION:Victor Steinbrueck Park\, 1999 Western Ave\, Seattle\, WA\, 98121
CATEGORIES:Gathering,Social Justice
ATTACH;FMTTYPE=image/png:https://arabishway.com/wp-content/uploads/2025/09/Screenshot-2025-09-26-at-7.09.21-PM.png
END:VEVENT
END:VCALENDAR