BEGIN:VCALENDAR
VERSION:2.0
PRODID:-//ArabishWay - ECPv6.15.20//NONSGML v1.0//EN
CALSCALE:GREGORIAN
METHOD:PUBLISH
X-ORIGINAL-URL:https://arabishway.com
X-WR-CALDESC:Events for ArabishWay
REFRESH-INTERVAL;VALUE=DURATION:PT1H
X-Robots-Tag:noindex
X-PUBLISHED-TTL:PT1H
BEGIN:VTIMEZONE
TZID:America/Los_Angeles
BEGIN:DAYLIGHT
TZOFFSETFROM:-0800
TZOFFSETTO:-0700
TZNAME:PDT
DTSTART:20240310T100000
END:DAYLIGHT
BEGIN:STANDARD
TZOFFSETFROM:-0700
TZOFFSETTO:-0800
TZNAME:PST
DTSTART:20241103T090000
END:STANDARD
BEGIN:DAYLIGHT
TZOFFSETFROM:-0800
TZOFFSETTO:-0700
TZNAME:PDT
DTSTART:20250309T100000
END:DAYLIGHT
BEGIN:STANDARD
TZOFFSETFROM:-0700
TZOFFSETTO:-0800
TZNAME:PST
DTSTART:20251102T090000
END:STANDARD
BEGIN:DAYLIGHT
TZOFFSETFROM:-0800
TZOFFSETTO:-0700
TZNAME:PDT
DTSTART:20260308T100000
END:DAYLIGHT
BEGIN:STANDARD
TZOFFSETFROM:-0700
TZOFFSETTO:-0800
TZNAME:PST
DTSTART:20261101T090000
END:STANDARD
END:VTIMEZONE
BEGIN:VEVENT
DTSTART;TZID=America/Los_Angeles:20250629T120000
DTEND;TZID=America/Los_Angeles:20250629T180000
DTSTAMP:20260422T050051
CREATED:20250515T054731Z
LAST-MODIFIED:20250618T235252Z
UID:10003124-1751198400-1751220000@arabishway.com
SUMMARY:Baladna Summer Community Gathering
DESCRIPTION:Join us for the Baladna Summer Community Gathering ☀️\n🎉 Food\, music\, games\, bouncy houses\, arts & crafts\, vendors\, and special graduate recognition!\n📍 Marymoor Park\, Redmond WA\n🗓️ June 29\, 2025 | ⏰ 12–6 PM\nBring your friends\, your family\, and your community spirit ❤️ \nKnow a Graduate?\nOr are you a Graduate yourself?\nWe’d love to celebrate you! Register using the link in our bio \nBring the whole family – it’s going to be a beautiful day!\nSee you there!\n🎓☀️❤️🎉
URL:https://arabishway.com/event/baladna-summer-community-gathering/
LOCATION:Marymoor Park\, 6046 West Lake Sammamish Parkway NE\, Redmond\, WA\, 98052\, United States
CATEGORIES:Community Group,Gathering
ATTACH;FMTTYPE=image/png:https://arabishway.com/wp-content/uploads/2025/05/Screenshot-2025-06-18-at-4.50.13 PM.png
END:VEVENT
END:VCALENDAR