BEGIN:VCALENDAR
VERSION:2.0
PRODID:-//ArabishWay - ECPv6.15.20//NONSGML v1.0//EN
CALSCALE:GREGORIAN
METHOD:PUBLISH
X-ORIGINAL-URL:https://arabishway.com
X-WR-CALDESC:Events for ArabishWay
REFRESH-INTERVAL;VALUE=DURATION:PT1H
X-Robots-Tag:noindex
X-PUBLISHED-TTL:PT1H
BEGIN:VTIMEZONE
TZID:America/Los_Angeles
BEGIN:DAYLIGHT
TZOFFSETFROM:-0800
TZOFFSETTO:-0700
TZNAME:PDT
DTSTART:20240310T100000
END:DAYLIGHT
BEGIN:STANDARD
TZOFFSETFROM:-0700
TZOFFSETTO:-0800
TZNAME:PST
DTSTART:20241103T090000
END:STANDARD
BEGIN:DAYLIGHT
TZOFFSETFROM:-0800
TZOFFSETTO:-0700
TZNAME:PDT
DTSTART:20250309T100000
END:DAYLIGHT
BEGIN:STANDARD
TZOFFSETFROM:-0700
TZOFFSETTO:-0800
TZNAME:PST
DTSTART:20251102T090000
END:STANDARD
BEGIN:DAYLIGHT
TZOFFSETFROM:-0800
TZOFFSETTO:-0700
TZNAME:PDT
DTSTART:20260308T100000
END:DAYLIGHT
BEGIN:STANDARD
TZOFFSETFROM:-0700
TZOFFSETTO:-0800
TZNAME:PST
DTSTART:20261101T090000
END:STANDARD
END:VTIMEZONE
BEGIN:VEVENT
DTSTART;TZID=America/Los_Angeles:20251101T110000
DTEND;TZID=America/Los_Angeles:20251101T130000
DTSTAMP:20260421T133957
CREATED:20251031T171120Z
LAST-MODIFIED:20251031T171120Z
UID:10003389-1761994800-1762002000@arabishway.com
SUMMARY:Peace Vigil [Whidbey Island]
DESCRIPTION:🔻 Every Saturday\, 11am-1pm: Weekly vigil with @solidaritywpalestine_whidbey to stand with Palestine\, raise community awareness\, and support one another. Bring your flags\, signs\, or come as you are!
URL:https://arabishway.com/event/peace-vigil-whidbey-island/
LOCATION:WA
CATEGORIES:Gathering,Social Justice
ATTACH;FMTTYPE=image/png:https://arabishway.com/wp-content/uploads/2025/10/Screenshot-2025-10-31-at-9.44.01-AM.png
END:VEVENT
BEGIN:VEVENT
DTSTART;TZID=America/Los_Angeles:20251102T110000
DTEND;TZID=America/Los_Angeles:20251102T140000
DTSTAMP:20260421T133957
CREATED:20251031T161512Z
LAST-MODIFIED:20251031T161531Z
UID:10003385-1762081200-1762092000@arabishway.com
SUMMARY:Tatreez circle + potluck
DESCRIPTION:Sunday 11/2 Tatreez circle + potluck\nCome by with your tatreez (or other craft) project\, and bring some food to share.\nOpen to all\n(Note: This is not a structured class but the community is always happy to help if you are learning or need help!) \n♥️ See you this weekend! \nShare with your friends\, and DM us if you are able to bring some food to share! \n(Reminder: We know it’s Halloween tomorrow\, please be thoughtful and no gory or scary costumes)
URL:https://arabishway.com/event/sunday-11-2-tatreez-circle-potluck/
LOCATION:Suzanne Zahr\, Art & Architecture\, 2441 76th Ave SE\, Ste 160\, Mercer Island\, WA\, 98040\, United States
CATEGORIES:Art,Gathering
ATTACH;FMTTYPE=image/png:https://arabishway.com/wp-content/uploads/2025/10/Screenshot-2025-10-31-at-9.08.20-AM.png
END:VEVENT
BEGIN:VEVENT
DTSTART;TZID=America/Los_Angeles:20251102T160000
DTEND;TZID=America/Los_Angeles:20251102T200000
DTSTAMP:20260421T133957
CREATED:20250911T135310Z
LAST-MODIFIED:20250911T135344Z
UID:10003302-1762099200-1762113600@arabishway.com
SUMMARY:Lebanese Family Night
DESCRIPTION:Sunday\, November 2 – Lebanese Family Night\n Bonsor Community Centre\, Burnaby |  4–8 PM (details to follow)
URL:https://arabishway.com/event/lebanese-family-night/
LOCATION:Bonsor Community Centre\, 6550 Bonsor Ave\, Burnaby\, British Columbia\, V5H 4P6\,\, Canada
CATEGORIES:Community Group,For Kids,Gathering
ATTACH;FMTTYPE=image/png:https://arabishway.com/wp-content/uploads/2025/09/Screenshot-2025-09-11-at-6.51.48-AM.png
END:VEVENT
BEGIN:VEVENT
DTSTART;TZID=America/Los_Angeles:20251110T160000
DTEND;TZID=America/Los_Angeles:20251110T193000
DTSTAMP:20260421T133957
CREATED:20251031T162451Z
LAST-MODIFIED:20251031T162943Z
UID:10003386-1762790400-1762803000@arabishway.com
SUMMARY:Social Night with MESC - UW
DESCRIPTION:This event will be an epic night!🔥🙀 \nWe are here with the Social Night that you DON’T want to miss!!😎👌🏻\nSnacks ? we got you!!🍪🍿\nDrinks? Don’t even worry about it!!🍹\nMusic ? Of course!!🫡🎶🥁\nBoard Games? Definitely!!🎲🃏🎯 \nWhere? When???🤔\n📍The HUB 334\n🗓️ Monday Nov 10th 2025\n🕓 4:00-7:30 \nCome and you’ll have the BEST time!😏🤞🏻\nWe better see you there making new friends!!🙂‍↔️💗
URL:https://arabishway.com/event/social-night-with-mesc-uw/
LOCATION:UW – HUB\, 4001 E Stevens Way NE\, Seattle\, WA\, 98195\, United States
CATEGORIES:Gathering
ATTACH;FMTTYPE=image/png:https://arabishway.com/wp-content/uploads/2025/10/Screenshot-2025-10-31-at-9.20.47-AM.png
END:VEVENT
BEGIN:VEVENT
DTSTART;TZID=America/Los_Angeles:20251128T180000
DTEND;TZID=America/Los_Angeles:20251128T210000
DTSTAMP:20260421T133957
CREATED:20251128T202827Z
LAST-MODIFIED:20251128T202910Z
UID:10003414-1764352800-1764363600@arabishway.com
SUMMARY:Community at Ya Hala
DESCRIPTION:Games\, Music\, Cafe \nRemember\, Ya Hala’s café and retail space is open to all \nMore details about each weekend’s events will drop on the Monday before. 👀
URL:https://arabishway.com/event/ya-hala-game-night-dec/
LOCATION:Suzanne Zahr\, Art & Architecture\, 2441 76th Ave SE\, Ste 160\, Mercer Island\, WA\, 98040\, United States
CATEGORIES:Community Group,Games,Gathering,Music
ATTACH;FMTTYPE=image/png:https://arabishway.com/wp-content/uploads/2025/07/Screenshot-2025-07-28-at-7.46.38-PM.png
END:VEVENT
END:VCALENDAR