BEGIN:VCALENDAR
VERSION:2.0
PRODID:-//ArabishWay - ECPv6.15.20//NONSGML v1.0//EN
CALSCALE:GREGORIAN
METHOD:PUBLISH
X-WR-CALNAME:ArabishWay
X-ORIGINAL-URL:https://arabishway.com
X-WR-CALDESC:Events for ArabishWay
REFRESH-INTERVAL;VALUE=DURATION:PT1H
X-Robots-Tag:noindex
X-PUBLISHED-TTL:PT1H
BEGIN:VTIMEZONE
TZID:America/Los_Angeles
BEGIN:DAYLIGHT
TZOFFSETFROM:-0800
TZOFFSETTO:-0700
TZNAME:PDT
DTSTART:20240310T100000
END:DAYLIGHT
BEGIN:STANDARD
TZOFFSETFROM:-0700
TZOFFSETTO:-0800
TZNAME:PST
DTSTART:20241103T090000
END:STANDARD
BEGIN:DAYLIGHT
TZOFFSETFROM:-0800
TZOFFSETTO:-0700
TZNAME:PDT
DTSTART:20250309T100000
END:DAYLIGHT
BEGIN:STANDARD
TZOFFSETFROM:-0700
TZOFFSETTO:-0800
TZNAME:PST
DTSTART:20251102T090000
END:STANDARD
BEGIN:DAYLIGHT
TZOFFSETFROM:-0800
TZOFFSETTO:-0700
TZNAME:PDT
DTSTART:20260308T100000
END:DAYLIGHT
BEGIN:STANDARD
TZOFFSETFROM:-0700
TZOFFSETTO:-0800
TZNAME:PST
DTSTART:20261101T090000
END:STANDARD
END:VTIMEZONE
BEGIN:VEVENT
DTSTART;TZID=America/Los_Angeles:20250403T183000
DTEND;TZID=America/Los_Angeles:20250403T200000
DTSTAMP:20260422T104435
CREATED:20250331T200038Z
LAST-MODIFIED:20250331T200038Z
UID:10002949-1743705000-1743710400@arabishway.com
SUMMARY:Arabic-English Language Exchange: Chatting and Games at Teku Tavern:
DESCRIPTION:هلا يا جماعه\nWe’ll meet at Teku Tavern for some chatting in Arabic/English and possibly some games. I’ll bring conversation starters and games but feel free to bring your own! \n*Teku Tavern is all ages and has both non-alcoholic\, cafe drinks and beer* \nCome join us\, all dialects welcome!
URL:https://arabishway.com/event/arabic-english-language-exchange-chatting-and-games-at-teku-tavern/
LOCATION:teKu Tavern\, 552 Denny Wy\, Seattle\, WA\, 98109
CATEGORIES:Gathering,Language
ATTACH;FMTTYPE=image/png:https://arabishway.com/wp-content/uploads/2024/12/Screenshot-2024-12-29-at-9.48.28 PM.png
END:VEVENT
BEGIN:VEVENT
DTSTART;TZID=America/Los_Angeles:20250405T100000
DTEND;TZID=America/Los_Angeles:20250405T130000
DTSTAMP:20260422T104435
CREATED:20250331T211021Z
LAST-MODIFIED:20250331T211145Z
UID:10002972-1743847200-1743858000@arabishway.com
SUMMARY:Ya Hala Cafe and Retail Space: Fairuz and Coffee
DESCRIPTION:Remember\, Ya Hala’s café and retail space is open to all on weekends this April\, Fridays 5-9p\, Saturdays and Sundays 10a-1p. \n📣 IMPORTANT: Some events will require registration/RSVP so you can save a spot! \nTake a look ahead at the calendar and then keep an eye out for links to sign up for specific events. You won’t want to miss out. \nMore details about each weekend’s events will drop on the Monday before. 👀
URL:https://arabishway.com/event/ya-hala-april-5-f_and_c/
LOCATION:Suzanne Zahr\, Art & Architecture\, 2441 76th Ave SE\, Ste 160\, Mercer Island\, WA\, 98040\, United States
CATEGORIES:Gathering,Music
ATTACH;FMTTYPE=image/png:https://arabishway.com/wp-content/uploads/2025/03/Screenshot-2025-03-31-at-2.04.20 PM.png
END:VEVENT
BEGIN:VEVENT
DTSTART;TZID=America/Los_Angeles:20250405T130000
DTEND;TZID=America/Los_Angeles:20250405T150000
DTSTAMP:20260422T104435
CREATED:20250331T211605Z
LAST-MODIFIED:20250331T211740Z
UID:10002979-1743858000-1743865200@arabishway.com
SUMMARY:Ya Hala Cafe and Retail Space: Critical Convos: Perfect Victims
DESCRIPTION:Remember\, Ya Hala’s café and retail space is open to all on weekends this April\, Fridays 5-9p\, Saturdays and Sundays 10a-1p. \n📣 IMPORTANT: Some events will require registration/RSVP so you can save a spot! \nTake a look ahead at the calendar and then keep an eye out for links to sign up for specific events. You won’t want to miss out. \nMore details about each weekend’s events will drop on the Monday before. 👀
URL:https://arabishway.com/event/ya-hala-april-27-f_and_c/
LOCATION:Suzanne Zahr\, Art & Architecture\, 2441 76th Ave SE\, Ste 160\, Mercer Island\, WA\, 98040\, United States
CATEGORIES:Book Club,Gathering
ATTACH;FMTTYPE=image/png:https://arabishway.com/wp-content/uploads/2025/03/Screenshot-2025-03-31-at-2.04.20 PM.png
END:VEVENT
BEGIN:VEVENT
DTSTART;TZID=America/Los_Angeles:20250406T100000
DTEND;TZID=America/Los_Angeles:20250406T130000
DTSTAMP:20260422T104435
CREATED:20250331T211156Z
LAST-MODIFIED:20250331T211226Z
UID:10002973-1743933600-1743944400@arabishway.com
SUMMARY:Ya Hala Cafe and Retail Space: Fairuz and Coffee
DESCRIPTION:Remember\, Ya Hala’s café and retail space is open to all on weekends this April\, Fridays 5-9p\, Saturdays and Sundays 10a-1p. \n📣 IMPORTANT: Some events will require registration/RSVP so you can save a spot! \nTake a look ahead at the calendar and then keep an eye out for links to sign up for specific events. You won’t want to miss out. \nMore details about each weekend’s events will drop on the Monday before. 👀
URL:https://arabishway.com/event/ya-hala-april-6-f_and_c/
LOCATION:Suzanne Zahr\, Art & Architecture\, 2441 76th Ave SE\, Ste 160\, Mercer Island\, WA\, 98040\, United States
CATEGORIES:Gathering,Music
ATTACH;FMTTYPE=image/png:https://arabishway.com/wp-content/uploads/2025/03/Screenshot-2025-03-31-at-2.04.20 PM.png
END:VEVENT
BEGIN:VEVENT
DTSTART;TZID=America/Los_Angeles:20250406T130000
DTEND;TZID=America/Los_Angeles:20250406T150000
DTSTAMP:20260422T104435
CREATED:20250331T211759Z
LAST-MODIFIED:20250331T211934Z
UID:10002980-1743944400-1743951600@arabishway.com
SUMMARY:Ya Hala Cafe and Retail Space: What is Land Day?
DESCRIPTION:Remember\, Ya Hala’s café and retail space is open to all on weekends this April\, Fridays 5-9p\, Saturdays and Sundays 10a-1p. \n📣 IMPORTANT: Some events will require registration/RSVP so you can save a spot! \nTake a look ahead at the calendar and then keep an eye out for links to sign up for specific events. You won’t want to miss out. \nMore details about each weekend’s events will drop on the Monday before. 👀
URL:https://arabishway.com/event/ya-hala-what_is_land_day/
LOCATION:Suzanne Zahr\, Art & Architecture\, 2441 76th Ave SE\, Ste 160\, Mercer Island\, WA\, 98040\, United States
CATEGORIES:Book Club,Gathering
ATTACH;FMTTYPE=image/png:https://arabishway.com/wp-content/uploads/2025/03/Screenshot-2025-03-31-at-2.04.20 PM.png
END:VEVENT
BEGIN:VEVENT
DTSTART;TZID=America/Los_Angeles:20250406T150000
DTEND;TZID=America/Los_Angeles:20250406T170000
DTSTAMP:20260422T104435
CREATED:20250331T205308Z
LAST-MODIFIED:20250331T205308Z
UID:10002963-1743951600-1743958800@arabishway.com
SUMMARY:Kitsap Palestine Solidarity Coalition: Meet and Greet
DESCRIPTION:Meet and Greet with Kitsap Palestine Solidarity Coalition \n  \nJoin us for refreshments and discussion as we coordinate our community effort for peace! \n  \nChild friendly event – Child care available! \n  \nRSVP by email to kitsapforgazaevent@gmail.com \nAll are welcome\, hate is not!
URL:https://arabishway.com/event/kitsap-palestine-solidarity-coalition-meet-and-greet/
LOCATION:Ground Zero Center for Non-Violent Action\, 16159 Clear Creek Rd NW\, Poulsbo\, WA\, 98370
CATEGORIES:Gathering,Social Justice
ATTACH;FMTTYPE=image/jpeg:https://arabishway.com/wp-content/uploads/2025/03/IMG_7275.jpeg
END:VEVENT
BEGIN:VEVENT
DTSTART;TZID=America/Los_Angeles:20250412T100000
DTEND;TZID=America/Los_Angeles:20250412T130000
DTSTAMP:20260422T104435
CREATED:20250331T211242Z
LAST-MODIFIED:20250331T211303Z
UID:10002974-1744452000-1744462800@arabishway.com
SUMMARY:Ya Hala Cafe and Retail Space: Fairuz and Coffee
DESCRIPTION:Remember\, Ya Hala’s café and retail space is open to all on weekends this April\, Fridays 5-9p\, Saturdays and Sundays 10a-1p. \n📣 IMPORTANT: Some events will require registration/RSVP so you can save a spot! \nTake a look ahead at the calendar and then keep an eye out for links to sign up for specific events. You won’t want to miss out. \nMore details about each weekend’s events will drop on the Monday before. 👀
URL:https://arabishway.com/event/ya-hala-april-12-f_and_c/
LOCATION:Suzanne Zahr\, Art & Architecture\, 2441 76th Ave SE\, Ste 160\, Mercer Island\, WA\, 98040\, United States
CATEGORIES:Gathering,Music
ATTACH;FMTTYPE=image/png:https://arabishway.com/wp-content/uploads/2025/03/Screenshot-2025-03-31-at-2.04.20 PM.png
END:VEVENT
BEGIN:VEVENT
DTSTART;TZID=America/Los_Angeles:20250413T100000
DTEND;TZID=America/Los_Angeles:20250413T130000
DTSTAMP:20260422T104435
CREATED:20250331T211320Z
LAST-MODIFIED:20250331T211343Z
UID:10002975-1744538400-1744549200@arabishway.com
SUMMARY:Ya Hala Cafe and Retail Space: Fairuz and Coffee
DESCRIPTION:Remember\, Ya Hala’s café and retail space is open to all on weekends this April\, Fridays 5-9p\, Saturdays and Sundays 10a-1p. \n📣 IMPORTANT: Some events will require registration/RSVP so you can save a spot! \nTake a look ahead at the calendar and then keep an eye out for links to sign up for specific events. You won’t want to miss out. \nMore details about each weekend’s events will drop on the Monday before. 👀
URL:https://arabishway.com/event/ya-hala-april-13-f_and_c/
LOCATION:Suzanne Zahr\, Art & Architecture\, 2441 76th Ave SE\, Ste 160\, Mercer Island\, WA\, 98040\, United States
CATEGORIES:Gathering,Music
ATTACH;FMTTYPE=image/png:https://arabishway.com/wp-content/uploads/2025/03/Screenshot-2025-03-31-at-2.04.20 PM.png
END:VEVENT
BEGIN:VEVENT
DTSTART;TZID=America/Los_Angeles:20250413T130000
DTEND;TZID=America/Los_Angeles:20250413T150000
DTSTAMP:20260422T104435
CREATED:20250331T212422Z
LAST-MODIFIED:20250331T212506Z
UID:10002982-1744549200-1744556400@arabishway.com
SUMMARY:Ya Hala Cafe and Retail Space: Heritage Hour: Create Your Own Tatreez
DESCRIPTION:Remember\, Ya Hala’s café and retail space is open to all on weekends this April\, Fridays 5-9p\, Saturdays and Sundays 10a-1p. \n📣 IMPORTANT: Some events will require registration/RSVP so you can save a spot! \nTake a look ahead at the calendar and then keep an eye out for links to sign up for specific events. You won’t want to miss out. \nMore details about each weekend’s events will drop on the Monday before. 👀
URL:https://arabishway.com/event/ya-hala-april-13-tatreez/
LOCATION:Suzanne Zahr\, Art & Architecture\, 2441 76th Ave SE\, Ste 160\, Mercer Island\, WA\, 98040\, United States
CATEGORIES:Book Club,Gathering
ATTACH;FMTTYPE=image/png:https://arabishway.com/wp-content/uploads/2025/03/Screenshot-2025-03-31-at-2.04.20 PM.png
END:VEVENT
BEGIN:VEVENT
DTSTART;TZID=America/Los_Angeles:20250417T183000
DTEND;TZID=America/Los_Angeles:20250417T200000
DTSTAMP:20260422T104435
CREATED:20250331T200102Z
LAST-MODIFIED:20250331T200223Z
UID:10002950-1744914600-1744920000@arabishway.com
SUMMARY:Arabic-English Language Exchange: Chatting and Games at Teku Tavern
DESCRIPTION:هلا يا جماعه\nWe’ll meet at Teku Tavern for some chatting in Arabic/English and possibly some games. I’ll bring conversation starters and games but feel free to bring your own! \n*Teku Tavern is all ages and has both non-alcoholic\, cafe drinks and beer* \nCome join us\, all dialects welcome!
URL:https://arabishway.com/event/arabic-english-language-exchange-chatting-and-games-at-teku-tavern-april/
LOCATION:teKu Tavern\, 552 Denny Wy\, Seattle\, WA\, 98109
CATEGORIES:Gathering,Language
ATTACH;FMTTYPE=image/png:https://arabishway.com/wp-content/uploads/2024/12/Screenshot-2024-12-29-at-9.48.28 PM.png
END:VEVENT
BEGIN:VEVENT
DTSTART;TZID=America/Los_Angeles:20250419T100000
DTEND;TZID=America/Los_Angeles:20250419T130000
DTSTAMP:20260422T104435
CREATED:20250331T211400Z
LAST-MODIFIED:20250331T211435Z
UID:10002976-1745056800-1745067600@arabishway.com
SUMMARY:Ya Hala Cafe and Retail Space: Fairuz and Coffee
DESCRIPTION:Remember\, Ya Hala’s café and retail space is open to all on weekends this April\, Fridays 5-9p\, Saturdays and Sundays 10a-1p. \n📣 IMPORTANT: Some events will require registration/RSVP so you can save a spot! \nTake a look ahead at the calendar and then keep an eye out for links to sign up for specific events. You won’t want to miss out. \nMore details about each weekend’s events will drop on the Monday before. 👀
URL:https://arabishway.com/event/ya-hala-april-19-f_and_c/
LOCATION:Suzanne Zahr\, Art & Architecture\, 2441 76th Ave SE\, Ste 160\, Mercer Island\, WA\, 98040\, United States
CATEGORIES:Gathering,Music
ATTACH;FMTTYPE=image/png:https://arabishway.com/wp-content/uploads/2025/03/Screenshot-2025-03-31-at-2.04.20 PM.png
END:VEVENT
BEGIN:VEVENT
DTSTART;TZID=America/Los_Angeles:20250420T100000
DTEND;TZID=America/Los_Angeles:20250420T130000
DTSTAMP:20260422T104435
CREATED:20250331T211449Z
LAST-MODIFIED:20250331T211515Z
UID:10002977-1745143200-1745154000@arabishway.com
SUMMARY:Ya Hala Cafe and Retail Space: Fairuz and Coffee
DESCRIPTION:Remember\, Ya Hala’s café and retail space is open to all on weekends this April\, Fridays 5-9p\, Saturdays and Sundays 10a-1p. \n📣 IMPORTANT: Some events will require registration/RSVP so you can save a spot! \nTake a look ahead at the calendar and then keep an eye out for links to sign up for specific events. You won’t want to miss out. \nMore details about each weekend’s events will drop on the Monday before. 👀
URL:https://arabishway.com/event/ya-hala-april-20-f_and_c/
LOCATION:Suzanne Zahr\, Art & Architecture\, 2441 76th Ave SE\, Ste 160\, Mercer Island\, WA\, 98040\, United States
CATEGORIES:Gathering,Music
ATTACH;FMTTYPE=image/png:https://arabishway.com/wp-content/uploads/2025/03/Screenshot-2025-03-31-at-2.04.20 PM.png
END:VEVENT
BEGIN:VEVENT
DTSTART;TZID=America/Los_Angeles:20250420T130000
DTEND;TZID=America/Los_Angeles:20250420T150000
DTSTAMP:20260422T104435
CREATED:20250331T212524Z
LAST-MODIFIED:20250331T212609Z
UID:10002983-1745154000-1745161200@arabishway.com
SUMMARY:Ya Hala Cafe and Retail Space: Open Mic
DESCRIPTION:Remember\, Ya Hala’s café and retail space is open to all on weekends this April\, Fridays 5-9p\, Saturdays and Sundays 10a-1p. \n📣 IMPORTANT: Some events will require registration/RSVP so you can save a spot! \nTake a look ahead at the calendar and then keep an eye out for links to sign up for specific events. You won’t want to miss out. \nMore details about each weekend’s events will drop on the Monday before. 👀
URL:https://arabishway.com/event/ya-hala-open-mic/
LOCATION:Suzanne Zahr\, Art & Architecture\, 2441 76th Ave SE\, Ste 160\, Mercer Island\, WA\, 98040\, United States
CATEGORIES:Book Club,Gathering
ATTACH;FMTTYPE=image/png:https://arabishway.com/wp-content/uploads/2025/03/Screenshot-2025-03-31-at-2.04.20 PM.png
END:VEVENT
BEGIN:VEVENT
DTSTART;TZID=America/Los_Angeles:20250426T100000
DTEND;TZID=America/Los_Angeles:20250426T130000
DTSTAMP:20260422T104435
CREATED:20250331T211527Z
LAST-MODIFIED:20250331T211551Z
UID:10002978-1745661600-1745672400@arabishway.com
SUMMARY:Ya Hala Cafe and Retail Space: Fairuz and Coffee
DESCRIPTION:Remember\, Ya Hala’s café and retail space is open to all on weekends this April\, Fridays 5-9p\, Saturdays and Sundays 10a-1p. \n📣 IMPORTANT: Some events will require registration/RSVP so you can save a spot! \nTake a look ahead at the calendar and then keep an eye out for links to sign up for specific events. You won’t want to miss out. \nMore details about each weekend’s events will drop on the Monday before. 👀
URL:https://arabishway.com/event/ya-hala-april-26-f_and_c/
LOCATION:Suzanne Zahr\, Art & Architecture\, 2441 76th Ave SE\, Ste 160\, Mercer Island\, WA\, 98040\, United States
CATEGORIES:Gathering,Music
ATTACH;FMTTYPE=image/png:https://arabishway.com/wp-content/uploads/2025/03/Screenshot-2025-03-31-at-2.04.20 PM.png
END:VEVENT
BEGIN:VEVENT
DTSTART;TZID=America/Los_Angeles:20250426T130000
DTEND;TZID=America/Los_Angeles:20250426T150000
DTSTAMP:20260422T104435
CREATED:20250331T212626Z
LAST-MODIFIED:20250331T212706Z
UID:10002984-1745672400-1745679600@arabishway.com
SUMMARY:Ya Hala Cafe and Retail Space: Hakawati
DESCRIPTION:Remember\, Ya Hala’s café and retail space is open to all on weekends this April\, Fridays 5-9p\, Saturdays and Sundays 10a-1p. \n📣 IMPORTANT: Some events will require registration/RSVP so you can save a spot! \nTake a look ahead at the calendar and then keep an eye out for links to sign up for specific events. You won’t want to miss out. \nMore details about each weekend’s events will drop on the Monday before. 👀
URL:https://arabishway.com/event/ya-hala-hakawati/
LOCATION:Suzanne Zahr\, Art & Architecture\, 2441 76th Ave SE\, Ste 160\, Mercer Island\, WA\, 98040\, United States
CATEGORIES:Book Club,Gathering
ATTACH;FMTTYPE=image/png:https://arabishway.com/wp-content/uploads/2025/03/Screenshot-2025-03-31-at-2.04.20 PM.png
END:VEVENT
BEGIN:VEVENT
DTSTART;TZID=America/Los_Angeles:20250427T100000
DTEND;TZID=America/Los_Angeles:20250427T140000
DTSTAMP:20260422T104435
CREATED:20250331T212725Z
LAST-MODIFIED:20250331T212813Z
UID:10002985-1745748000-1745762400@arabishway.com
SUMMARY:Ya Hala Cafe and Retail Space: Arab Heritage Month Event + Activities
DESCRIPTION:Remember\, Ya Hala’s café and retail space is open to all on weekends this April\, Fridays 5-9p\, Saturdays and Sundays 10a-1p. \n📣 IMPORTANT: Some events will require registration/RSVP so you can save a spot! \nTake a look ahead at the calendar and then keep an eye out for links to sign up for specific events. You won’t want to miss out. \nMore details about each weekend’s events will drop on the Monday before. 👀
URL:https://arabishway.com/event/ya-hala-arab-heritage-month/
LOCATION:Suzanne Zahr\, Art & Architecture\, 2441 76th Ave SE\, Ste 160\, Mercer Island\, WA\, 98040\, United States
CATEGORIES:Book Club,Gathering
ATTACH;FMTTYPE=image/png:https://arabishway.com/wp-content/uploads/2025/03/Screenshot-2025-03-31-at-2.04.20 PM.png
END:VEVENT
END:VCALENDAR