BEGIN:VCALENDAR
VERSION:2.0
PRODID:-//ArabishWay - ECPv6.15.20//NONSGML v1.0//EN
CALSCALE:GREGORIAN
METHOD:PUBLISH
X-WR-CALNAME:ArabishWay
X-ORIGINAL-URL:https://arabishway.com
X-WR-CALDESC:Events for ArabishWay
REFRESH-INTERVAL;VALUE=DURATION:PT1H
X-Robots-Tag:noindex
X-PUBLISHED-TTL:PT1H
BEGIN:VTIMEZONE
TZID:America/Los_Angeles
BEGIN:DAYLIGHT
TZOFFSETFROM:-0800
TZOFFSETTO:-0700
TZNAME:PDT
DTSTART:20250309T100000
END:DAYLIGHT
BEGIN:STANDARD
TZOFFSETFROM:-0700
TZOFFSETTO:-0800
TZNAME:PST
DTSTART:20251102T090000
END:STANDARD
BEGIN:DAYLIGHT
TZOFFSETFROM:-0800
TZOFFSETTO:-0700
TZNAME:PDT
DTSTART:20260308T100000
END:DAYLIGHT
BEGIN:STANDARD
TZOFFSETFROM:-0700
TZOFFSETTO:-0800
TZNAME:PST
DTSTART:20261101T090000
END:STANDARD
BEGIN:DAYLIGHT
TZOFFSETFROM:-0800
TZOFFSETTO:-0700
TZNAME:PDT
DTSTART:20270314T100000
END:DAYLIGHT
BEGIN:STANDARD
TZOFFSETFROM:-0700
TZOFFSETTO:-0800
TZNAME:PST
DTSTART:20271107T090000
END:STANDARD
END:VTIMEZONE
BEGIN:VEVENT
DTSTART;TZID=America/Los_Angeles:20260103T110000
DTEND;TZID=America/Los_Angeles:20260103T130000
DTSTAMP:20260420T052046
CREATED:20251228T223130Z
LAST-MODIFIED:20251228T223130Z
UID:10004572-1767438000-1767445200@arabishway.com
SUMMARY:Save the Date: FalasTeens: Movie and meetup!
DESCRIPTION:Join us for the second athering of FalasTeens. \nA group for middle school and high school students of Palestinian descent. \nFill out this form here if you are interested in general information. \nEmail arabishway@gmail.com if you’d like to attend this event.
URL:https://arabishway.com/event/save-the-date-falasteens-movie-and-meetup/
LOCATION:Register for Location
CATEGORIES:Community Group,For Kids
ATTACH;FMTTYPE=image/png:https://arabishway.com/wp-content/uploads/2025/08/Screenshot-2025-07-11-at-9.09.07-PM.png
END:VEVENT
BEGIN:VEVENT
DTSTART;TZID=America/Los_Angeles:20260104T133000
DTEND;TZID=America/Los_Angeles:20260104T150000
DTSTAMP:20260420T052046
CREATED:20251128T180337Z
LAST-MODIFIED:20251128T180418Z
UID:10003403-1767533400-1767538800@arabishway.com
SUMMARY:Kids for Palestine (Olympia)
DESCRIPTION:Gather with other families at Woodruff Park\, in West Olympia (near the tennis and pickleball courts) every Sunday\, 1-4 pm\, to support Palestine through conversation and art in a kid-friendly event.
URL:https://arabishway.com/event/kids-for-palestine-olympia-jan/
LOCATION:Woodruff Park\, 1500 Harrison Ave NW\, Olympia\, WA\, 98502
CATEGORIES:Art,For Kids,Social Justice
ATTACH;FMTTYPE=image/jpeg:https://arabishway.com/wp-content/uploads/2023/01/RachelCorrieFoundation.jpg
END:VEVENT
BEGIN:VEVENT
DTSTART;TZID=America/Los_Angeles:20260109T110000
DTEND;TZID=America/Los_Angeles:20260109T130000
DTSTAMP:20260420T052046
CREATED:20251228T194528Z
LAST-MODIFIED:20251228T194528Z
UID:10004545-1767956400-1767963600@arabishway.com
SUMMARY:Ponies for Palestine
DESCRIPTION:Please join us in two weeks for our next Ponies for Palestine fundraiser! Friday\, January 9\, 2026 from 11am-1pm @mountainmeetsfarm once again. Register for pony rides here: https://mountainmeetsfarm.hbportal.co/schedule/68e003cec6afe00027bbc61f \nAddress provided upon registration\, however\, you do not have to register to attend! Please dm us if you would like to come but don’t plan to register for a pony ride. All ages welcome\, and encouraged!! Lots of other activities\, animals and community to meet too 🇵🇸🐴❤️ \n(Bellingham)
URL:https://arabishway.com/event/ponies-for-palestine/
LOCATION:Mountain Meets Farm
CATEGORIES:Benefit/Fundraiser,For Kids
ATTACH;FMTTYPE=image/png:https://arabishway.com/wp-content/uploads/2025/12/Screenshot-2025-12-28-at-11.41.28-AM.png
END:VEVENT
BEGIN:VEVENT
DTSTART;TZID=America/Los_Angeles:20260111T133000
DTEND;TZID=America/Los_Angeles:20260111T150000
DTSTAMP:20260420T052046
CREATED:20251228T071712Z
LAST-MODIFIED:20251228T071712Z
UID:10003475-1768138200-1768143600@arabishway.com
SUMMARY:Kids for Palestine
DESCRIPTION:Gather with other families outside Mossy Bottom Records in Olympia every Sunday\, 1:30-3:00 pm\, at a weekly bake sale that directly supports Palestinians.
URL:https://arabishway.com/event/kids-for-palestine/
LOCATION:Woodruff Park\, 1500 Harrison Ave NW\, Olympia\, WA\, 98502
CATEGORIES:For Kids,Social Justice
ATTACH;FMTTYPE=image/jpeg:https://arabishway.com/wp-content/uploads/2023/01/RachelCorrieFoundation.jpg
END:VEVENT
BEGIN:VEVENT
DTSTART;TZID=America/Los_Angeles:20260118T133000
DTEND;TZID=America/Los_Angeles:20260118T150000
DTSTAMP:20260420T052046
CREATED:20251228T071935Z
LAST-MODIFIED:20251228T071935Z
UID:10003476-1768743000-1768748400@arabishway.com
SUMMARY:Kids for Palestine
DESCRIPTION:Gather with other families outside Mossy Bottom Records in Olympia every Sunday\, 1:30-3:00 pm\, at a weekly bake sale that directly supports Palestinians.
URL:https://arabishway.com/event/kids-for-palestine-2/
LOCATION:Woodruff Park\, 1500 Harrison Ave NW\, Olympia\, WA\, 98502
CATEGORIES:For Kids,Social Justice
ATTACH;FMTTYPE=image/jpeg:https://arabishway.com/wp-content/uploads/2023/01/RachelCorrieFoundation.jpg
END:VEVENT
BEGIN:VEVENT
DTSTART;TZID=America/Los_Angeles:20260125T133000
DTEND;TZID=America/Los_Angeles:20260125T150000
DTSTAMP:20260420T052046
CREATED:20251228T072338Z
LAST-MODIFIED:20251228T072338Z
UID:10003477-1769347800-1769353200@arabishway.com
SUMMARY:Kids for Palestine
DESCRIPTION:Gather with other families outside Mossy Bottom Records in Olympia every Sunday\, 1:30-3:00 pm\, at a weekly bake sale that directly supports Palestinians.
URL:https://arabishway.com/event/kids-for-palestine-3/
LOCATION:Mossy Bottom Records\, 301 4th Ave E\, Olympia\, WA\, 98501
CATEGORIES:For Kids,Social Justice
ATTACH;FMTTYPE=image/jpeg:https://arabishway.com/wp-content/uploads/2023/01/RachelCorrieFoundation.jpg
END:VEVENT
END:VCALENDAR