BEGIN:VCALENDAR
VERSION:2.0
PRODID:-//ArabishWay - ECPv6.15.20//NONSGML v1.0//EN
CALSCALE:GREGORIAN
METHOD:PUBLISH
X-ORIGINAL-URL:https://arabishway.com
X-WR-CALDESC:Events for ArabishWay
REFRESH-INTERVAL;VALUE=DURATION:PT1H
X-Robots-Tag:noindex
X-PUBLISHED-TTL:PT1H
BEGIN:VTIMEZONE
TZID:UTC
BEGIN:STANDARD
TZOFFSETFROM:+0000
TZOFFSETTO:+0000
TZNAME:UTC
DTSTART:20190101T000000
END:STANDARD
END:VTIMEZONE
BEGIN:VEVENT
DTSTART;VALUE=DATE:20200808
DTEND;VALUE=DATE:20200809
DTSTAMP:20260420T052617
CREATED:20200729T011428Z
LAST-MODIFIED:20200729T011553Z
UID:10000633-1596844800-1596931199@arabishway.com
SUMMARY:Seattle Arab Festival 2020
DESCRIPTION:Arab Festival –  Seattle 2020 \n\nDue to COVID-19 and Stay Home order\, the Seattle Arab Festival organization will highly consider offering an online streaming festival.\n\nWe will offer: \n\nStory Telling\nFood Demonstrations\nArab History in Seattle and USA\nSeattle Arab Festival History\nUpcoming start entertainers\nGames Workshop\nAnd\, more\n\n\n\n 
URL:https://arabishway.com/event/seattle-arab-festival-2020-2/
LOCATION:WA
CATEGORIES:Festival
ATTACH;FMTTYPE=image/jpeg:https://arabishway.com/wp-content/uploads/2020/07/SAF-2020-scaled.jpg
END:VEVENT
END:VCALENDAR