BEGIN:VCALENDAR
VERSION:2.0
PRODID:-//ArabishWay - ECPv6.15.20//NONSGML v1.0//EN
CALSCALE:GREGORIAN
METHOD:PUBLISH
X-WR-CALNAME:ArabishWay
X-ORIGINAL-URL:https://arabishway.com
X-WR-CALDESC:Events for ArabishWay
REFRESH-INTERVAL;VALUE=DURATION:PT1H
X-Robots-Tag:noindex
X-PUBLISHED-TTL:PT1H
BEGIN:VTIMEZONE
TZID:America/Los_Angeles
BEGIN:DAYLIGHT
TZOFFSETFROM:-0800
TZOFFSETTO:-0700
TZNAME:PDT
DTSTART:20240310T100000
END:DAYLIGHT
BEGIN:STANDARD
TZOFFSETFROM:-0700
TZOFFSETTO:-0800
TZNAME:PST
DTSTART:20241103T090000
END:STANDARD
BEGIN:DAYLIGHT
TZOFFSETFROM:-0800
TZOFFSETTO:-0700
TZNAME:PDT
DTSTART:20250309T100000
END:DAYLIGHT
BEGIN:STANDARD
TZOFFSETFROM:-0700
TZOFFSETTO:-0800
TZNAME:PST
DTSTART:20251102T090000
END:STANDARD
BEGIN:DAYLIGHT
TZOFFSETFROM:-0800
TZOFFSETTO:-0700
TZNAME:PDT
DTSTART:20260308T100000
END:DAYLIGHT
BEGIN:STANDARD
TZOFFSETFROM:-0700
TZOFFSETTO:-0800
TZNAME:PST
DTSTART:20261101T090000
END:STANDARD
END:VTIMEZONE
BEGIN:VEVENT
DTSTART;TZID=America/Los_Angeles:20251004T180000
DTEND;TZID=America/Los_Angeles:20251004T210000
DTSTAMP:20260420T040510
CREATED:20250724T183045Z
LAST-MODIFIED:20250724T183130Z
UID:10003208-1759600800-1759611600@arabishway.com
SUMMARY:The Somali Table
DESCRIPTION:Due to its location and landmass\, Somalia is a true culinary crossroad. Indigenous Somali regional cuisines woven with lasting Italian\, South Asian\, and Middle Eastern influences have resulted in a cuisine that is dynamic and unique. Join local chef Ifrah F. Ahmed in class\, where she will teach you about the food of Somalia and how to make some of her favorite classic dishes. On the menu: xawaash-spiced lamb (braised lamb shanks with xawaash spice and cilantro garlic sauce); muufo (corn flatbread); fuul (mashed fava bean and tomato stew); and bariis(Somali-style rice). \n 
URL:https://arabishway.com/event/the-somali-table-6/
LOCATION:the Pantry\, 1417 NW 70th Street\, Seattle\, WA\, 98117
CATEGORIES:Cooking/Food
ATTACH;FMTTYPE=image/jpeg:https://arabishway.com/wp-content/uploads/2022/01/garlic-e1695942906551.jpeg
END:VEVENT
END:VCALENDAR