BEGIN:VCALENDAR
VERSION:2.0
PRODID:-//ArabishWay - ECPv6.15.20//NONSGML v1.0//EN
CALSCALE:GREGORIAN
METHOD:PUBLISH
X-WR-CALNAME:ArabishWay
X-ORIGINAL-URL:https://arabishway.com
X-WR-CALDESC:Events for ArabishWay
REFRESH-INTERVAL;VALUE=DURATION:PT1H
X-Robots-Tag:noindex
X-PUBLISHED-TTL:PT1H
BEGIN:VTIMEZONE
TZID:America/Los_Angeles
BEGIN:DAYLIGHT
TZOFFSETFROM:-0800
TZOFFSETTO:-0700
TZNAME:PDT
DTSTART:20240310T100000
END:DAYLIGHT
BEGIN:STANDARD
TZOFFSETFROM:-0700
TZOFFSETTO:-0800
TZNAME:PST
DTSTART:20241103T090000
END:STANDARD
BEGIN:DAYLIGHT
TZOFFSETFROM:-0800
TZOFFSETTO:-0700
TZNAME:PDT
DTSTART:20250309T100000
END:DAYLIGHT
BEGIN:STANDARD
TZOFFSETFROM:-0700
TZOFFSETTO:-0800
TZNAME:PST
DTSTART:20251102T090000
END:STANDARD
BEGIN:DAYLIGHT
TZOFFSETFROM:-0800
TZOFFSETTO:-0700
TZNAME:PDT
DTSTART:20260308T100000
END:DAYLIGHT
BEGIN:STANDARD
TZOFFSETFROM:-0700
TZOFFSETTO:-0800
TZNAME:PST
DTSTART:20261101T090000
END:STANDARD
END:VTIMEZONE
BEGIN:VEVENT
DTSTART;TZID=America/Los_Angeles:20250916T180000
DTEND;TZID=America/Los_Angeles:20250916T200000
DTSTAMP:20260420T010757
CREATED:20250830T145156Z
LAST-MODIFIED:20250830T145156Z
UID:10003265-1758045600-1758052800@arabishway.com
SUMMARY:Amna's Supper Club
DESCRIPTION:Back for our last supper club of the season!! Can’t wait to highlight the late summer produce and enjoy fresh bites and a rich meal. See you at the table! Tickets coming soon 🥰
URL:https://arabishway.com/event/amnas-supper-club/
LOCATION:Register for Location
CATEGORIES:Community Group,Cooking/Food
ATTACH;FMTTYPE=image/png:https://arabishway.com/wp-content/uploads/2025/08/Screenshot-2025-08-30-at-6.47.24-AM.png
END:VEVENT
END:VCALENDAR