BEGIN:VCALENDAR
VERSION:2.0
PRODID:-//ArabishWay - ECPv6.15.20//NONSGML v1.0//EN
CALSCALE:GREGORIAN
METHOD:PUBLISH
X-ORIGINAL-URL:https://arabishway.com
X-WR-CALDESC:Events for ArabishWay
REFRESH-INTERVAL;VALUE=DURATION:PT1H
X-Robots-Tag:noindex
X-PUBLISHED-TTL:PT1H
BEGIN:VTIMEZONE
TZID:America/Los_Angeles
BEGIN:DAYLIGHT
TZOFFSETFROM:-0800
TZOFFSETTO:-0700
TZNAME:PDT
DTSTART:20240310T100000
END:DAYLIGHT
BEGIN:STANDARD
TZOFFSETFROM:-0700
TZOFFSETTO:-0800
TZNAME:PST
DTSTART:20241103T090000
END:STANDARD
BEGIN:DAYLIGHT
TZOFFSETFROM:-0800
TZOFFSETTO:-0700
TZNAME:PDT
DTSTART:20250309T100000
END:DAYLIGHT
BEGIN:STANDARD
TZOFFSETFROM:-0700
TZOFFSETTO:-0800
TZNAME:PST
DTSTART:20251102T090000
END:STANDARD
BEGIN:DAYLIGHT
TZOFFSETFROM:-0800
TZOFFSETTO:-0700
TZNAME:PDT
DTSTART:20260308T100000
END:DAYLIGHT
BEGIN:STANDARD
TZOFFSETFROM:-0700
TZOFFSETTO:-0800
TZNAME:PST
DTSTART:20261101T090000
END:STANDARD
END:VTIMEZONE
BEGIN:VEVENT
DTSTART;TZID=America/Los_Angeles:20250907T180000
DTEND;TZID=America/Los_Angeles:20250907T210000
DTSTAMP:20260420T014258
CREATED:20250724T182647Z
LAST-MODIFIED:20250724T182747Z
UID:10003206-1757268000-1757278800@arabishway.com
SUMMARY:Flavors of Somalia: Cooking Class
DESCRIPTION:Located in the horn with the longest coastline in mainland Africa\, Somalia was a powerhouse in the spice trade for centuries and a common stopping point for sailing vessels from all over the world. This allowed indigenous Somali cuisine to expand and incorporate the influence of Indian\, East African\, Italian\, and Middle Eastern flavors\, leading to a delicious and unique culinary tradition. Join local chef Ifrah Ahmed in class\, where she will teach you about the cuisine of Somalia and how to make some of her favorite classic dishes. On the menu: suqaar digaag (spiced chicken and pepper saute); bariis (Somali rice); sambuus (fried triangular dumplings filled with beef and vegetables); and basbaas (Somali-style hot sauce).
URL:https://arabishway.com/event/flavors-of-somalia-cooking-class-sept/
LOCATION:the Pantry\, 1417 NW 70th Street\, Seattle\, WA\, 98117
CATEGORIES:Cooking/Food
ATTACH;FMTTYPE=image/jpeg:https://arabishway.com/wp-content/uploads/2023/11/peppers-pantry.jpeg
END:VEVENT
END:VCALENDAR