BEGIN:VCALENDAR
VERSION:2.0
PRODID:-//ArabishWay - ECPv6.15.20//NONSGML v1.0//EN
CALSCALE:GREGORIAN
METHOD:PUBLISH
X-WR-CALNAME:ArabishWay
X-ORIGINAL-URL:https://arabishway.com
X-WR-CALDESC:Events for ArabishWay
REFRESH-INTERVAL;VALUE=DURATION:PT1H
X-Robots-Tag:noindex
X-PUBLISHED-TTL:PT1H
BEGIN:VTIMEZONE
TZID:America/Los_Angeles
BEGIN:DAYLIGHT
TZOFFSETFROM:-0800
TZOFFSETTO:-0700
TZNAME:PDT
DTSTART:20240310T100000
END:DAYLIGHT
BEGIN:STANDARD
TZOFFSETFROM:-0700
TZOFFSETTO:-0800
TZNAME:PST
DTSTART:20241103T090000
END:STANDARD
BEGIN:DAYLIGHT
TZOFFSETFROM:-0800
TZOFFSETTO:-0700
TZNAME:PDT
DTSTART:20250309T100000
END:DAYLIGHT
BEGIN:STANDARD
TZOFFSETFROM:-0700
TZOFFSETTO:-0800
TZNAME:PST
DTSTART:20251102T090000
END:STANDARD
BEGIN:DAYLIGHT
TZOFFSETFROM:-0800
TZOFFSETTO:-0700
TZNAME:PDT
DTSTART:20260308T100000
END:DAYLIGHT
BEGIN:STANDARD
TZOFFSETFROM:-0700
TZOFFSETTO:-0800
TZNAME:PST
DTSTART:20261101T090000
END:STANDARD
END:VTIMEZONE
BEGIN:VEVENT
DTSTART;TZID=America/Los_Angeles:20250819T180000
DTEND;TZID=America/Los_Angeles:20250819T210000
DTSTAMP:20260420T023943
CREATED:20250629T225607Z
LAST-MODIFIED:20250630T000309Z
UID:10003170-1755626400-1755637200@arabishway.com
SUMMARY:Arab Street Food: Shawarma with Nadia Tommalieh
DESCRIPTION:Across the Arab world\, you’ll find variations on their most famous street food: shawarma. Traditionally cooked on a vertical spit that turns\, shawarma is universally loved as a picnic spread\, a main course\, or an iconic street-food sandwich. In this class Nadia Tommalieh will show you everything you need to make shawarma wraps at home\, starting with fresh-made saj bread. You’ll fill your warm bread with spiced and thinly sliced beef shawarma\, tahini-based taratorsauce; batata harra (crispy cubed potatoes in a citrus cilantro sauce); avocado bil labaneh w za’atar (mashed avocado\, jalapeno\, yogurt\, and Za’atar); and mkhalal left (pickled turnips).
URL:https://arabishway.com/event/arab-street-food-shawarma-with-nadia-tommalieh-aug-2025/
LOCATION:the Pantry\, 1417 NW 70th Street\, Seattle\, WA\, 98117
CATEGORIES:Cooking/Food
ATTACH;FMTTYPE=image/jpeg:https://arabishway.com/wp-content/uploads/2022/07/avocado-web-scaled-1.jpeg
END:VEVENT
END:VCALENDAR