BEGIN:VCALENDAR
VERSION:2.0
PRODID:-//ArabishWay - ECPv6.15.20//NONSGML v1.0//EN
CALSCALE:GREGORIAN
METHOD:PUBLISH
X-ORIGINAL-URL:https://arabishway.com
X-WR-CALDESC:Events for ArabishWay
REFRESH-INTERVAL;VALUE=DURATION:PT1H
X-Robots-Tag:noindex
X-PUBLISHED-TTL:PT1H
BEGIN:VTIMEZONE
TZID:America/Los_Angeles
BEGIN:DAYLIGHT
TZOFFSETFROM:-0800
TZOFFSETTO:-0700
TZNAME:PDT
DTSTART:20240310T100000
END:DAYLIGHT
BEGIN:STANDARD
TZOFFSETFROM:-0700
TZOFFSETTO:-0800
TZNAME:PST
DTSTART:20241103T090000
END:STANDARD
BEGIN:DAYLIGHT
TZOFFSETFROM:-0800
TZOFFSETTO:-0700
TZNAME:PDT
DTSTART:20250309T100000
END:DAYLIGHT
BEGIN:STANDARD
TZOFFSETFROM:-0700
TZOFFSETTO:-0800
TZNAME:PST
DTSTART:20251102T090000
END:STANDARD
BEGIN:DAYLIGHT
TZOFFSETFROM:-0800
TZOFFSETTO:-0700
TZNAME:PDT
DTSTART:20260308T100000
END:DAYLIGHT
BEGIN:STANDARD
TZOFFSETFROM:-0700
TZOFFSETTO:-0800
TZNAME:PST
DTSTART:20261101T090000
END:STANDARD
END:VTIMEZONE
BEGIN:VEVENT
DTSTART;TZID=America/Los_Angeles:20250814T180000
DTEND;TZID=America/Los_Angeles:20250814T210000
DTSTAMP:20260420T040712
CREATED:20250531T075928Z
LAST-MODIFIED:20250531T080107Z
UID:10003149-1755194400-1755205200@arabishway.com
SUMMARY:The Arab Grill
DESCRIPTION:Think of Arab cuisine and the first thing that comes to mind is probably the characteristic blend of spices. But equally important is the char that you can only get by cooking with fire. In this class Nadia Tommalieh will introduce you to the perfect balance of smoke\, spice\, and citrus in a spread of dishes that celebrate the warmth of Arab hospitality. On the menu: shish tawook (grilled yogurt-marinated chicken with sumac and Aleppo); and reyash mashwieh (grllled lamb chops with pomegranate molasses and baharat spice). You’ll round out the meal with tabbouleh (Lebanese parsley and bulgur wheat salad); grilled muhammara with walnuts and breadcrumbs; and three flavors of toum (Arab-style garlic sauce).
URL:https://arabishway.com/event/the-arab-grill-5/
LOCATION:the Pantry\, 1417 NW 70th Street\, Seattle\, WA\, 98117
CATEGORIES:Cooking/Food
ATTACH;FMTTYPE=image/jpeg:https://arabishway.com/wp-content/uploads/2023/07/Pomegranite.jpeg
END:VEVENT
END:VCALENDAR