BEGIN:VCALENDAR
VERSION:2.0
PRODID:-//ArabishWay - ECPv6.15.20//NONSGML v1.0//EN
CALSCALE:GREGORIAN
METHOD:PUBLISH
X-WR-CALNAME:ArabishWay
X-ORIGINAL-URL:https://arabishway.com
X-WR-CALDESC:Events for ArabishWay
REFRESH-INTERVAL;VALUE=DURATION:PT1H
X-Robots-Tag:noindex
X-PUBLISHED-TTL:PT1H
BEGIN:VTIMEZONE
TZID:America/Los_Angeles
BEGIN:DAYLIGHT
TZOFFSETFROM:-0800
TZOFFSETTO:-0700
TZNAME:PDT
DTSTART:20240310T100000
END:DAYLIGHT
BEGIN:STANDARD
TZOFFSETFROM:-0700
TZOFFSETTO:-0800
TZNAME:PST
DTSTART:20241103T090000
END:STANDARD
BEGIN:DAYLIGHT
TZOFFSETFROM:-0800
TZOFFSETTO:-0700
TZNAME:PDT
DTSTART:20250309T100000
END:DAYLIGHT
BEGIN:STANDARD
TZOFFSETFROM:-0700
TZOFFSETTO:-0800
TZNAME:PST
DTSTART:20251102T090000
END:STANDARD
BEGIN:DAYLIGHT
TZOFFSETFROM:-0800
TZOFFSETTO:-0700
TZNAME:PDT
DTSTART:20260308T100000
END:DAYLIGHT
BEGIN:STANDARD
TZOFFSETFROM:-0700
TZOFFSETTO:-0800
TZNAME:PST
DTSTART:20261101T090000
END:STANDARD
BEGIN:DAYLIGHT
TZOFFSETFROM:-0800
TZOFFSETTO:-0700
TZNAME:PDT
DTSTART:20270314T100000
END:DAYLIGHT
BEGIN:STANDARD
TZOFFSETFROM:-0700
TZOFFSETTO:-0800
TZNAME:PST
DTSTART:20271107T090000
END:STANDARD
END:VTIMEZONE
BEGIN:VEVENT
DTSTART;VALUE=DATE:20251228
DTEND;VALUE=DATE:20270101
DTSTAMP:20260424T031540
CREATED:20250131T194957Z
LAST-MODIFIED:20251228T182330Z
UID:10002837-1766880000-1798761599@arabishway.com
SUMMARY:Seattle Liberation Calendar!
DESCRIPTION:In addition to these events\, please check out the amazing Seattle Liberation Calendar! You will find so many great events there!  I try to cross-reference but can’t always keep up\, so please take a peek there for additional events. \nhttps://seattleliberationcalendar.wordpress.com/#calendar
URL:https://arabishway.com/event/seattle-liberation-calendar/
ATTACH;FMTTYPE=image/png:https://arabishway.com/wp-content/uploads/2025/01/Screenshot-2025-01-31-at-11.49.10 AM.png
END:VEVENT
BEGIN:VEVENT
DTSTART;VALUE=DATE:20260411
DTEND;VALUE=DATE:20260512
DTSTAMP:20260424T031540
CREATED:20260320T021923Z
LAST-MODIFIED:20260330T205538Z
UID:10005899-1775865600-1778543999@arabishway.com
SUMMARY:Broken and Beautiful: Art by Gazans
DESCRIPTION:Phinney Neighborhood Center Community Board\, 6532 Phinney Ave. N\, Seattle \n2nd Floor\, 206-783-2244. Hours: Mon – Fri: 9:00 am – 9:30 pm\, Sat: 9- 9 and Sun: 1-5. \nThe art featured is by young people and women who experienced the war and are either still in Gaza or are now refugees in Egypt. Exhibit is sponsored by Seattle Gaza Mutual Aid\, a local group which raises money for artists and families through selling their art and collecting donations for the Meera Center\, a healing resource which supports survivors in Cairo. See seattlegazamutualaid.org to learn more.
URL:https://arabishway.com/event/broken-and-beautiful-art-by-gazans/
LOCATION:Phinney Neighborhood Center\, 6532 Phinney Ave N\, Seattle\, WA\, 98103\, United States
CATEGORIES:Art
ATTACH;FMTTYPE=image/png:https://arabishway.com/wp-content/uploads/2026/03/Screenshot-2026-03-19-at-7.15.58-PM.png
END:VEVENT
BEGIN:VEVENT
DTSTART;TZID=America/Los_Angeles:20260424T110000
DTEND;TZID=America/Los_Angeles:20260424T113000
DTSTAMP:20260424T031540
CREATED:20260131T063006Z
LAST-MODIFIED:20260131T063408Z
UID:10005156-1777028400-1777030200@arabishway.com
SUMMARY:Rainbow Story Time (online) w/ Lindz Amer
DESCRIPTION:Join Lindz Amer\, the award-winning LGBTQ+ activist\, author and co-host of the beloved indie web series\, Queer Kid Stuff\, for songs and stories that celebrate the LGBTQ+ community all-year-round. \nAll ages welcome with adult.  \nPlease register: \nhttps://kcls.zoom.us/meeting/register/tZEvdOuqpzssGtC5XlvnFdvIAD2bwlBzP-RA \n\n\n\n 
URL:https://arabishway.com/event/rainbow-story-time-online-w-lindz-amer-2026/2026-04-24/
LOCATION:Virtual
CATEGORIES:Story Time
ATTACH;FMTTYPE=image/png:https://arabishway.com/wp-content/uploads/2024/05/Lindz-Amer-RainbowStoryTimes.png
END:VEVENT
BEGIN:VEVENT
DTSTART;TZID=America/Los_Angeles:20260424T163000
DTEND;TZID=America/Los_Angeles:20260424T180000
DTSTAMP:20260424T031540
CREATED:20251228T073628Z
LAST-MODIFIED:20251228T180737Z
UID:10003493-1777048200-1777053600@arabishway.com
SUMMARY:Weekly Peace Vigil
DESCRIPTION:ONGOING LOCAL ACTIONS FOR PEACE \n\n\n\n\n\n\n\n\nWEEKLY PEACE VIGIL \nEvery Friday 4:30 – 6:00 pm \nPercival Landing in Downtown Olympia \n4th & Water Street \n\n\n\n\n\n\n\n\n\n\n\n\n\n\n\n\n\n\n\n\n\n\nWe continue to vigil\, network\, and advocate for Palestinians\, for peace with justice\, and for our civil rights. Despite an agreed ceasefire\, Israel continues to attack Gaza. Bring a sign and a friend\, and join us at Percival Landing every Friday! \nThanks to the Olympia Fellowship of Reconciliation for organizing these peace vigils through the years\, and for inviting us to share this space as we advocate for peace.
URL:https://arabishway.com/event/weekly-peace-vigil-5/2026-04-24/
LOCATION:Percival Landing\, 217 Thurston Ave NW\, Olympia\, WA\, 98501
CATEGORIES:Social Justice
ATTACH;FMTTYPE=image/jpeg:https://arabishway.com/wp-content/uploads/2023/01/RachelCorrieFoundation.jpg
END:VEVENT
BEGIN:VEVENT
DTSTART;TZID=America/Los_Angeles:20260424T180000
DTEND;TZID=America/Los_Angeles:20260424T213000
DTSTAMP:20260424T031540
CREATED:20260301T042849Z
LAST-MODIFIED:20260301T042930Z
UID:10005871-1777053600-1777066200@arabishway.com
SUMMARY:Palestinian Spring Feast
DESCRIPTION:Join Nadia Tommalieh as you explore the rich flavors and traditions of Palestinian cuisine in a menu that is both celebratory and rooted in everyday cooking—simple techniques\, pantry staples\, and bold flavors that can easily become part of your weekly meals. Together we’ll prepare rummaniyeh (lentil and eggplant stew with pomegranate molasses\, tahini\, and caramelized onions); msabaha (warm chickpeas in citrus and garlic sauce served over hummus) with tatbeeleh (jalapeño lemon sauce); kobez taboon (traditional wheat and white bread baked over hot stones); jawaneh (chicken wings with garlic\, shatta\, and za’atar); and halawet smeed bil asal (semolina and milk pudding with mastic and orange blossom water\, garnished with ground pistachios and served with honey). \nPlease note: some classes can be adjusted for students with dietary restrictions\, but many cannot. If you’re vegetarian\, pescatarian\, or gluten-free\, you can use the drop-down menu on our events page to view the best classes to fit your needs. If a class you’re interested in doesn’t appear in that filtered view\, please email us before registering and we’ll see if the class’s menu can be modified.
URL:https://arabishway.com/event/palestinian-spring-feast/2026-04-24/
LOCATION:the Pantry\, 1417 NW 70th Street\, Seattle\, WA\, 98117
CATEGORIES:Cooking/Food
ATTACH;FMTTYPE=image/jpeg:https://arabishway.com/wp-content/uploads/2022/12/pistachio-scaled_2022-09-16-205352_wivv.jpeg
END:VEVENT
BEGIN:VEVENT
DTSTART;TZID=America/Los_Angeles:20260424T190000
DTEND;TZID=America/Los_Angeles:20260424T210000
DTSTAMP:20260424T031540
CREATED:20260330T165535Z
LAST-MODIFIED:20260330T165535Z
UID:10005905-1777057200-1777064400@arabishway.com
SUMMARY:Movie: The Voice of Hind Rajab
DESCRIPTION:A docudrama retelling the Red Crescent response during the Israeli military’s killing of six-year-old Hind Rajab\, her family and her rescuers during the genocide in Gaza. \n2025\, 99 minutes
URL:https://arabishway.com/event/movie-the-voice-of-hind-rajab-2/
LOCATION:Cherry Street Village\, 720 25th Avenue\, Seattle\, WA\, United States
CATEGORIES:Movie
ATTACH;FMTTYPE=image/png:https://arabishway.com/wp-content/uploads/2026/03/Screenshot-2026-03-30-at-9.53.34-AM.png
END:VEVENT
END:VCALENDAR