BEGIN:VCALENDAR
VERSION:2.0
PRODID:-//ArabishWay - ECPv6.15.20//NONSGML v1.0//EN
CALSCALE:GREGORIAN
METHOD:PUBLISH
X-WR-CALNAME:ArabishWay
X-ORIGINAL-URL:https://arabishway.com
X-WR-CALDESC:Events for ArabishWay
REFRESH-INTERVAL;VALUE=DURATION:PT1H
X-Robots-Tag:noindex
X-PUBLISHED-TTL:PT1H
BEGIN:VTIMEZONE
TZID:America/Los_Angeles
BEGIN:DAYLIGHT
TZOFFSETFROM:-0800
TZOFFSETTO:-0700
TZNAME:PDT
DTSTART:20240310T100000
END:DAYLIGHT
BEGIN:STANDARD
TZOFFSETFROM:-0700
TZOFFSETTO:-0800
TZNAME:PST
DTSTART:20241103T090000
END:STANDARD
BEGIN:DAYLIGHT
TZOFFSETFROM:-0800
TZOFFSETTO:-0700
TZNAME:PDT
DTSTART:20250309T100000
END:DAYLIGHT
BEGIN:STANDARD
TZOFFSETFROM:-0700
TZOFFSETTO:-0800
TZNAME:PST
DTSTART:20251102T090000
END:STANDARD
BEGIN:DAYLIGHT
TZOFFSETFROM:-0800
TZOFFSETTO:-0700
TZNAME:PDT
DTSTART:20260308T100000
END:DAYLIGHT
BEGIN:STANDARD
TZOFFSETFROM:-0700
TZOFFSETTO:-0800
TZNAME:PST
DTSTART:20261101T090000
END:STANDARD
BEGIN:DAYLIGHT
TZOFFSETFROM:-0800
TZOFFSETTO:-0700
TZNAME:PDT
DTSTART:20270314T100000
END:DAYLIGHT
BEGIN:STANDARD
TZOFFSETFROM:-0700
TZOFFSETTO:-0800
TZNAME:PST
DTSTART:20271107T090000
END:STANDARD
END:VTIMEZONE
BEGIN:VEVENT
DTSTART;VALUE=DATE:20251228
DTEND;VALUE=DATE:20270101
DTSTAMP:20260420T022248
CREATED:20250131T194957Z
LAST-MODIFIED:20251228T182330Z
UID:10002837-1766880000-1798761599@arabishway.com
SUMMARY:Seattle Liberation Calendar!
DESCRIPTION:In addition to these events\, please check out the amazing Seattle Liberation Calendar! You will find so many great events there!  I try to cross-reference but can’t always keep up\, so please take a peek there for additional events. \nhttps://seattleliberationcalendar.wordpress.com/#calendar
URL:https://arabishway.com/event/seattle-liberation-calendar/
ATTACH;FMTTYPE=image/png:https://arabishway.com/wp-content/uploads/2025/01/Screenshot-2025-01-31-at-11.49.10 AM.png
END:VEVENT
BEGIN:VEVENT
DTSTART;VALUE=DATE:20260411
DTEND;VALUE=DATE:20260512
DTSTAMP:20260420T022248
CREATED:20260320T021923Z
LAST-MODIFIED:20260330T205538Z
UID:10005899-1775865600-1778543999@arabishway.com
SUMMARY:Broken and Beautiful: Art by Gazans
DESCRIPTION:Phinney Neighborhood Center Community Board\, 6532 Phinney Ave. N\, Seattle \n2nd Floor\, 206-783-2244. Hours: Mon – Fri: 9:00 am – 9:30 pm\, Sat: 9- 9 and Sun: 1-5. \nThe art featured is by young people and women who experienced the war and are either still in Gaza or are now refugees in Egypt. Exhibit is sponsored by Seattle Gaza Mutual Aid\, a local group which raises money for artists and families through selling their art and collecting donations for the Meera Center\, a healing resource which supports survivors in Cairo. See seattlegazamutualaid.org to learn more.
URL:https://arabishway.com/event/broken-and-beautiful-art-by-gazans/
LOCATION:Phinney Neighborhood Center\, 6532 Phinney Ave N\, Seattle\, WA\, 98103\, United States
CATEGORIES:Art
ATTACH;FMTTYPE=image/png:https://arabishway.com/wp-content/uploads/2026/03/Screenshot-2026-03-19-at-7.15.58-PM.png
END:VEVENT
BEGIN:VEVENT
DTSTART;TZID=America/Los_Angeles:20260418T090000
DTEND;TZID=America/Los_Angeles:20260418T110000
DTSTAMP:20260420T022248
CREATED:20251129T174747Z
LAST-MODIFIED:20251228T182031Z
UID:10004297-1776502800-1776510000@arabishway.com
SUMMARY:Virtual Movie Screenings: Every Saturday with Palestine Museum US
DESCRIPTION:Check website: https://www.palestinemuseum.us/events for current showings and for registration links! \nOften the screening ends with a Q&A with the director! \n 
URL:https://arabishway.com/event/virtual-movie-screenings-every-saturday-with-palestine-museum-us-2026/2026-04-18/
LOCATION:Virtual
CATEGORIES:Movie
ATTACH;FMTTYPE=image/jpeg:https://arabishway.com/wp-content/uploads/2020/11/palestine-museum.jpg
END:VEVENT
BEGIN:VEVENT
DTSTART;TZID=America/Los_Angeles:20260418T100000
DTEND;TZID=America/Los_Angeles:20260418T113000
DTSTAMP:20260420T022248
CREATED:20260330T175716Z
LAST-MODIFIED:20260330T175716Z
UID:10005917-1776506400-1776511800@arabishway.com
SUMMARY:Anti-Palestinian Racism Workshop
DESCRIPTION:UPCOMING WEBINAR\nDate: April 18\, 2026 Time: 10am – 11:30am PST/1pm – 2:30pm EST \nREGISTER HERE\nAttendee will learn to: \n\nKnow who Palestinians are;\nDescribe anti-Palestinian racism;\nIdentify who can be targets of anti-Palestinian racism;\nUnderstand the impact of anti-Palestinian racism on health and wellbeing (incl. latest released findings);\nLearn ways to address anti-Palestinian racism.\n\nOur trainers volunteer their time so these webinars are always pro-bono. If you believe in this work\, consider supporting us here so we can keep bringing expert voices to more communities. \n\n\n\n\n\nVIEW OUR RECOMMENDATIONS FOR COUNTERING ANTI-PALESTINIAN RACISM IN K-12 SCHOOLS HERE.\nEvery student and educator deserves to learn and work without fear of discrimination or racism. Yet\, anti-Palestinian racism – an underrecognized\, pervasive\, and highly prevalent form of racism – is harming the health and wellbeing of our students\, teachers and administrators. At the Institute for the Understanding of Anti-Palestinian Racism (IUAPR)\, we are dedicated to raising awareness of this injustice and helping K-12 schools create environments where all forms of racism are addressed. \nLEARN HOW TO COUNTER ANTI-PALESTINIAN RACIST MYTHS AND VIEW OUR MYTH-BUSTING YOUTH GUIDE HERE.\nIn talks about Palestine and Israel\, you may hear racist myths and stereotypes about Palestinians. These myths are used to deny their human rights and to excuse injustice against them. The IUAPR Teen Committee created this youth guide with the aim of showing why these myths are false and giving facts to help counter them.
URL:https://arabishway.com/event/anti-palestinian-racism-workshop/
LOCATION:Virtual
CATEGORIES:Lecture,Social Justice
ATTACH;FMTTYPE=image/png:https://arabishway.com/wp-content/uploads/2026/03/Screenshot-2026-03-30-at-10.55.41-AM.png
END:VEVENT
BEGIN:VEVENT
DTSTART;TZID=America/Los_Angeles:20260418T103000
DTEND;TZID=America/Los_Angeles:20260418T113000
DTSTAMP:20260420T022248
CREATED:20250630T174107Z
LAST-MODIFIED:20251228T181740Z
UID:10004036-1776508200-1776511800@arabishway.com
SUMMARY:Arabic Storytime @ Lake City Branch / وقت القصص بالعربية في فرع ليك سيتي
DESCRIPTION:At storytime\, children from birth through elementary school and their families can enjoy stories\, songs\, and fun learning activities. \nEvent in English and Arabic. \n——————————————————————————————— \nفي وقت القصص، يمكن للأطفال الذين تتراوح أعمارهم من حديثي الولادة وحتى سن الخامسة وعائلاتهم الاستمتاع بالقصص والأغاني وأنشطة التعلُّم المرحة. \nنرحب بالعائلات من جميع الأعمار. \nيُعقد الحدث باللغة الإنجليزية والعربية. \nRegistration is not required.
URL:https://arabishway.com/event/arabic-storytime-lake-city-branch-2026/2026-04-18/
LOCATION:Lake City – Seattle Public Library\, 12501 28th Ave. N.E.\, Seattle\, Washington\, 98125\, United States
CATEGORIES:Language,Story Time
ATTACH;FMTTYPE=image/jpeg:https://arabishway.com/wp-content/uploads/2023/08/Arabic-Storytime-SPL.jpeg
END:VEVENT
BEGIN:VEVENT
DTSTART;TZID=America/Los_Angeles:20260418T130000
DTEND;TZID=America/Los_Angeles:20260418T160000
DTSTAMP:20260420T022248
CREATED:20260330T182457Z
LAST-MODIFIED:20260330T182749Z
UID:10005918-1776517200-1776528000@arabishway.com
SUMMARY:Screening of Seeds for Liberation + Q&A
DESCRIPTION:Join us in Seattle for a screening of the new documentary film\, “Seeds for Liberation\,” by director Matthew Solomon (“Reimagining Safety”) \nDon’t miss the “Seeds for Liberation” Seattle Premiere on February 15th! \nThe new documentary from Matthew Solomon & Donna Hadjikhani and Alana Hadid\, highlights the Free Palestine movement and its connections to Black\, Chicano\, and collective liberation. Featuring some of the biggest names in the movement\, from Palestine to Stop Cop City\, “Seeds for Liberation” is both powerful and inspiring\, spanning decades of solidarity and culminating in reflections on what liberation and a free Palestine truly mean.
URL:https://arabishway.com/event/seeds-for-liberation-by-director-matthew-solomon-bainbridge/
LOCATION:Historic Lynwood Theater\, 4569 Lynwood Center Rd NE\, Bainbridge Island\, WA\, 98110
CATEGORIES:Movie
ATTACH;FMTTYPE=image/png:https://arabishway.com/wp-content/uploads/2026/01/Screenshot-2026-01-23-at-3.19.10-PM.png
END:VEVENT
BEGIN:VEVENT
DTSTART;TZID=America/Los_Angeles:20260418T193000
DTEND;TZID=America/Los_Angeles:20260418T210000
DTSTAMP:20260420T022248
CREATED:20260131T052435Z
LAST-MODIFIED:20260131T052435Z
UID:10004865-1776540600-1776546000@arabishway.com
SUMMARY:Comedian: Sam Salem
DESCRIPTION:Once a midwesterner\, Sam Salem is an LA-based comedian known best for fitting in with the youth (read: making up Gen Z slang for his students). When Sam isn’t headlining at clubs and theaters throughout the U.S.\, he’s creating online videos featuring his uniquely laidback comedic voice\, reaching more than 100 million views across platforms. As a result\, his comedy has been featured on EllenTV\, iHeartRadio\, and in national commentary on SportsCenter. Perhaps his most impressive feat\, Sam faces his toughest audience when he’s not on stage: high school classrooms.
URL:https://arabishway.com/event/comedian-sam-salem/2026-04-18/1/
LOCATION:Tacoma Comedy Club\, 933 Market St\, Tacoma\, Washington\, 98402\, United States
CATEGORIES:Comedy
ATTACH;FMTTYPE=image/png:https://arabishway.com/wp-content/uploads/2026/01/Screenshot-2026-01-30-at-9.19.11-PM.png
END:VEVENT
BEGIN:VEVENT
DTSTART;TZID=America/Los_Angeles:20260418T214500
DTEND;TZID=America/Los_Angeles:20260418T230000
DTSTAMP:20260420T022248
CREATED:20260131T052435Z
LAST-MODIFIED:20260131T052435Z
UID:10004866-1776548700-1776553200@arabishway.com
SUMMARY:Comedian: Sam Salem
DESCRIPTION:Once a midwesterner\, Sam Salem is an LA-based comedian known best for fitting in with the youth (read: making up Gen Z slang for his students). When Sam isn’t headlining at clubs and theaters throughout the U.S.\, he’s creating online videos featuring his uniquely laidback comedic voice\, reaching more than 100 million views across platforms. As a result\, his comedy has been featured on EllenTV\, iHeartRadio\, and in national commentary on SportsCenter. Perhaps his most impressive feat\, Sam faces his toughest audience when he’s not on stage: high school classrooms.
URL:https://arabishway.com/event/comedian-sam-salem/2026-04-18/2/
LOCATION:Tacoma Comedy Club\, 933 Market St\, Tacoma\, Washington\, 98402\, United States
CATEGORIES:Comedy
ATTACH;FMTTYPE=image/png:https://arabishway.com/wp-content/uploads/2026/01/Screenshot-2026-01-30-at-9.19.11-PM.png
END:VEVENT
END:VCALENDAR